BEGIN:VCALENDAR
VERSION:2.0
PRODID:-//AfD Fraktion im Thüringer Landtag - ECPv6.15.17.1//NONSGML v1.0//EN
CALSCALE:GREGORIAN
METHOD:PUBLISH
X-WR-CALNAME:AfD Fraktion im Thüringer Landtag
X-ORIGINAL-URL:https://afd-thl.de
X-WR-CALDESC:Veranstaltungen für AfD Fraktion im Thüringer Landtag
REFRESH-INTERVAL;VALUE=DURATION:PT1H
X-Robots-Tag:noindex
X-PUBLISHED-TTL:PT1H
BEGIN:VTIMEZONE
TZID:Europe/Berlin
BEGIN:DAYLIGHT
TZOFFSETFROM:+0100
TZOFFSETTO:+0200
TZNAME:CEST
DTSTART:20250330T010000
END:DAYLIGHT
BEGIN:STANDARD
TZOFFSETFROM:+0200
TZOFFSETTO:+0100
TZNAME:CET
DTSTART:20251026T010000
END:STANDARD
BEGIN:DAYLIGHT
TZOFFSETFROM:+0100
TZOFFSETTO:+0200
TZNAME:CEST
DTSTART:20260329T010000
END:DAYLIGHT
BEGIN:STANDARD
TZOFFSETFROM:+0200
TZOFFSETTO:+0100
TZNAME:CET
DTSTART:20261025T010000
END:STANDARD
BEGIN:DAYLIGHT
TZOFFSETFROM:+0100
TZOFFSETTO:+0200
TZNAME:CEST
DTSTART:20270328T010000
END:DAYLIGHT
BEGIN:STANDARD
TZOFFSETFROM:+0200
TZOFFSETTO:+0100
TZNAME:CET
DTSTART:20271031T010000
END:STANDARD
END:VTIMEZONE
BEGIN:VEVENT
DTSTART;TZID=Europe/Berlin:20260421T090000
DTEND;TZID=Europe/Berlin:20260421T130000
DTSTAMP:20260421T111808
CREATED:20260216T113008Z
LAST-MODIFIED:20260216T113008Z
UID:41478-1776762000-1776776400@afd-thl.de
SUMMARY:Bürgermobil mit Wiebke Muhsal in Droschka
DESCRIPTION:
URL:https://afd-thl.de/termin/buergermobil-mit-wiebke-muhsal-in-droschka/
CATEGORIES:Bürgermobil
END:VEVENT
END:VCALENDAR