BEGIN:VCALENDAR
VERSION:2.0
PRODID:-//AfD Fraktion im Thüringer Landtag - ECPv6.15.17.1//NONSGML v1.0//EN
CALSCALE:GREGORIAN
METHOD:PUBLISH
X-WR-CALNAME:AfD Fraktion im Thüringer Landtag
X-ORIGINAL-URL:https://afd-thl.de
X-WR-CALDESC:Veranstaltungen für AfD Fraktion im Thüringer Landtag
REFRESH-INTERVAL;VALUE=DURATION:PT1H
X-Robots-Tag:noindex
X-PUBLISHED-TTL:PT1H
BEGIN:VTIMEZONE
TZID:UTC
BEGIN:STANDARD
TZOFFSETFROM:+0000
TZOFFSETTO:+0000
TZNAME:UTC
DTSTART:20190101T000000
END:STANDARD
END:VTIMEZONE
BEGIN:VEVENT
DTSTART;TZID=UTC:20200923T090000
DTEND;TZID=UTC:20200923T130000
DTSTAMP:20260424T174710
CREATED:20200922T140601Z
LAST-MODIFIED:20200929T072855Z
UID:17974-1600851600-1600866000@afd-thl.de
SUMMARY:Bürgermobil in Eisenach
DESCRIPTION:Wo?\nAm Markt in Eisenach
URL:https://afd-thl.de/termin/buergermobil-am-markt-in-eisenach/
CATEGORIES:Bürgermobil
END:VEVENT
BEGIN:VEVENT
DTSTART;TZID=UTC:20200923T093000
DTEND;TZID=UTC:20200923T140000
DTSTAMP:20260424T174710
CREATED:20200922T142442Z
LAST-MODIFIED:20200929T073829Z
UID:17980-1600853400-1600869600@afd-thl.de
SUMMARY:Bürgermobil in Hildburghausen
DESCRIPTION:Wo?\nMarktplatz in Hildburghausen
URL:https://afd-thl.de/termin/buergermobil-in-hildburghausen/
CATEGORIES:Bürgermobil
END:VEVENT
BEGIN:VEVENT
DTSTART;TZID=UTC:20200924T093000
DTEND;TZID=UTC:20200924T140000
DTSTAMP:20260424T174710
CREATED:20200922T142718Z
LAST-MODIFIED:20200929T073719Z
UID:17986-1600939800-1600956000@afd-thl.de
SUMMARY:Bürgermobil in Hildburghausen
DESCRIPTION:Wo?\nMarktplatz in Hildburghausen
URL:https://afd-thl.de/termin/buergermobil-in-hildburghausen-2/
CATEGORIES:Bürgermobil
END:VEVENT
BEGIN:VEVENT
DTSTART;TZID=UTC:20200925T090000
DTEND;TZID=UTC:20200925T100000
DTSTAMP:20260424T174710
CREATED:20200922T142758Z
LAST-MODIFIED:20200929T073451Z
UID:17985-1601024400-1601028000@afd-thl.de
SUMMARY:Bürgermobil in Ilmenau
DESCRIPTION:
URL:https://afd-thl.de/termin/buergermobil-in-ilmenau/
CATEGORIES:Bürgermobil
END:VEVENT
BEGIN:VEVENT
DTSTART;TZID=UTC:20200929T183000
DTEND;TZID=UTC:20200929T183000
DTSTAMP:20260424T174710
CREATED:20200910T064300Z
LAST-MODIFIED:20200929T070337Z
UID:16849-1601404200-1601404200@afd-thl.de
SUMMARY:Bürgerdialog in Kleindembach
DESCRIPTION:Thema\nLändlicher Raum /Abwasserentsorgung
URL:https://afd-thl.de/termin/buergerdialog-kleindembach-kaufmann-hoffmann-gasthaus-zum-goldenen-stein-thema-laendlicher-raum-abwasserentsorgung/
CATEGORIES:Bürgerdialog
END:VEVENT
END:VCALENDAR