BEGIN:VCALENDAR
VERSION:2.0
PRODID:-//AfD Fraktion im Thüringer Landtag - ECPv6.15.17.1//NONSGML v1.0//EN
CALSCALE:GREGORIAN
METHOD:PUBLISH
X-ORIGINAL-URL:https://afd-thl.de
X-WR-CALDESC:Veranstaltungen für AfD Fraktion im Thüringer Landtag
REFRESH-INTERVAL;VALUE=DURATION:PT1H
X-Robots-Tag:noindex
X-PUBLISHED-TTL:PT1H
BEGIN:VTIMEZONE
TZID:UTC
BEGIN:STANDARD
TZOFFSETFROM:+0000
TZOFFSETTO:+0000
TZNAME:UTC
DTSTART:20190101T000000
END:STANDARD
END:VTIMEZONE
BEGIN:VEVENT
DTSTART;TZID=UTC:20201102T190000
DTEND;TZID=UTC:20201102T200000
DTSTAMP:20260424T145821
CREATED:20201016T045416Z
LAST-MODIFIED:20201104T095345Z
UID:18586-1604343600-1604347200@afd-thl.de
SUMMARY:Online-Dialog
DESCRIPTION:Die ideologisch motivierte Durchsetzung der Elektromobilität gefährdet unsere Wirtschaft und Arbeitsplätze und schadet der Natur. Auch Thüringen ist vom Stellenabbau und Betriebsschließungen betroffen. Unser Abgeordneter Stefan Möller schildert die Situation\, stellt Initiativen der AfD vor und steht für Zuschauerfragen zur Verfügung. \nZu Wort kommt auch Dr. Dirk Spaniel\, ehemaliger Versuchs- und Entwicklungsingenieur für Fahrdynamik bei DaimlerChrysler und heute für die AfD Mitglied im Bundestag. Schalten Sie ein! Am Montag\, dem 2. November um 19 Uhr auf Facebook.  \nSie können den Online-Dialog auch nachträglich auf unserem Youtube-Kanal anschauen: Online-Dialog »Automobilindustrie« \n 
URL:https://afd-thl.de/termin/online-buergerdialog/
CATEGORIES:Online-Dialog
END:VEVENT
BEGIN:VEVENT
DTSTART;TZID=UTC:20201111T190000
DTEND;TZID=UTC:20201111T200000
DTSTAMP:20260424T145821
CREATED:20201106T101342Z
LAST-MODIFIED:20201106T101342Z
UID:18867-1605121200-1605124800@afd-thl.de
SUMMARY:Online-Dialog zur Verfassungsklage
DESCRIPTION:Angesichts der immer wieder selbstherrlichen\, rechtswidrigen Regierungsarbeit der Thüringer Blockparteien sind wir leider oft gezwungen\, den Rechtsweg zu beschreiten und Maßnahmen der Landesregierung oder Beschlüsse des Landtags von Gerichten überprüfen zu lassen. \nAm 11. November wird beim Thüringer Verfassungsgerichtshof in Weimar das Verfahren über die Rechtmäßigkeit der Corona-Maßnahmen im Zusammenhang mit dem vor einigen Monaten verhängten\, ersten »Lockdown« eröffnet. \nBjörn Höcke erklärt\, was es mit dem Normenkontrollverfahren auf sich hat\, berichtet von dem ersten Prozesstag und führt aus\, welche Auswirkungen ein möglicher Sieg vor dem Verfassungsgericht für die Geschädigten der Corona-Maßnahmen hat. \nDer Online-Dialog bietet eine Gelegenheit\, dem AfD-Fraktionsvorsitzenden während der Sendung Fragen zu stellen. Schalten Sie ein! Beteiligen Sie sich! \nAm Mittwoch\, dem 11. November um 19 Uhr auf Facebook. 
URL:https://afd-thl.de/termin/online-dialog-zur-verfassungsklage/
LOCATION:Facebook-Livestream
CATEGORIES:Online-Dialog
END:VEVENT
BEGIN:VEVENT
DTSTART;TZID=UTC:20201114T183000
DTEND;TZID=UTC:20201114T203000
DTSTAMP:20260424T145821
CREATED:20201026T072313Z
LAST-MODIFIED:20201028T101514Z
UID:18711-1605378600-1605385800@afd-thl.de
SUMMARY:Bürgerdialog Goldisthal
DESCRIPTION:Abgeordnete: Robert Sesselmann / René Aust \nOrt: Kulturhaus Goldisthal Hauptstraße 16A\, 98746 Goldisthal
URL:https://afd-thl.de/termin/buergerdialog-goldisthal/
CATEGORIES:Bürgerdialog
END:VEVENT
BEGIN:VEVENT
DTSTART;TZID=UTC:20201119T183000
DTEND;TZID=UTC:20201119T203000
DTSTAMP:20260424T145821
CREATED:20201008T083802Z
LAST-MODIFIED:20201015T085551Z
UID:18526-1605810600-1605817800@afd-thl.de
SUMMARY:Bürgerdialog in Bad Köstritz
DESCRIPTION:Abgeordnete:  \nJörg Henke / René Aust \nOrt:  \nHotel Goldner Löwe Heinrich-Schütze-Str. 5/5a
URL:https://afd-thl.de/termin/buergerdialog-in-bad-koestritz/
CATEGORIES:Bürgerdialog
END:VEVENT
BEGIN:VEVENT
DTSTART;TZID=UTC:20201124T183000
DTEND;TZID=UTC:20201124T203000
DTSTAMP:20260424T145821
CREATED:20201019T081544Z
LAST-MODIFIED:20201019T081733Z
UID:18597-1606242600-1606249800@afd-thl.de
SUMMARY:Bürgerdialog in Bad Berka
DESCRIPTION:Abgeordnete: \nStefan Möller / Ringo Mühlmann \nOrt: \nBad Berka\, Zeughaus
URL:https://afd-thl.de/termin/buergerdialog-in-bad-berka/
CATEGORIES:Bürgerdialog
END:VEVENT
BEGIN:VEVENT
DTSTART;TZID=UTC:20201126T183000
DTEND;TZID=UTC:20201126T203000
DTSTAMP:20260424T145821
CREATED:20201019T081700Z
LAST-MODIFIED:20201020T093116Z
UID:18596-1606415400-1606422600@afd-thl.de
SUMMARY:Bürgerdialog in Bad Lobenstein
DESCRIPTION:Abgeordnete: \nStefan Möller / Uwe Thrum \nOrt: \nBad Lobenstein\, Zum Alten Forsthaus / Gallenberg 5
URL:https://afd-thl.de/termin/buergerdialog-in-bad-lobenstein/
CATEGORIES:Bürgerdialog
END:VEVENT
END:VCALENDAR