BEGIN:VCALENDAR
VERSION:2.0
PRODID:-//AfD Fraktion im Thüringer Landtag - ECPv6.15.17.1//NONSGML v1.0//EN
CALSCALE:GREGORIAN
METHOD:PUBLISH
X-ORIGINAL-URL:https://afd-thl.de
X-WR-CALDESC:Veranstaltungen für AfD Fraktion im Thüringer Landtag
REFRESH-INTERVAL;VALUE=DURATION:PT1H
X-Robots-Tag:noindex
X-PUBLISHED-TTL:PT1H
BEGIN:VTIMEZONE
TZID:UTC
BEGIN:STANDARD
TZOFFSETFROM:+0000
TZOFFSETTO:+0000
TZNAME:UTC
DTSTART:20200101T000000
END:STANDARD
END:VTIMEZONE
BEGIN:VEVENT
DTSTART;TZID=UTC:20210105T090000
DTEND;TZID=UTC:20210105T130000
DTSTAMP:20260424T122248
CREATED:20210104T124133Z
LAST-MODIFIED:20210104T124133Z
UID:19403-1609837200-1609851600@afd-thl.de
SUMMARY:Bürgermobil in Teichel mit Ringo Mühlmann
DESCRIPTION:
URL:https://afd-thl.de/termin/buergermobil-in-teichel-mit-ringo-muehlmann/
CATEGORIES:Bürgermobil
END:VEVENT
BEGIN:VEVENT
DTSTART;TZID=UTC:20210107T090000
DTEND;TZID=UTC:20210107T130000
DTSTAMP:20260424T122248
CREATED:20210104T124349Z
LAST-MODIFIED:20210104T124349Z
UID:19402-1610010000-1610024400@afd-thl.de
SUMMARY:Bürgermobil in Bad Frankenhausen mit Jens Cotta
DESCRIPTION:
URL:https://afd-thl.de/termin/buergermobil-in-bad-frankenhausen-mit-jens-cotta/
CATEGORIES:Bürgermobil
END:VEVENT
BEGIN:VEVENT
DTSTART;TZID=UTC:20210109T100000
DTEND;TZID=UTC:20210109T140000
DTSTAMP:20260424T122248
CREATED:20210104T124522Z
LAST-MODIFIED:20210104T124522Z
UID:19401-1610186400-1610200800@afd-thl.de
SUMMARY:Bürgermobil in Gera (Sorge)
DESCRIPTION:
URL:https://afd-thl.de/termin/buergermobil-in-gera-sorge/
CATEGORIES:Bürgermobil
END:VEVENT
BEGIN:VEVENT
DTSTART;TZID=UTC:20210112T090000
DTEND;TZID=UTC:20210112T130000
DTSTAMP:20260424T122248
CREATED:20210104T124557Z
LAST-MODIFIED:20210104T124557Z
UID:19400-1610442000-1610456400@afd-thl.de
SUMMARY:Bürgermobil in Kranichfeld mit Ringo Mühlmann
DESCRIPTION:
URL:https://afd-thl.de/termin/buergermobil-in-kranichfeld-mit-ringo-muehlmann/
CATEGORIES:Bürgermobil
END:VEVENT
BEGIN:VEVENT
DTSTART;TZID=UTC:20210113T090000
DTEND;TZID=UTC:20210113T130000
DTSTAMP:20260424T122248
CREATED:20210104T124633Z
LAST-MODIFIED:20210104T124633Z
UID:19399-1610528400-1610542800@afd-thl.de
SUMMARY:Bürgermobil in Bad Langensalza mit Lars Schütze
DESCRIPTION:
URL:https://afd-thl.de/termin/buergermobil-in-bad-langensalza-mit-lars-schuetze/
CATEGORIES:Bürgermobil
END:VEVENT
BEGIN:VEVENT
DTSTART;TZID=UTC:20210114T090000
DTEND;TZID=UTC:20210114T130000
DTSTAMP:20260424T122248
CREATED:20210104T124706Z
LAST-MODIFIED:20210104T124706Z
UID:19398-1610614800-1610629200@afd-thl.de
SUMMARY:Bürgermobil in Sömmerda mit Torsten Czuppon
DESCRIPTION:
URL:https://afd-thl.de/termin/buergermobil-in-soemmerda-mit-torsten-czuppon/
CATEGORIES:Bürgermobil
END:VEVENT
BEGIN:VEVENT
DTSTART;TZID=UTC:20210115T090000
DTEND;TZID=UTC:20210115T130000
DTSTAMP:20260424T122248
CREATED:20210114T101924Z
LAST-MODIFIED:20210114T101924Z
UID:19536-1610701200-1610715600@afd-thl.de
SUMMARY:Bürgermobil in Gotha mit Birger Gröning
DESCRIPTION:
URL:https://afd-thl.de/termin/buergermobil-in-gotha-mit-birger-groening/
CATEGORIES:Bürgermobil
END:VEVENT
BEGIN:VEVENT
DTSTART;TZID=UTC:20210119T090000
DTEND;TZID=UTC:20210119T130000
DTSTAMP:20260424T122248
CREATED:20210114T102102Z
LAST-MODIFIED:20210114T102102Z
UID:19539-1611046800-1611061200@afd-thl.de
SUMMARY:Bürgermobil in Erfurt mit Corinna Herold
DESCRIPTION:
URL:https://afd-thl.de/termin/buergermobil-in-erfurt-mit-corinna-herold/
CATEGORIES:Bürgermobil
END:VEVENT
BEGIN:VEVENT
DTSTART;TZID=UTC:20210120T140000
DTEND;TZID=UTC:20210120T140000
DTSTAMP:20260424T122248
CREATED:20210114T093650Z
LAST-MODIFIED:20210114T093650Z
UID:19524-1611151200-1611151200@afd-thl.de
SUMMARY:Sonderplenum zum »Lockdown«
DESCRIPTION:Der „Lockdown“ muss ein Ende haben! \nAuf Betreiben unserer AfD-Fraktion werden die Abgeordneten des Thüringer Landtags am kommenden Mittwoch\, 20. Januar 2021\, um 14 Uhr im Parksaal der Arena Erfurt zu einem Sonderplenum zusammenkommen\, um über die aktuellen Änderungen der „Thüringer Verordnung zur Fortschreibung und Anpassung außerordentlicher Sondermaßnahmen zur Eindämmung einer sprunghaften Ausbreitung des Coronavirus SARS-CoV-2“ zu beraten. \nDie AfD wird dabei mit Nachdruck ihre Forderung nach einem sofortigen Ende des von Bund und Land verhängten „Lockdowns“ erneuern. Das monatelange Herunterfahren des gesellschaftlichen und wirtschaftlichen Lebens hat bereits eine Vielzahl von kleinen und mittelständischen Unternehmen an den Rand des Ruins getrieben. Viele mussten sogar bereits die Segel streichen und Insolvenz anmelden – und täglich werden es mehr. Wenn nicht alsbald ein Ende des „Lockdowns“ erfolgt\, wird die Thüringer Wirtschaft über die bisherigen Beeinträchtigungen hinaus weitere irreparable Schäden erleiden\, die nicht wieder korrigierbar sind. Auch die Einschränkungen im Schul- und Bildungssystem ziehen langfristige Folgen nach sich\, die niemand mehr verantworten kann. \nDie Plenardebatte wird wie gewohnt vom Thüringer Landtag übertragen. Verfolgen Sie am 20. Januar hier den Livestream.
URL:https://afd-thl.de/termin/sonderplenum-zum-lockdown/
END:VEVENT
BEGIN:VEVENT
DTSTART;TZID=UTC:20210120T180000
DTEND;TZID=UTC:20210120T190000
DTSTAMP:20260424T122248
CREATED:20210115T070830Z
LAST-MODIFIED:20210115T070830Z
UID:19573-1611165600-1611169200@afd-thl.de
SUMMARY:Online-Dialog: Vernunft statt Windkraft
DESCRIPTION:Bei der Umsetzung des Erneuerbare-Energieen-Gesetzes (EEG) stoßen die grünen Wunschträume schnell an die Grenzen der Realität: Die Energiegrundversorgung wird nach der Abschaltung der Kern- und Kohlekraftwerke gefährdet\, die Windkraftanlagen erwiesen sich als deutlich weniger umweltfreundlich\, als zunächst angenommen und sind inzwischen in Wäldern und in der Nähe von Wohngebieten zu einer echten Belastung für Mensch und Natur geworden. Trotzdem hält die rot-rot-grüne Landesregierung an einem massiven Ausbau der Windkraft in Thüringen fest. In den betroffenen Gebieten regt sich Widerstand – und die AfD Fraktion ist ihre Stimme im Thüringer Landtag. \nAm 20. Januar findet zu diesem Thema um 18 Uhr der Online-Dialog statt.\nMit dabei: \nProf. Dr. Michael Kaufmann\, der energiepolitische Sprecher und\nNadine Hoffmann\, die umweltschutzpolitische Sprecherin der AfD-Fraktion. \nBeide Abgeordnete stammen aus Wahlkreisen\, die direkt von der Expansion der Windkraftanlagen betroffen sind. \nSchalten Sie ein und seien Sie live dabei: Der Online-Dialog bietet eine Gelegenheit\, die AfD-Abgeordneten persönlich zu fragen. \nAm Mittwoch\, dem 20. Januar um 18 Uhr auf Facebook.
URL:https://afd-thl.de/termin/online-dialog-vernunft-statt-windkraft/
LOCATION:Facebook-Livestream
END:VEVENT
BEGIN:VEVENT
DTSTART;TZID=UTC:20210126T100000
DTEND;TZID=UTC:20210126T120000
DTSTAMP:20260424T122248
CREATED:20210114T102321Z
LAST-MODIFIED:20210114T102321Z
UID:19545-1611655200-1611662400@afd-thl.de
SUMMARY:Bürgermobil in Suhl mit René Aust
DESCRIPTION:
URL:https://afd-thl.de/termin/buergermobil-in-suhl-mit-rene-aust/
CATEGORIES:Bürgermobil
END:VEVENT
BEGIN:VEVENT
DTSTART;TZID=UTC:20210126T130000
DTEND;TZID=UTC:20210126T150000
DTSTAMP:20260424T122248
CREATED:20210114T102420Z
LAST-MODIFIED:20210114T102420Z
UID:19548-1611666000-1611673200@afd-thl.de
SUMMARY:Bürgermobil in Zella-Mehlis mit René Aust
DESCRIPTION:
URL:https://afd-thl.de/termin/buergermobil-in-zella-mehlis-mit-rene-aust-2/
CATEGORIES:Bürgermobil
END:VEVENT
BEGIN:VEVENT
DTSTART;TZID=UTC:20210128T090000
DTEND;TZID=UTC:20210128T120000
DTSTAMP:20260424T122248
CREATED:20210114T102541Z
LAST-MODIFIED:20210114T102541Z
UID:19550-1611824400-1611835200@afd-thl.de
SUMMARY:Bürgermobil in Hildburghausen mit Nadine Hoffmann
DESCRIPTION:
URL:https://afd-thl.de/termin/buergermobil-in-hildburghausen-mit-nadine-hoffmann-2/
CATEGORIES:Bürgermobil
END:VEVENT
BEGIN:VEVENT
DTSTART;TZID=UTC:20210129T090000
DTEND;TZID=UTC:20210129T130000
DTSTAMP:20260424T122248
CREATED:20210114T102708Z
LAST-MODIFIED:20210114T102708Z
UID:19553-1611910800-1611925200@afd-thl.de
SUMMARY:Bürgermobil in Römhild mit Nadine Hoffmann
DESCRIPTION:
URL:https://afd-thl.de/termin/buergermobil-in-roemhild-mit-nadine-hoffmann/
CATEGORIES:Bürgermobil
END:VEVENT
END:VCALENDAR