BEGIN:VCALENDAR
VERSION:2.0
PRODID:-//AfD Fraktion im Thüringer Landtag - ECPv6.15.17.1//NONSGML v1.0//EN
CALSCALE:GREGORIAN
METHOD:PUBLISH
X-ORIGINAL-URL:https://afd-thl.de
X-WR-CALDESC:Veranstaltungen für AfD Fraktion im Thüringer Landtag
REFRESH-INTERVAL;VALUE=DURATION:PT1H
X-Robots-Tag:noindex
X-PUBLISHED-TTL:PT1H
BEGIN:VTIMEZONE
TZID:UTC
BEGIN:STANDARD
TZOFFSETFROM:+0000
TZOFFSETTO:+0000
TZNAME:UTC
DTSTART:20200101T000000
END:STANDARD
END:VTIMEZONE
BEGIN:VEVENT
DTSTART;TZID=UTC:20210301T090000
DTEND;TZID=UTC:20210301T130000
DTSTAMP:20260424T094912
CREATED:20210226T145024Z
LAST-MODIFIED:20210226T145024Z
UID:20308-1614589200-1614603600@afd-thl.de
SUMMARY:BM mit Stefan Möller in Erfurt
DESCRIPTION:
URL:https://afd-thl.de/termin/bm-mit-stefan-moeller-in-erfurt/
CATEGORIES:Bürgermobil
END:VEVENT
BEGIN:VEVENT
DTSTART;TZID=UTC:20210302T183000
DTEND;TZID=UTC:20210302T210000
DTSTAMP:20260424T094912
CREATED:20210224T062848Z
LAST-MODIFIED:20210224T062848Z
UID:20251-1614709800-1614718800@afd-thl.de
SUMMARY:Bürgerdialog mit Stefan Möller und Jörg Henke in Bad Köstritz
DESCRIPTION:
URL:https://afd-thl.de/termin/buergerdialog-mit-stefan-moeller-und-joerg-henke-in-bad-koestritz/
CATEGORIES:Bürgerdialog
END:VEVENT
BEGIN:VEVENT
DTSTART;TZID=UTC:20210303T090000
DTEND;TZID=UTC:20210303T130000
DTSTAMP:20260424T094912
CREATED:20210302T122402Z
LAST-MODIFIED:20210302T122402Z
UID:20342-1614762000-1614776400@afd-thl.de
SUMMARY:Bürgermobil mit Birger Gröning in Gotha
DESCRIPTION:
URL:https://afd-thl.de/termin/buergermobil-mit-birger-groening-in-gotha-3/
CATEGORIES:Bürgermobil
END:VEVENT
BEGIN:VEVENT
DTSTART;TZID=UTC:20210305T090000
DTEND;TZID=UTC:20210305T100000
DTSTAMP:20260424T094912
CREATED:20210304T063305Z
LAST-MODIFIED:20210304T072643Z
UID:20396-1614934800-1614938400@afd-thl.de
SUMMARY:Bürgermobil mit Prof. Kaufmann in Saalfeld
DESCRIPTION:
URL:https://afd-thl.de/termin/buergermobil-mit-prof-kaufmann-in-saalfeld/
CATEGORIES:Bürgermobil
END:VEVENT
BEGIN:VEVENT
DTSTART;TZID=UTC:20210305T100000
DTEND;TZID=UTC:20210305T110000
DTSTAMP:20260424T094912
CREATED:20210304T062653Z
LAST-MODIFIED:20210304T073331Z
UID:20384-1614938400-1614942000@afd-thl.de
SUMMARY:Bürgermobil mit Prof. Kaufmann in Kaulsdorf
DESCRIPTION:
URL:https://afd-thl.de/termin/buergermobil-mit-prof-kaufmann-in-kaulsdorf/
CATEGORIES:Bürgermobil
END:VEVENT
BEGIN:VEVENT
DTSTART;TZID=UTC:20210305T113000
DTEND;TZID=UTC:20210305T123000
DTSTAMP:20260424T094912
CREATED:20210304T062928Z
LAST-MODIFIED:20210304T072557Z
UID:20387-1614943800-1614947400@afd-thl.de
SUMMARY:Bürgermobil mit Prof. Kaufmann in Leutenburg
DESCRIPTION:
URL:https://afd-thl.de/termin/buergermobil-mit-prof-kaufmann-in-leutenburg/
CATEGORIES:Bürgermobil
END:VEVENT
BEGIN:VEVENT
DTSTART;TZID=UTC:20210305T130000
DTEND;TZID=UTC:20210305T140000
DTSTAMP:20260424T094912
CREATED:20210304T063045Z
LAST-MODIFIED:20210304T072529Z
UID:20390-1614949200-1614952800@afd-thl.de
SUMMARY:Bürgermobil mit Prof. Kaufmann in Remptendorf
DESCRIPTION:
URL:https://afd-thl.de/termin/buergermobil-mit-prof-kaufmann-in-remptendorf/
CATEGORIES:Bürgermobil
END:VEVENT
BEGIN:VEVENT
DTSTART;TZID=UTC:20210305T143000
DTEND;TZID=UTC:20210305T153000
DTSTAMP:20260424T094912
CREATED:20210304T063200Z
LAST-MODIFIED:20210304T072504Z
UID:20393-1614954600-1614958200@afd-thl.de
SUMMARY:Bürgermobil mit Prof. Kaufmann in Saalburg-Ebersdorf
DESCRIPTION:
URL:https://afd-thl.de/termin/buergermobil-mit-prof-kaufmann-in-saalburg-ebersdorf/
CATEGORIES:Bürgermobil
END:VEVENT
BEGIN:VEVENT
DTSTART;TZID=UTC:20210309T110000
DTEND;TZID=UTC:20210309T160000
DTSTAMP:20260424T094912
CREATED:20210302T122536Z
LAST-MODIFIED:20210302T123257Z
UID:20345-1615287600-1615305600@afd-thl.de
SUMMARY:Bürgermobil mit René Aust in Wernshausen und Fambach
DESCRIPTION:
URL:https://afd-thl.de/termin/buergermobil-mit-rene-aust-in-wernshausen-und-fambach/
CATEGORIES:Bürgermobil
END:VEVENT
BEGIN:VEVENT
DTSTART;TZID=UTC:20210313T100000
DTEND;TZID=UTC:20210313T140000
DTSTAMP:20260424T094912
CREATED:20210312T213911Z
LAST-MODIFIED:20210312T213911Z
UID:20901-1615629600-1615644000@afd-thl.de
SUMMARY:Bürgermobil mit MdL Laudenbach und MdL Dr. Lauerwald in Gera
DESCRIPTION:
URL:https://afd-thl.de/termin/buergermobil-mit-mdl-laudenbach-und-mdl-dr-lauerwald-in-gera/
CATEGORIES:Bürgermobil
END:VEVENT
BEGIN:VEVENT
DTSTART;TZID=UTC:20210313T140000
DTEND;TZID=UTC:20210313T160000
DTSTAMP:20260424T094912
CREATED:20210312T212027Z
LAST-MODIFIED:20210312T212027Z
UID:20895-1615644000-1615651200@afd-thl.de
SUMMARY:Bürgermobil mit Stefan Möller in Erfurt
DESCRIPTION:
URL:https://afd-thl.de/termin/buergermobil-mit-stefan-moeller-in-erfurt/
CATEGORIES:Bürgermobil
END:VEVENT
BEGIN:VEVENT
DTSTART;TZID=UTC:20210315T090000
DTEND;TZID=UTC:20210315T120000
DTSTAMP:20260424T094912
CREATED:20210302T122649Z
LAST-MODIFIED:20210312T211907Z
UID:20348-1615798800-1615809600@afd-thl.de
SUMMARY:Bürgermobil mit Ringo Mühlmann in Großkochberg
DESCRIPTION:
URL:https://afd-thl.de/termin/buergermobil-mit-ringo-muehlmann-in-grosskochberg-2/
CATEGORIES:Bürgermobil
END:VEVENT
BEGIN:VEVENT
DTSTART;TZID=UTC:20210316T110000
DTEND;TZID=UTC:20210316T160000
DTSTAMP:20260424T094912
CREATED:20210312T211654Z
LAST-MODIFIED:20210312T211654Z
UID:20889-1615892400-1615910400@afd-thl.de
SUMMARY:Bürgermobil mit René Aust in Zella-Mehlis und Steinbach-Hallenberg
DESCRIPTION:
URL:https://afd-thl.de/termin/buergermobil-mit-rene-aust-in-zella-mehlis-und-steinbach-hallenberg/
CATEGORIES:Bürgermobil
END:VEVENT
BEGIN:VEVENT
DTSTART;TZID=UTC:20210317T090000
DTEND;TZID=UTC:20210317T120000
DTSTAMP:20260424T094912
CREATED:20210302T122841Z
LAST-MODIFIED:20210312T211423Z
UID:20351-1615971600-1615982400@afd-thl.de
SUMMARY:Bürgermobil mit Karlheinz Frosch in Rudolstadt
DESCRIPTION:
URL:https://afd-thl.de/termin/buergermobil-mit-karlheinz-frosch-in-rudolstadt/
CATEGORIES:Bürgermobil
END:VEVENT
BEGIN:VEVENT
DTSTART;TZID=UTC:20210318T090000
DTEND;TZID=UTC:20210318T130000
DTSTAMP:20260424T094912
CREATED:20210302T123118Z
LAST-MODIFIED:20210302T123118Z
UID:20354-1616058000-1616072400@afd-thl.de
SUMMARY:Bürgermobil mit Corinna Herold in Erfurt
DESCRIPTION:
URL:https://afd-thl.de/termin/buergermobil-mit-corinna-herold-in-erfurt-2/
CATEGORIES:Bürgermobil
END:VEVENT
BEGIN:VEVENT
DTSTART;TZID=UTC:20210318T183000
DTEND;TZID=UTC:20210318T203000
DTSTAMP:20260424T094912
CREATED:20210315T124818Z
LAST-MODIFIED:20210315T124818Z
UID:20920-1616092200-1616099400@afd-thl.de
SUMMARY:Bürgerdialog mit MdL Laudenbach und MdL Dr. Lauerwald in Gera
DESCRIPTION:
URL:https://afd-thl.de/termin/buergerdialog-mit-mdl-laudenbach-und-mdl-dr-lauerwald-in-gera/
CATEGORIES:Bürgerdialog
END:VEVENT
BEGIN:VEVENT
DTSTART;TZID=UTC:20210319T090000
DTEND;TZID=UTC:20210319T150000
DTSTAMP:20260424T094912
CREATED:20210302T123414Z
LAST-MODIFIED:20210312T211307Z
UID:20357-1616144400-1616166000@afd-thl.de
SUMMARY:Bürgermobil mit Nadine Hoffmann in Schleusingen und Veilsdorf
DESCRIPTION:
URL:https://afd-thl.de/termin/buergermobil-mit-nadine-hoffmann-in-schleusingen-und-veilsdorf/
CATEGORIES:Bürgermobil
END:VEVENT
BEGIN:VEVENT
DTSTART;TZID=UTC:20210322T130000
DTEND;TZID=UTC:20210322T160000
DTSTAMP:20260424T094912
CREATED:20210312T213743Z
LAST-MODIFIED:20210312T214048Z
UID:20898-1616418000-1616428800@afd-thl.de
SUMMARY:Bürgermobil mit Nadine Hoffmann in Themar
DESCRIPTION:
URL:https://afd-thl.de/termin/bm-mit-nadine-hoffmann-in-themar/
CATEGORIES:Bürgermobil
END:VEVENT
BEGIN:VEVENT
DTSTART;TZID=UTC:20210323T090000
DTEND;TZID=UTC:20210323T130000
DTSTAMP:20260424T094912
CREATED:20210302T123542Z
LAST-MODIFIED:20210302T123542Z
UID:20360-1616490000-1616504400@afd-thl.de
SUMMARY:Bürgermobil mit Lars Schütze in Bad Tennstedt
DESCRIPTION:
URL:https://afd-thl.de/termin/buergermobil-mit-lars-schuetze-in-bad-tennstedt/
CATEGORIES:Bürgermobil
END:VEVENT
BEGIN:VEVENT
DTSTART;TZID=UTC:20210326T090000
DTEND;TZID=UTC:20210326T130000
DTSTAMP:20260424T094912
CREATED:20210302T123843Z
LAST-MODIFIED:20210302T123843Z
UID:20366-1616749200-1616763600@afd-thl.de
SUMMARY:Bürgermobil mit Karlheinz Frosch in Königsee
DESCRIPTION:
URL:https://afd-thl.de/termin/buergermobil-mit-karlheinz-frosch-in-koenigsee/
CATEGORIES:Bürgermobil
END:VEVENT
BEGIN:VEVENT
DTSTART;TZID=UTC:20210331T090000
DTEND;TZID=UTC:20210331T120000
DTSTAMP:20260424T094912
CREATED:20210329T095741Z
LAST-MODIFIED:20210329T095741Z
UID:21050-1617181200-1617192000@afd-thl.de
SUMMARY:Bürgermobil mit Lars Schütze in Bad Langensalza
DESCRIPTION:
URL:https://afd-thl.de/termin/buergermobil-mit-lars-schuetze-in-bad-langensalza/
CATEGORIES:Bürgermobil
END:VEVENT
END:VCALENDAR