BEGIN:VCALENDAR
VERSION:2.0
PRODID:-//AfD Fraktion im Thüringer Landtag - ECPv6.15.17.1//NONSGML v1.0//EN
CALSCALE:GREGORIAN
METHOD:PUBLISH
X-WR-CALNAME:AfD Fraktion im Thüringer Landtag
X-ORIGINAL-URL:https://afd-thl.de
X-WR-CALDESC:Veranstaltungen für AfD Fraktion im Thüringer Landtag
REFRESH-INTERVAL;VALUE=DURATION:PT1H
X-Robots-Tag:noindex
X-PUBLISHED-TTL:PT1H
BEGIN:VTIMEZONE
TZID:UTC
BEGIN:STANDARD
TZOFFSETFROM:+0000
TZOFFSETTO:+0000
TZNAME:UTC
DTSTART:20200101T000000
END:STANDARD
END:VTIMEZONE
BEGIN:VEVENT
DTSTART;TZID=UTC:20210401T090000
DTEND;TZID=UTC:20210401T153000
DTSTAMP:20260424T082148
CREATED:20210329T095930Z
LAST-MODIFIED:20210330T112012Z
UID:21053-1617267600-1617291000@afd-thl.de
SUMMARY:Kaufmann Arnsgereuth\, Reichmannsdorf\, Schmiedefeld\, Gräfenthal
DESCRIPTION:
URL:https://afd-thl.de/termin/buergermobil-mit-prof-kaufmann-in-arnsgereuth-reichmannsdorf-schmiedefeld-und-graefenthal/
CATEGORIES:Bürgermobil
END:VEVENT
BEGIN:VEVENT
DTSTART;TZID=UTC:20210401T183000
DTEND;TZID=UTC:20210401T203000
DTSTAMP:20260424T082148
CREATED:20210326T152956Z
LAST-MODIFIED:20210330T112142Z
UID:21044-1617301800-1617309000@afd-thl.de
SUMMARY:Bürgerdialog MdL Aust\, MdL Sesselmann\, MdL Frosch in Sonneberg
DESCRIPTION:
URL:https://afd-thl.de/termin/buergerdialog-mit-mdl-aust-mdl-sesselmann-und-mdl-frosch-in-sonneberg/
CATEGORIES:Bürgerdialog
END:VEVENT
BEGIN:VEVENT
DTSTART;TZID=UTC:20210407T090000
DTEND;TZID=UTC:20210407T130000
DTSTAMP:20260424T082148
CREATED:20210406T112541Z
LAST-MODIFIED:20210406T112602Z
UID:21121-1617786000-1617800400@afd-thl.de
SUMMARY:Bürgermobil mit Stefan Möller in Erfurt
DESCRIPTION:
URL:https://afd-thl.de/termin/bm-mit-stefan-moeller-in-erfurt-2/
CATEGORIES:Bürgermobil
END:VEVENT
BEGIN:VEVENT
DTSTART;TZID=UTC:20210408T090000
DTEND;TZID=UTC:20210408T120000
DTSTAMP:20260424T082148
CREATED:20210406T112748Z
LAST-MODIFIED:20210406T112748Z
UID:21125-1617872400-1617883200@afd-thl.de
SUMMARY:Bürgermobil mit Lars Schütze in Herbsleben
DESCRIPTION:
URL:https://afd-thl.de/termin/buergermobil-mit-lars-schuetze-in-herbsleben/
CATEGORIES:Bürgermobil
END:VEVENT
BEGIN:VEVENT
DTSTART;TZID=UTC:20210410T153000
DTEND;TZID=UTC:20210410T170000
DTSTAMP:20260424T082148
CREATED:20210406T113201Z
LAST-MODIFIED:20210406T113201Z
UID:21134-1618068600-1618074000@afd-thl.de
SUMMARY:Bürgermobil mit Stefan Möller in Erfurt
DESCRIPTION:
URL:https://afd-thl.de/termin/buergermobil-mit-stefan-moeller-in-erfurt-2/
CATEGORIES:Bürgermobil
END:VEVENT
BEGIN:VEVENT
DTSTART;TZID=UTC:20210412T130000
DTEND;TZID=UTC:20210412T160000
DTSTAMP:20260424T082148
CREATED:20210406T113313Z
LAST-MODIFIED:20210406T113313Z
UID:21137-1618232400-1618243200@afd-thl.de
SUMMARY:Bürgermobil mit Nadine Hoffmann in Heldburg
DESCRIPTION:
URL:https://afd-thl.de/termin/buergermobil-mit-nadine-hoffmann-in-heldburg/
CATEGORIES:Bürgermobil
END:VEVENT
BEGIN:VEVENT
DTSTART;TZID=UTC:20210413T160000
DTEND;TZID=UTC:20210413T190000
DTSTAMP:20260424T082148
CREATED:20210412T134411Z
LAST-MODIFIED:20210412T134411Z
UID:21192-1618329600-1618340400@afd-thl.de
SUMMARY:Bürgermobil mit Uwe Thrum in Oberböhmsdorf und Möschlitz
DESCRIPTION:
URL:https://afd-thl.de/termin/buergermobil-mit-uwe-thrum-in-oberboehmsdorf-und-moeschlitz/
CATEGORIES:Bürgermobil
END:VEVENT
BEGIN:VEVENT
DTSTART;TZID=UTC:20210414T090000
DTEND;TZID=UTC:20210414T120000
DTSTAMP:20260424T082148
CREATED:20210409T063725Z
LAST-MODIFIED:20210409T063725Z
UID:21171-1618390800-1618401600@afd-thl.de
SUMMARY:Bürgermobil mit Thomas Rudy in Altenburg
DESCRIPTION:
URL:https://afd-thl.de/termin/buergermobil-mit-thomas-rudy-in-altenburg/
CATEGORIES:Bürgermobil
END:VEVENT
BEGIN:VEVENT
DTSTART;TZID=UTC:20210414T163000
DTEND;TZID=UTC:20210414T190000
DTSTAMP:20260424T082148
CREATED:20210412T134516Z
LAST-MODIFIED:20210412T134516Z
UID:21195-1618417800-1618426800@afd-thl.de
SUMMARY:Bürgermobil mit Uwe Thrum in Volkmannsdorf und Plothen
DESCRIPTION:
URL:https://afd-thl.de/termin/buergermobil-mit-uwe-thrum-in-volkmannsdorf-und-plothen/
CATEGORIES:Bürgermobil
END:VEVENT
BEGIN:VEVENT
DTSTART;TZID=UTC:20210415T090000
DTEND;TZID=UTC:20210415T130000
DTSTAMP:20260424T082148
CREATED:20210406T113444Z
LAST-MODIFIED:20210406T113444Z
UID:21141-1618477200-1618491600@afd-thl.de
SUMMARY:Bürgermobil mit Birger Gröning in Siebleben
DESCRIPTION:
URL:https://afd-thl.de/termin/buergermobil-mit-birger-groening-in-siebleben/
CATEGORIES:Bürgermobil
END:VEVENT
BEGIN:VEVENT
DTSTART;TZID=UTC:20210415T183000
DTEND;TZID=UTC:20210415T203000
DTSTAMP:20260424T082148
CREATED:20210409T062216Z
LAST-MODIFIED:20210409T062216Z
UID:21166-1618511400-1618518600@afd-thl.de
SUMMARY:Bürgerdialog mit MdL Cotta und MdL Czuppon in Bad Frankenhausen
DESCRIPTION:
URL:https://afd-thl.de/termin/buergerdialog-mit-mdl-cotta-und-mdl-czuppon-in-bad-frankenhausen/
CATEGORIES:Bürgerdialog
END:VEVENT
BEGIN:VEVENT
DTSTART;TZID=UTC:20210416T160000
DTEND;TZID=UTC:20210416T190000
DTSTAMP:20260424T082148
CREATED:20210406T113605Z
LAST-MODIFIED:20210406T113605Z
UID:21143-1618588800-1618599600@afd-thl.de
SUMMARY:Bürgermobil mit Uwe Thrum in Moßbach/Tegau
DESCRIPTION:
URL:https://afd-thl.de/termin/buergermobil-mit-uwe-thrum-in-mossbach-tegau/
CATEGORIES:Bürgermobil
END:VEVENT
BEGIN:VEVENT
DTSTART;TZID=UTC:20210416T163000
DTEND;TZID=UTC:20210416T190000
DTSTAMP:20260424T082148
CREATED:20210412T134633Z
LAST-MODIFIED:20210412T134633Z
UID:21198-1618590600-1618599600@afd-thl.de
SUMMARY:Bürgermobil mit Uwe Thrum in Moßbach und Tegau
DESCRIPTION:
URL:https://afd-thl.de/termin/buergermobil-mit-uwe-thrum-in-mossbach-und-tegau/
CATEGORIES:Bürgermobil
END:VEVENT
BEGIN:VEVENT
DTSTART;TZID=UTC:20210419T090000
DTEND;TZID=UTC:20210419T120000
DTSTAMP:20260424T082148
CREATED:20210418T065113Z
LAST-MODIFIED:20210418T065113Z
UID:21260-1618822800-1618833600@afd-thl.de
SUMMARY:Bürgermobil mit Stefan Möller in Eisenach
DESCRIPTION:
URL:https://afd-thl.de/termin/buergermobil-mit-stefan-moeller-in-eisenach-2/
CATEGORIES:Bürgermobil
END:VEVENT
BEGIN:VEVENT
DTSTART;TZID=UTC:20210420T090000
DTEND;TZID=UTC:20210420T120000
DTSTAMP:20260424T082148
CREATED:20210418T070635Z
LAST-MODIFIED:20210418T070635Z
UID:21263-1618909200-1618920000@afd-thl.de
SUMMARY:Bürgermobil mit Corinna Herold in Erfurt
DESCRIPTION:
URL:https://afd-thl.de/termin/buergermobil-mit-corinna-herold-in-erfurt-3/
CATEGORIES:Bürgermobil
END:VEVENT
BEGIN:VEVENT
DTSTART;TZID=UTC:20210427T183000
DTEND;TZID=UTC:20210427T203000
DTSTAMP:20260424T082148
CREATED:20210419T084128Z
LAST-MODIFIED:20210419T084128Z
UID:21280-1619548200-1619555400@afd-thl.de
SUMMARY:Bürgerdialog mit Torsten Czuppon und Stephan Brandner in Sömmerda
DESCRIPTION:
URL:https://afd-thl.de/termin/buergerdialog-mit-torsten-czuppon-und-stephan-brandner-in-soemmerda/
CATEGORIES:Bürgerdialog
END:VEVENT
BEGIN:VEVENT
DTSTART;TZID=UTC:20210429T090000
DTEND;TZID=UTC:20210429T160000
DTSTAMP:20260424T082148
CREATED:20210427T081943Z
LAST-MODIFIED:20210427T100130Z
UID:21368-1619686800-1619712000@afd-thl.de
SUMMARY:Bürgermobil mit Nadine Hoffmann in HBN und Streufdorf
DESCRIPTION:
URL:https://afd-thl.de/termin/buergerdialog-mit-nadine-hoffmann-in-hbn-und-streufdorf/
CATEGORIES:Bürgermobil
END:VEVENT
END:VCALENDAR