BEGIN:VCALENDAR
VERSION:2.0
PRODID:-//AfD Fraktion im Thüringer Landtag - ECPv6.15.17.1//NONSGML v1.0//EN
CALSCALE:GREGORIAN
METHOD:PUBLISH
X-ORIGINAL-URL:https://afd-thl.de
X-WR-CALDESC:Veranstaltungen für AfD Fraktion im Thüringer Landtag
REFRESH-INTERVAL;VALUE=DURATION:PT1H
X-Robots-Tag:noindex
X-PUBLISHED-TTL:PT1H
BEGIN:VTIMEZONE
TZID:UTC
BEGIN:STANDARD
TZOFFSETFROM:+0000
TZOFFSETTO:+0000
TZNAME:UTC
DTSTART:20200101T000000
END:STANDARD
END:VTIMEZONE
BEGIN:VEVENT
DTSTART;TZID=UTC:20210503T130000
DTEND;TZID=UTC:20210503T150000
DTSTAMP:20260424T071238
CREATED:20210503T041531Z
LAST-MODIFIED:20210503T041531Z
UID:21441-1620046800-1620054000@afd-thl.de
SUMMARY:Bürgermobil mit Nadine Hoffmann in Hellingen
DESCRIPTION:
URL:https://afd-thl.de/termin/buergermobil-mit-nadine-hoffmann-in-hellingen/
CATEGORIES:Bürgermobil
END:VEVENT
BEGIN:VEVENT
DTSTART;TZID=UTC:20210504T100000
DTEND;TZID=UTC:20210504T150000
DTSTAMP:20260424T071238
CREATED:20210503T042451Z
LAST-MODIFIED:20210503T042451Z
UID:21468-1620122400-1620140400@afd-thl.de
SUMMARY:Bürgermobil mit Torsten Czuppon in Weißensee und Kindelbrück
DESCRIPTION:
URL:https://afd-thl.de/termin/buergermobil-mit-torsten-czuppon-in-weissensee-und-kindelbrueck/
CATEGORIES:Bürgermobil
END:VEVENT
BEGIN:VEVENT
DTSTART;TZID=UTC:20210504T130000
DTEND;TZID=UTC:20210504T150000
DTSTAMP:20260424T071238
CREATED:20210503T082056Z
LAST-MODIFIED:20210503T082056Z
UID:21483-1620133200-1620140400@afd-thl.de
SUMMARY:Bürgermobil mit Nadine Hoffmann in Heldburg
DESCRIPTION:
URL:https://afd-thl.de/termin/buergermobil-mit-nadine-hoffmann-in-heldburg-2/
CATEGORIES:Bürgermobil
END:VEVENT
BEGIN:VEVENT
DTSTART;TZID=UTC:20210504T183000
DTEND;TZID=UTC:20210504T203000
DTSTAMP:20260424T071238
CREATED:20210420T113825Z
LAST-MODIFIED:20210420T113825Z
UID:21298-1620153000-1620160200@afd-thl.de
SUMMARY:Bürgerdialog mit Nadine Hoffmann in Heldburg
DESCRIPTION:
URL:https://afd-thl.de/termin/buergerdialog-mit-nadine-hoffmann-in-heldburg/
CATEGORIES:Bürgerdialog
END:VEVENT
BEGIN:VEVENT
DTSTART;TZID=UTC:20210511T173000
DTEND;TZID=UTC:20210511T190000
DTSTAMP:20260424T071238
CREATED:20210430T111949Z
LAST-MODIFIED:20210503T123249Z
UID:21425-1620754200-1620759600@afd-thl.de
SUMMARY:Bürgermobil mit MdL Höcke\, MdL Kaufmann und MdL Thrum in Paska
DESCRIPTION:
URL:https://afd-thl.de/termin/buergermobil-mit-mdl-hoecke-mdl-kaufmann-und-mdl-thrum-in-paska/
CATEGORIES:Bürgermobil
END:VEVENT
BEGIN:VEVENT
DTSTART;TZID=UTC:20210512T090000
DTEND;TZID=UTC:20210512T130000
DTSTAMP:20260424T071238
CREATED:20210430T114922Z
LAST-MODIFIED:20210430T114922Z
UID:21431-1620810000-1620824400@afd-thl.de
SUMMARY:Bürgermobil mit Thomas Rudy in Altenburg
DESCRIPTION:
URL:https://afd-thl.de/termin/buergermobil-mit-thomas-rudy-in-altenburg-2/
CATEGORIES:Bürgermobil
END:VEVENT
BEGIN:VEVENT
DTSTART;TZID=UTC:20210512T090000
DTEND;TZID=UTC:20210512T130000
DTSTAMP:20260424T071238
CREATED:20210503T054923Z
LAST-MODIFIED:20210503T054923Z
UID:21478-1620810000-1620824400@afd-thl.de
SUMMARY:Bürgermobil mit Lars Schütze in Bad Langensalza
DESCRIPTION:
URL:https://afd-thl.de/termin/buergermobil-mit-lars-schuetze-in-bad-langensalza-2/
CATEGORIES:Bürgermobil
END:VEVENT
BEGIN:VEVENT
DTSTART;TZID=UTC:20210514T090000
DTEND;TZID=UTC:20210514T120000
DTSTAMP:20260424T071238
CREATED:20210503T042210Z
LAST-MODIFIED:20210503T042210Z
UID:21462-1620982800-1620993600@afd-thl.de
SUMMARY:Bürgermobil mit Birger Gröning in Gotha
DESCRIPTION:
URL:https://afd-thl.de/termin/buergermobil-mit-birger-groening-in-gotha-5/
CATEGORIES:Bürgermobil
END:VEVENT
BEGIN:VEVENT
DTSTART;TZID=UTC:20210514T100000
DTEND;TZID=UTC:20210514T150000
DTSTAMP:20260424T071238
CREATED:20210503T042345Z
LAST-MODIFIED:20210503T042345Z
UID:21465-1620986400-1621004400@afd-thl.de
SUMMARY:Bürgermobil mit Torsten Czuppon in Straußfurt und Gebesee
DESCRIPTION:
URL:https://afd-thl.de/termin/buergermobil-mit-torsten-czuppon-in-straussfurt-und-gebesee-2/
CATEGORIES:Bürgermobil
END:VEVENT
BEGIN:VEVENT
DTSTART;TZID=UTC:20210515T090000
DTEND;TZID=UTC:20210515T130000
DTSTAMP:20260424T071238
CREATED:20210514T102321Z
LAST-MODIFIED:20210514T102321Z
UID:21573-1621069200-1621083600@afd-thl.de
SUMMARY:Bürgermobil mit Jens Cotta in Rossleben
DESCRIPTION:
URL:https://afd-thl.de/termin/buergermobil-mit-jens-cotta-in-rossleben/
CATEGORIES:Bürgermobil
END:VEVENT
BEGIN:VEVENT
DTSTART;TZID=UTC:20210517T090000
DTEND;TZID=UTC:20210517T130000
DTSTAMP:20260424T071238
CREATED:20210514T102521Z
LAST-MODIFIED:20210514T102521Z
UID:21579-1621242000-1621256400@afd-thl.de
SUMMARY:Bürgermobil mit Stefan Möller in Eisenach
DESCRIPTION:
URL:https://afd-thl.de/termin/buergermobil-mit-stefan-moeller-in-eisenach-3/
CATEGORIES:Bürgermobil
END:VEVENT
BEGIN:VEVENT
DTSTART;TZID=UTC:20210517T130000
DTEND;TZID=UTC:20210517T150000
DTSTAMP:20260424T071238
CREATED:20210514T102430Z
LAST-MODIFIED:20210514T102430Z
UID:21576-1621256400-1621263600@afd-thl.de
SUMMARY:Bürgermobil mit Nadine Hoffmann in Römhild
DESCRIPTION:
URL:https://afd-thl.de/termin/buergermobil-mit-nadine-hoffmann-in-roemhild/
CATEGORIES:Bürgermobil
END:VEVENT
BEGIN:VEVENT
DTSTART;TZID=UTC:20210518T100000
DTEND;TZID=UTC:20210518T153000
DTSTAMP:20260424T071238
CREATED:20210514T102612Z
LAST-MODIFIED:20210518T070217Z
UID:21582-1621332000-1621351800@afd-thl.de
SUMMARY:Bürgermobil mit René Aust in Zella-Mehlis
DESCRIPTION:
URL:https://afd-thl.de/termin/buergermobil-mit-rene-aust-in-zella-mehlis/
CATEGORIES:Bürgermobil
END:VEVENT
BEGIN:VEVENT
DTSTART;TZID=UTC:20210518T163000
DTEND;TZID=UTC:20210518T190000
DTSTAMP:20260424T071238
CREATED:20210518T064159Z
LAST-MODIFIED:20210518T064159Z
UID:21620-1621355400-1621364400@afd-thl.de
SUMMARY:Bürgermobil mit Uwe Thrum in Saalburg und Saaldorf
DESCRIPTION:
URL:https://afd-thl.de/termin/buergermobil-mit-uwe-thrum-in-saalburg-und-saaldorf/
CATEGORIES:Bürgermobil
END:VEVENT
BEGIN:VEVENT
DTSTART;TZID=UTC:20210520T090000
DTEND;TZID=UTC:20210520T130000
DTSTAMP:20260424T071238
CREATED:20210518T063418Z
LAST-MODIFIED:20210519T095226Z
UID:21602-1621501200-1621515600@afd-thl.de
SUMMARY:Bürgermobil mit Jens Cotta in Bad Frankenhausen
DESCRIPTION:
URL:https://afd-thl.de/termin/buergermobil-mit-jens-cotta-in-bad-frankenhausen/
CATEGORIES:Bürgermobil
END:VEVENT
BEGIN:VEVENT
DTSTART;TZID=UTC:20210520T150000
DTEND;TZID=UTC:20210520T180000
DTSTAMP:20260424T071238
CREATED:20210518T063601Z
LAST-MODIFIED:20210518T101306Z
UID:21605-1621522800-1621533600@afd-thl.de
SUMMARY:Bürgermobil mit MdL Möller\, MdL Aust\, MdL Gröning und MdL Mühlmann in Suhl
DESCRIPTION:
URL:https://afd-thl.de/termin/buergermobil-mit-mdl-moeller-mdl-aust-mdl-groening-und-mdl-muehlmann-in-suhl/
CATEGORIES:Bürgermobil
END:VEVENT
BEGIN:VEVENT
DTSTART;TZID=UTC:20210521T090000
DTEND;TZID=UTC:20210521T120000
DTSTAMP:20260424T071238
CREATED:20210518T063743Z
LAST-MODIFIED:20210518T063743Z
UID:21611-1621587600-1621598400@afd-thl.de
SUMMARY:Bürgermobil mit Thomas Rudy in Greiz
DESCRIPTION:
URL:https://afd-thl.de/termin/buergermobil-mit-thomas-rudy-in-greiz/
CATEGORIES:Bürgermobil
END:VEVENT
BEGIN:VEVENT
DTSTART;TZID=UTC:20210521T090000
DTEND;TZID=UTC:20210521T130000
DTSTAMP:20260424T071238
CREATED:20210518T063653Z
LAST-MODIFIED:20210518T063653Z
UID:21608-1621587600-1621602000@afd-thl.de
SUMMARY:Bürgermobil mit Stefan Möller in Bad Salzungen
DESCRIPTION:
URL:https://afd-thl.de/termin/buergermobil-mit-stefan-moeller-in-bad-salzungen/
CATEGORIES:Bürgermobil
END:VEVENT
BEGIN:VEVENT
DTSTART;TZID=UTC:20210522T100000
DTEND;TZID=UTC:20210522T140000
DTSTAMP:20260424T071238
CREATED:20210518T064020Z
LAST-MODIFIED:20210518T064218Z
UID:21614-1621677600-1621692000@afd-thl.de
SUMMARY:Bürgermobil mit MdL Dr. Lauerwald und MdL Laudenbach in Gera
DESCRIPTION:
URL:https://afd-thl.de/termin/buergermobil-mit-mdl-dr-lauerwald-und-mdl-laudenbach/
CATEGORIES:Bürgermobil
END:VEVENT
BEGIN:VEVENT
DTSTART;TZID=UTC:20210525T090000
DTEND;TZID=UTC:20210525T130000
DTSTAMP:20260424T071238
CREATED:20210518T064108Z
LAST-MODIFIED:20210518T064108Z
UID:21617-1621933200-1621947600@afd-thl.de
SUMMARY:Bürgermobil mit Corinna Herold in Erfurt
DESCRIPTION:
URL:https://afd-thl.de/termin/buergermobil-mit-corinna-herold-in-erfurt-4/
CATEGORIES:Bürgermobil
END:VEVENT
BEGIN:VEVENT
DTSTART;TZID=UTC:20210525T163000
DTEND;TZID=UTC:20210525T190000
DTSTAMP:20260424T071238
CREATED:20210521T194237Z
LAST-MODIFIED:20210521T194237Z
UID:21665-1621960200-1621969200@afd-thl.de
SUMMARY:Bürgermobil mit Uwe Thrum in Saalburg und Saaldorf
DESCRIPTION:
URL:https://afd-thl.de/termin/buergermobil-mit-uwe-thrum-in-saalburg-und-saaldorf-2/
CATEGORIES:Bürgermobil
END:VEVENT
BEGIN:VEVENT
DTSTART;TZID=UTC:20210526T163000
DTEND;TZID=UTC:20210526T190000
DTSTAMP:20260424T071238
CREATED:20210521T194352Z
LAST-MODIFIED:20210521T194352Z
UID:21668-1622046600-1622055600@afd-thl.de
SUMMARY:Bürgermobil mit Uwe Thrum in Schlegel und Neundorf
DESCRIPTION:
URL:https://afd-thl.de/termin/buergermobil-mit-uwe-thrum-in-schlegel-und-neundorf/
CATEGORIES:Bürgermobil
END:VEVENT
BEGIN:VEVENT
DTSTART;TZID=UTC:20210527T110000
DTEND;TZID=UTC:20210527T150000
DTSTAMP:20260424T071238
CREATED:20210525T044200Z
LAST-MODIFIED:20210525T044200Z
UID:21673-1622113200-1622127600@afd-thl.de
SUMMARY:Bürgermobil mit Nadine Hoffmann in HBN und Schleusingen
DESCRIPTION:
URL:https://afd-thl.de/termin/buergermobil-mit-nadine-hoffmann-in-hbn-und-schleusingen/
CATEGORIES:Bürgermobil
END:VEVENT
BEGIN:VEVENT
DTSTART;TZID=UTC:20210528T100000
DTEND;TZID=UTC:20210528T150000
DTSTAMP:20260424T071238
CREATED:20210525T044305Z
LAST-MODIFIED:20210525T044305Z
UID:21676-1622196000-1622214000@afd-thl.de
SUMMARY:Bürgermobil mit Nadine Hoffmann in Jüchsen und Themar
DESCRIPTION:
URL:https://afd-thl.de/termin/buergermobil-mit-nadine-hoffmann-in-juechsen-und-themar/
CATEGORIES:Bürgermobil
END:VEVENT
BEGIN:VEVENT
DTSTART;TZID=UTC:20210528T163000
DTEND;TZID=UTC:20210528T190000
DTSTAMP:20260424T071238
CREATED:20210525T044416Z
LAST-MODIFIED:20210525T044416Z
UID:21679-1622219400-1622228400@afd-thl.de
SUMMARY:Bürgermobil mit Uwe Thrum in Lichtenbrunn und Blankenberg
DESCRIPTION:
URL:https://afd-thl.de/termin/buergermobil-mit-uwe-thrum-in-lichtenbrunn-und-blankenberg/
CATEGORIES:Bürgermobil
END:VEVENT
END:VCALENDAR