BEGIN:VCALENDAR
VERSION:2.0
PRODID:-//AfD Fraktion im Thüringer Landtag - ECPv6.15.17.1//NONSGML v1.0//EN
CALSCALE:GREGORIAN
METHOD:PUBLISH
X-WR-CALNAME:AfD Fraktion im Thüringer Landtag
X-ORIGINAL-URL:https://afd-thl.de
X-WR-CALDESC:Veranstaltungen für AfD Fraktion im Thüringer Landtag
REFRESH-INTERVAL;VALUE=DURATION:PT1H
X-Robots-Tag:noindex
X-PUBLISHED-TTL:PT1H
BEGIN:VTIMEZONE
TZID:UTC
BEGIN:STANDARD
TZOFFSETFROM:+0000
TZOFFSETTO:+0000
TZNAME:UTC
DTSTART:20200101T000000
END:STANDARD
END:VTIMEZONE
BEGIN:VEVENT
DTSTART;TZID=UTC:20210601T090000
DTEND;TZID=UTC:20210601T120000
DTSTAMP:20260424T054959
CREATED:20210525T065625Z
LAST-MODIFIED:20210525T065625Z
UID:21684-1622538000-1622548800@afd-thl.de
SUMMARY:Bürgermobil mit Birger Gröning in Bad Tabarz
DESCRIPTION:
URL:https://afd-thl.de/termin/buergermobil-mit-birger-groening-in-bad-tabarz/
CATEGORIES:Bürgermobil
END:VEVENT
BEGIN:VEVENT
DTSTART;TZID=UTC:20210601T150000
DTEND;TZID=UTC:20210601T180000
DTSTAMP:20260424T054959
CREATED:20210525T065709Z
LAST-MODIFIED:20210525T065709Z
UID:21686-1622559600-1622570400@afd-thl.de
SUMMARY:Bürgermobil mit Stefan Möller in Suhl
DESCRIPTION:
URL:https://afd-thl.de/termin/buergermobil-mit-stefan-moeller-in-suhl/
CATEGORIES:Bürgermobil
END:VEVENT
BEGIN:VEVENT
DTSTART;TZID=UTC:20210603T100000
DTEND;TZID=UTC:20210603T130000
DTSTAMP:20260424T054959
CREATED:20210602T054757Z
LAST-MODIFIED:20210602T075238Z
UID:21828-1622714400-1622725200@afd-thl.de
SUMMARY:Bürgermobil mit Stefan Möller in Vacha
DESCRIPTION:
URL:https://afd-thl.de/termin/buergermobil-mit-stefan-moeller-in-vacha/
CATEGORIES:Bürgermobil
END:VEVENT
BEGIN:VEVENT
DTSTART;TZID=UTC:20210607T130000
DTEND;TZID=UTC:20210607T150000
DTSTAMP:20260424T054959
CREATED:20210525T065816Z
LAST-MODIFIED:20210525T065816Z
UID:21688-1623070800-1623078000@afd-thl.de
SUMMARY:Bürgermobil mit Nadine Hoffmann in Heldburg
DESCRIPTION:
URL:https://afd-thl.de/termin/buergermobil-mit-nadine-hoffmann-in-heldburg-3/
CATEGORIES:Bürgermobil
END:VEVENT
BEGIN:VEVENT
DTSTART;TZID=UTC:20210609T080000
DTEND;TZID=UTC:20210609T120000
DTSTAMP:20260424T054959
CREATED:20210525T070007Z
LAST-MODIFIED:20210602T055011Z
UID:21692-1623225600-1623240000@afd-thl.de
SUMMARY:Bürgermobil mit Torsten Czuppon in Buttstädt
DESCRIPTION:
URL:https://afd-thl.de/termin/buergermobil-mit-torsten-czuppon-in-buttstaedt-2/
CATEGORIES:Bürgermobil
END:VEVENT
BEGIN:VEVENT
DTSTART;TZID=UTC:20210609T090000
DTEND;TZID=UTC:20210609T120000
DTSTAMP:20260424T054959
CREATED:20210525T070059Z
LAST-MODIFIED:20210602T055041Z
UID:21694-1623229200-1623240000@afd-thl.de
SUMMARY:Bürgermobil mit Birger Gröning in Friedrichroda
DESCRIPTION:
URL:https://afd-thl.de/termin/buergermobil-mit-birger-groening-in-friedrichroda/
CATEGORIES:Bürgermobil
END:VEVENT
BEGIN:VEVENT
DTSTART;TZID=UTC:20210610T090000
DTEND;TZID=UTC:20210610T120000
DTSTAMP:20260424T054959
CREATED:20210525T070233Z
LAST-MODIFIED:20210602T055138Z
UID:21696-1623315600-1623326400@afd-thl.de
SUMMARY:Bürgermobil mit Thomas Rudy in Weida
DESCRIPTION:
URL:https://afd-thl.de/termin/buergermobil-mit-thomas-rudy-in-weida/
CATEGORIES:Bürgermobil
END:VEVENT
BEGIN:VEVENT
DTSTART;TZID=UTC:20210610T090000
DTEND;TZID=UTC:20210610T160000
DTSTAMP:20260424T054959
CREATED:20210525T070325Z
LAST-MODIFIED:20210525T070325Z
UID:21698-1623315600-1623340800@afd-thl.de
SUMMARY:Bürgermobil mit Nadine Hoffmann in HBN und Streufdorf
DESCRIPTION:
URL:https://afd-thl.de/termin/buergermobil-mit-nadine-hoffmann-in-hbn-und-streufdorf/
CATEGORIES:Bürgermobil
END:VEVENT
BEGIN:VEVENT
DTSTART;TZID=UTC:20210611T090000
DTEND;TZID=UTC:20210611T130000
DTSTAMP:20260424T054959
CREATED:20210525T070400Z
LAST-MODIFIED:20210602T055109Z
UID:21700-1623402000-1623416400@afd-thl.de
SUMMARY:Bürgermobil mit Nadine Hoffmann in Themar
DESCRIPTION:
URL:https://afd-thl.de/termin/buergermobil-mit-nadine-hoffmann-in-themar/
CATEGORIES:Bürgermobil
END:VEVENT
BEGIN:VEVENT
DTSTART;TZID=UTC:20210612T090000
DTEND;TZID=UTC:20210612T120000
DTSTAMP:20260424T054959
CREATED:20210525T070529Z
LAST-MODIFIED:20210610T064412Z
UID:21704-1623488400-1623499200@afd-thl.de
SUMMARY:Bürgermobil mit MdL Dr. Lauerwald und MdL Laudenbach in Gera
DESCRIPTION:
URL:https://afd-thl.de/termin/buergermobil-mit-mdl-dr-lauerwald-und-mdl-laudenbach-in-gera/
CATEGORIES:Bürgermobil
END:VEVENT
BEGIN:VEVENT
DTSTART;TZID=UTC:20210612T090000
DTEND;TZID=UTC:20210612T130000
DTSTAMP:20260424T054959
CREATED:20210525T070434Z
LAST-MODIFIED:20210610T131149Z
UID:21702-1623488400-1623502800@afd-thl.de
SUMMARY:Bürgermobil mit Stefan Möller in Eisenach
DESCRIPTION:
URL:https://afd-thl.de/termin/buergermobil-mit-stefan-moeller-in-eisenach-4/
CATEGORIES:Bürgermobil
END:VEVENT
BEGIN:VEVENT
DTSTART;TZID=UTC:20210614T130000
DTEND;TZID=UTC:20210614T160000
DTSTAMP:20260424T054959
CREATED:20210525T071322Z
LAST-MODIFIED:20210525T071322Z
UID:21706-1623675600-1623686400@afd-thl.de
SUMMARY:Bürgermobil mit Nadine Hoffmann in Römhild
DESCRIPTION:
URL:https://afd-thl.de/termin/buergermobil-mit-nadine-hoffmann-in-roemhild-2/
CATEGORIES:Bürgermobil
END:VEVENT
BEGIN:VEVENT
DTSTART;TZID=UTC:20210615T090000
DTEND;TZID=UTC:20210615T120000
DTSTAMP:20260424T054959
CREATED:20210525T071522Z
LAST-MODIFIED:20210525T071522Z
UID:21710-1623747600-1623758400@afd-thl.de
SUMMARY:Bürgermobil mit Nadine Hoffmann in Oberstadt
DESCRIPTION:
URL:https://afd-thl.de/termin/buergermobil-mit-nadine-hoffmann-in-oberstadt/
CATEGORIES:Bürgermobil
END:VEVENT
BEGIN:VEVENT
DTSTART;TZID=UTC:20210615T090000
DTEND;TZID=UTC:20210615T130000
DTSTAMP:20260424T054959
CREATED:20210525T071447Z
LAST-MODIFIED:20210525T071447Z
UID:21708-1623747600-1623762000@afd-thl.de
SUMMARY:Bürgermobil mit Ringo Mühlmann in Apolda
DESCRIPTION:
URL:https://afd-thl.de/termin/buergermobil-mit-ringo-muehlmann-in-apolda/
CATEGORIES:Bürgermobil
END:VEVENT
BEGIN:VEVENT
DTSTART;TZID=UTC:20210615T163000
DTEND;TZID=UTC:20210615T190000
DTSTAMP:20260424T054959
CREATED:20210525T071920Z
LAST-MODIFIED:20210525T071920Z
UID:21712-1623774600-1623783600@afd-thl.de
SUMMARY:Bürgermobil mit Uwe Thrum in Weisbach und Liebschütz
DESCRIPTION:
URL:https://afd-thl.de/termin/buergermobil-mit-uwe-thrum-in-weisbach-und-liebschuetz/
CATEGORIES:Bürgermobil
END:VEVENT
BEGIN:VEVENT
DTSTART;TZID=UTC:20210616T163000
DTEND;TZID=UTC:20210616T190000
DTSTAMP:20260424T054959
CREATED:20210525T072023Z
LAST-MODIFIED:20210525T072023Z
UID:21714-1623861000-1623870000@afd-thl.de
SUMMARY:Bürgermobil mit Uwe Thrum in Gahma und Weitisberga
DESCRIPTION:
URL:https://afd-thl.de/termin/buergermobil-mit-uwe-thrum-in-gahma-und-weitisberga/
CATEGORIES:Bürgermobil
END:VEVENT
BEGIN:VEVENT
DTSTART;TZID=UTC:20210617T090000
DTEND;TZID=UTC:20210617T120000
DTSTAMP:20260424T054959
CREATED:20210525T072153Z
LAST-MODIFIED:20210525T072153Z
UID:21716-1623920400-1623931200@afd-thl.de
SUMMARY:Bürgermobil mit Birger Gröning in Siebleben
DESCRIPTION:
URL:https://afd-thl.de/termin/buergermobil-mit-birger-groening-in-siebleben-2/
CATEGORIES:Bürgermobil
END:VEVENT
BEGIN:VEVENT
DTSTART;TZID=UTC:20210618T163000
DTEND;TZID=UTC:20210618T190000
DTSTAMP:20260424T054959
CREATED:20210525T072313Z
LAST-MODIFIED:20210525T072313Z
UID:21718-1624033800-1624042800@afd-thl.de
SUMMARY:Bürgermobil mit Uwe Thrum in Titschendorf und Unterlemnitz
DESCRIPTION:
URL:https://afd-thl.de/termin/buergermobil-mit-uwe-thrum-in-titschendorf-und-unterlemnitz/
CATEGORIES:Bürgermobil
END:VEVENT
BEGIN:VEVENT
DTSTART;TZID=UTC:20210621T090000
DTEND;TZID=UTC:20210621T170000
DTSTAMP:20260424T054959
CREATED:20210525T072507Z
LAST-MODIFIED:20210525T075740Z
UID:21720-1624266000-1624294800@afd-thl.de
SUMMARY:Bürgermobil mit MdL's Jankowski\, Henke\, Prof. Kaufmann in Hermsdorf\, Stadtroda und Eisenberg
DESCRIPTION:
URL:https://afd-thl.de/termin/buergermobil-mit-denny-jankowski-in-hermsdorf-stadtroda-und-eisenberg/
CATEGORIES:Bürgermobil
END:VEVENT
BEGIN:VEVENT
DTSTART;TZID=UTC:20210621T130000
DTEND;TZID=UTC:20210621T170000
DTSTAMP:20260424T054959
CREATED:20210618T070620Z
LAST-MODIFIED:20210618T070620Z
UID:22017-1624280400-1624294800@afd-thl.de
SUMMARY:Bürgermobil mit Nadine Hoffmann in Beinerstadt und Bischofrod
DESCRIPTION:
URL:https://afd-thl.de/termin/buergermobil-mit-nadine-hoffmann-in-beinerstadt-und-bischofrod/
CATEGORIES:Bürgermobil
END:VEVENT
BEGIN:VEVENT
DTSTART;TZID=UTC:20210622T090000
DTEND;TZID=UTC:20210622T130000
DTSTAMP:20260424T054959
CREATED:20210525T072559Z
LAST-MODIFIED:20210525T072559Z
UID:21722-1624352400-1624366800@afd-thl.de
SUMMARY:Bürgermobil mit Corinna Herold in Erfurt
DESCRIPTION:
URL:https://afd-thl.de/termin/buergermobil-mit-corinna-herold-in-erfurt-5/
CATEGORIES:Bürgermobil
END:VEVENT
BEGIN:VEVENT
DTSTART;TZID=UTC:20210622T103000
DTEND;TZID=UTC:20210622T160000
DTSTAMP:20260424T054959
CREATED:20210618T070404Z
LAST-MODIFIED:20210618T070404Z
UID:22015-1624357800-1624377600@afd-thl.de
SUMMARY:Bürgermobil mit René Aust in Schmalkalden und Brotterode
DESCRIPTION:
URL:https://afd-thl.de/termin/buergermobil-mit-rene-aust-in-schmalkalden-und-brotterode/
CATEGORIES:Bürgermobil
END:VEVENT
BEGIN:VEVENT
DTSTART;TZID=UTC:20210624T090000
DTEND;TZID=UTC:20210624T120000
DTSTAMP:20260424T054959
CREATED:20210525T072725Z
LAST-MODIFIED:20210623T070518Z
UID:21726-1624525200-1624536000@afd-thl.de
SUMMARY:Bürgermobil mit Thomas Rudy in Zeulenroda
DESCRIPTION:
URL:https://afd-thl.de/termin/buergermobil-mit-thomas-rudy-in-zeulenroda/
CATEGORIES:Bürgermobil
END:VEVENT
BEGIN:VEVENT
DTSTART;TZID=UTC:20210624T090000
DTEND;TZID=UTC:20210624T180000
DTSTAMP:20260424T054959
CREATED:20210525T073846Z
LAST-MODIFIED:20210623T054033Z
UID:21728-1624525200-1624557600@afd-thl.de
SUMMARY:Bürgermobil mit Björn Höcke und Nadine Hoffmann in HBN und Römhild
DESCRIPTION:
URL:https://afd-thl.de/termin/buergermobil-mit-nadine-hoffmann-in-hbn-und-roemhild/
CATEGORIES:Bürgermobil
END:VEVENT
BEGIN:VEVENT
DTSTART;TZID=UTC:20210625T090000
DTEND;TZID=UTC:20210625T120000
DTSTAMP:20260424T054959
CREATED:20210525T073941Z
LAST-MODIFIED:20210623T062926Z
UID:21733-1624611600-1624622400@afd-thl.de
SUMMARY:Bürgermobil mit Thomas Rudy in Meuselwitz
DESCRIPTION:
URL:https://afd-thl.de/termin/buergermobil-mit-thomas-rudy-in-meuselwitz/
CATEGORIES:Bürgermobil
END:VEVENT
BEGIN:VEVENT
DTSTART;TZID=UTC:20210625T100000
DTEND;TZID=UTC:20210625T150000
DTSTAMP:20260424T054959
CREATED:20210525T074056Z
LAST-MODIFIED:20210623T054118Z
UID:21735-1624615200-1624633200@afd-thl.de
SUMMARY:Bürgermobil mit Torsten Czuppon in Weißensee und Kindelbrück
DESCRIPTION:
URL:https://afd-thl.de/termin/buergermobil-mit-torsten-czuppon-in-weissensee-und-kindelbrueck-2/
CATEGORIES:Bürgermobil
END:VEVENT
BEGIN:VEVENT
DTSTART;TZID=UTC:20210628T090000
DTEND;TZID=UTC:20210628T170000
DTSTAMP:20260424T054959
CREATED:20210525T074307Z
LAST-MODIFIED:20210628T070105Z
UID:21737-1624870800-1624899600@afd-thl.de
SUMMARY:Bürgermobil mit MdL's Jankowski\, Henke\, Prof. Kaufmann Camburg\, Bürgel und Kahla
DESCRIPTION:
URL:https://afd-thl.de/termin/buergermobil-mit-mdls-jankowski-henke-prof-kaufmann-camburg-buergel-und-kahla/
CATEGORIES:Bürgermobil
END:VEVENT
BEGIN:VEVENT
DTSTART;TZID=UTC:20210628T150000
DTEND;TZID=UTC:20210628T170000
DTSTAMP:20260424T054959
CREATED:20210623T053709Z
LAST-MODIFIED:20210628T065957Z
UID:22034-1624892400-1624899600@afd-thl.de
SUMMARY:Bürgermobil mit Nadine Hoffmann in Zeilfeld
DESCRIPTION:
URL:https://afd-thl.de/termin/buergermobil-mit-nadine-hoffmann-in-zeilfeld/
CATEGORIES:Bürgermobil
END:VEVENT
BEGIN:VEVENT
DTSTART;TZID=UTC:20210629T090000
DTEND;TZID=UTC:20210629T120000
DTSTAMP:20260424T054959
CREATED:20210525T074437Z
LAST-MODIFIED:20210629T060959Z
UID:21741-1624957200-1624968000@afd-thl.de
SUMMARY:Bürgermobil mit Ringo Mühlmann in Bad Berka
DESCRIPTION:
URL:https://afd-thl.de/termin/buergermobil-mit-ringo-muehlmann-in-bad-berka/
CATEGORIES:Bürgermobil
END:VEVENT
BEGIN:VEVENT
DTSTART;TZID=UTC:20210629T100000
DTEND;TZID=UTC:20210629T160000
DTSTAMP:20260424T054959
CREATED:20210525T074354Z
LAST-MODIFIED:20210629T061354Z
UID:21739-1624960800-1624982400@afd-thl.de
SUMMARY:Bürgermobil mit René Aust in Steinbach-Hallenberg und Meiningen
DESCRIPTION:
URL:https://afd-thl.de/termin/buergermobil-mit-rene-aust-2/
CATEGORIES:Bürgermobil
END:VEVENT
END:VCALENDAR