BEGIN:VCALENDAR
VERSION:2.0
PRODID:-//AfD Fraktion im Thüringer Landtag - ECPv6.15.17.1//NONSGML v1.0//EN
CALSCALE:GREGORIAN
METHOD:PUBLISH
X-WR-CALNAME:AfD Fraktion im Thüringer Landtag
X-ORIGINAL-URL:https://afd-thl.de
X-WR-CALDESC:Veranstaltungen für AfD Fraktion im Thüringer Landtag
REFRESH-INTERVAL;VALUE=DURATION:PT1H
X-Robots-Tag:noindex
X-PUBLISHED-TTL:PT1H
BEGIN:VTIMEZONE
TZID:UTC
BEGIN:STANDARD
TZOFFSETFROM:+0000
TZOFFSETTO:+0000
TZNAME:UTC
DTSTART:20200101T000000
END:STANDARD
END:VTIMEZONE
BEGIN:VEVENT
DTSTART;TZID=UTC:20210706T090000
DTEND;TZID=UTC:20210706T120000
DTSTAMP:20260424T043102
CREATED:20210628T090240Z
LAST-MODIFIED:20210705T054645Z
UID:22317-1625562000-1625572800@afd-thl.de
SUMMARY:Bürgermobil mit Corinna Herold in Stotternheim / Deutsches Haus
DESCRIPTION:
URL:https://afd-thl.de/termin/buergermobil-mit-corinna-herold-in-stotternheim-deutsches-haus/
CATEGORIES:Bürgermobil
END:VEVENT
BEGIN:VEVENT
DTSTART;TZID=UTC:20210706T163000
DTEND;TZID=UTC:20210706T190000
DTSTAMP:20260424T043102
CREATED:20210628T090354Z
LAST-MODIFIED:20210705T054748Z
UID:22319-1625589000-1625598000@afd-thl.de
SUMMARY:Bürgermobil mit Uwe Thrum in Sparnberg und Langgrün
DESCRIPTION:
URL:https://afd-thl.de/termin/buergermobil-mit-uwe-thrum-in-sparnberg-und-langgruen/
CATEGORIES:Bürgermobil
END:VEVENT
BEGIN:VEVENT
DTSTART;TZID=UTC:20210707T163000
DTEND;TZID=UTC:20210707T190000
DTSTAMP:20260424T043102
CREATED:20210628T090628Z
LAST-MODIFIED:20210705T065548Z
UID:22322-1625675400-1625684400@afd-thl.de
SUMMARY:Bürgermobil mit Uwe Thrum in Gebersreuth und Dobareuth
DESCRIPTION:
URL:https://afd-thl.de/termin/buergermobil-mit-uwe-thrum-in-gebersreuth-und-dobareuth/
CATEGORIES:Bürgermobil
END:VEVENT
BEGIN:VEVENT
DTSTART;TZID=UTC:20210708T080000
DTEND;TZID=UTC:20210708T160000
DTSTAMP:20260424T043102
CREATED:20210628T090937Z
LAST-MODIFIED:20210705T065708Z
UID:22327-1625731200-1625760000@afd-thl.de
SUMMARY:Bürgermobil mit Olaf Kießling in Großbreitenbach und Gehren
DESCRIPTION:
URL:https://afd-thl.de/termin/buergermobil-mit-olaf-kiessling-in-grossbreitenbach-und-gehren/
CATEGORIES:Bürgermobil
END:VEVENT
BEGIN:VEVENT
DTSTART;TZID=UTC:20210708T120000
DTEND;TZID=UTC:20210708T163000
DTSTAMP:20260424T043102
CREATED:20210628T090806Z
LAST-MODIFIED:20210705T065818Z
UID:22325-1625745600-1625761800@afd-thl.de
SUMMARY:Bürgermobil mit Prof. Dr. Michael Kaufmann in Saalfeld und Gorndorf
DESCRIPTION:
URL:https://afd-thl.de/termin/buergermobil-mit-prof-dr-michael-kaufmann-in-saalfeld-und-gorndorf/
CATEGORIES:Bürgermobil
END:VEVENT
BEGIN:VEVENT
DTSTART;TZID=UTC:20210709T090000
DTEND;TZID=UTC:20210709T130000
DTSTAMP:20260424T043102
CREATED:20210628T091110Z
LAST-MODIFIED:20210705T070137Z
UID:22329-1625821200-1625835600@afd-thl.de
SUMMARY:Bürgermobil mit Stefan Möller in Erfurt / Domplatz
DESCRIPTION:
URL:https://afd-thl.de/termin/buergermobil-mit-stefan-moeller-in-erfurt-domplatz/
CATEGORIES:Bürgermobil
END:VEVENT
BEGIN:VEVENT
DTSTART;TZID=UTC:20210709T100000
DTEND;TZID=UTC:20210709T150000
DTSTAMP:20260424T043102
CREATED:20210628T091223Z
LAST-MODIFIED:20210705T070250Z
UID:22331-1625824800-1625842800@afd-thl.de
SUMMARY:Bürgermobil mit Torsten Czuppon in Straußfurt und Gebesee
DESCRIPTION:
URL:https://afd-thl.de/termin/buergermobil-mit-torsten-czuppon-in-straussfurt-und-gebesee/
CATEGORIES:Bürgermobil
END:VEVENT
BEGIN:VEVENT
DTSTART;TZID=UTC:20210709T163000
DTEND;TZID=UTC:20210709T190000
DTSTAMP:20260424T043102
CREATED:20210628T091337Z
LAST-MODIFIED:20210705T065958Z
UID:22333-1625848200-1625857200@afd-thl.de
SUMMARY:Bürgermobil mit Uwe Thrum in Seubtendorf und Willersdorf
DESCRIPTION:
URL:https://afd-thl.de/termin/buergermobil-mit-uwe-thrum-in-seubtendorf-und-willersdorf/
CATEGORIES:Bürgermobil
END:VEVENT
BEGIN:VEVENT
DTSTART;TZID=UTC:20210710T100000
DTEND;TZID=UTC:20210710T140000
DTSTAMP:20260424T043102
CREATED:20210628T091804Z
LAST-MODIFIED:20210705T070518Z
UID:22335-1625911200-1625925600@afd-thl.de
SUMMARY:Bürgermobil in Gera mit Dr Wolfgang Lauerwald und Dieter Laudenbach
DESCRIPTION:
URL:https://afd-thl.de/termin/buergermobil-mit-dr-wolfgang-lauerwald-und-dieter-laudenbach/
CATEGORIES:Bürgermobil
END:VEVENT
BEGIN:VEVENT
DTSTART;TZID=UTC:20210713T090000
DTEND;TZID=UTC:20210713T130000
DTSTAMP:20260424T043102
CREATED:20210628T092732Z
LAST-MODIFIED:20210709T102726Z
UID:22337-1626166800-1626181200@afd-thl.de
SUMMARY:Bürgermobil mit Corinna Herold in Erfurt Moskauer Platz
DESCRIPTION:
URL:https://afd-thl.de/termin/buergermobil-mit-corinna-herold-in-erfurt-moskauer-platz/
CATEGORIES:Bürgermobil
END:VEVENT
BEGIN:VEVENT
DTSTART;TZID=UTC:20210713T100000
DTEND;TZID=UTC:20210713T160000
DTSTAMP:20260424T043102
CREATED:20210628T092957Z
LAST-MODIFIED:20210709T102814Z
UID:22339-1626170400-1626192000@afd-thl.de
SUMMARY:Bürgermobil mit Karlheinz Frosch in Katzhütte\, Oberweißbach und Bad Blankenburg
DESCRIPTION:
URL:https://afd-thl.de/termin/buergermobil-mit-karlheinz-frosch-in-katzhuette-oberweissbach-und-bad-blankenburg/
CATEGORIES:Bürgermobil
END:VEVENT
BEGIN:VEVENT
DTSTART;TZID=UTC:20210713T190000
DTEND;TZID=UTC:20210713T210000
DTSTAMP:20260424T043102
CREATED:20210708T104806Z
LAST-MODIFIED:20210709T104910Z
UID:22500-1626202800-1626210000@afd-thl.de
SUMMARY:Bürgerdialog mit Björn Höcke und René Aust in Schmalkalden
DESCRIPTION:
URL:https://afd-thl.de/termin/buergerdialog-mit-bkoern-hoecke-und-rene-aust-in-schmalkalden/
CATEGORIES:Bürgerdialog
END:VEVENT
BEGIN:VEVENT
DTSTART;TZID=UTC:20210715T080000
DTEND;TZID=UTC:20210715T120000
DTSTAMP:20260424T043102
CREATED:20210628T093120Z
LAST-MODIFIED:20210709T103043Z
UID:22341-1626336000-1626350400@afd-thl.de
SUMMARY:Bürgermobil mit Jens Cotta in Bad Frankenhausen
DESCRIPTION:
URL:https://afd-thl.de/termin/buergermobil-mit-jens-cotta-in-bad-frankenhausen-2/
CATEGORIES:Bürgermobil
END:VEVENT
BEGIN:VEVENT
DTSTART;TZID=UTC:20210715T100000
DTEND;TZID=UTC:20210715T173000
DTSTAMP:20260424T043102
CREATED:20210628T093322Z
LAST-MODIFIED:20210714T103124Z
UID:22343-1626343200-1626370200@afd-thl.de
SUMMARY:Bürgermobil mit Nadine Hoffmann in Hbu\, Ummerstadt\, Marisfeld u. Benshausen
DESCRIPTION:
URL:https://afd-thl.de/termin/buergermobil-mit-nadine-hoffmann-in-hildburghausen-ummerstadt-marisfeld-und-benshausen/
CATEGORIES:Bürgermobil
END:VEVENT
BEGIN:VEVENT
DTSTART;TZID=UTC:20210715T150000
DTEND;TZID=UTC:20210715T180000
DTSTAMP:20260424T043102
CREATED:20210628T094405Z
LAST-MODIFIED:20210709T103137Z
UID:22345-1626361200-1626372000@afd-thl.de
SUMMARY:Bürgermobil mit René Aust in Suhl / Dianabrunnen
DESCRIPTION:
URL:https://afd-thl.de/termin/buergermobil-mit-nadine-hoffmann-und-rene-aust-in-suhl-dianabrunnen/
CATEGORIES:Bürgermobil
END:VEVENT
BEGIN:VEVENT
DTSTART;TZID=UTC:20210716T100000
DTEND;TZID=UTC:20210716T140000
DTSTAMP:20260424T043102
CREATED:20210628T094624Z
LAST-MODIFIED:20210709T114217Z
UID:22347-1626429600-1626444000@afd-thl.de
SUMMARY:Bürgermobil mit Jörg Henke in Bad Kösritz und Crossen an der Elster
DESCRIPTION:
URL:https://afd-thl.de/termin/buergermobil-mit-joerg-henke-in-bad-koesritz-und-crossen-an-der-elster/
CATEGORIES:Bürgermobil
END:VEVENT
BEGIN:VEVENT
DTSTART;TZID=UTC:20210716T100000
DTEND;TZID=UTC:20210716T150000
DTSTAMP:20260424T043102
CREATED:20210628T094753Z
LAST-MODIFIED:20210709T114316Z
UID:22349-1626429600-1626447600@afd-thl.de
SUMMARY:Bürgermobil mit Torsten Czuppon in Buttstädt und Rastenberg
DESCRIPTION:
URL:https://afd-thl.de/termin/buergermobil-mit-torsten-czuppon-in-buttstaedt-und-rastenberg/
CATEGORIES:Bürgermobil
END:VEVENT
BEGIN:VEVENT
DTSTART;TZID=UTC:20210716T180000
DTEND;TZID=UTC:20210716T180000
DTSTAMP:20260424T043102
CREATED:20210714T062014Z
LAST-MODIFIED:20210714T081116Z
UID:22544-1626458400-1626458400@afd-thl.de
SUMMARY:Online Dialog mit Nadine Hoffmann und Denny Jankowski
DESCRIPTION:
URL:https://afd-thl.de/termin/online-dialog-mit-nadine-hoffmann-und-denny-jankowski/
CATEGORIES:Online-Dialog
END:VEVENT
BEGIN:VEVENT
DTSTART;TZID=UTC:20210720T090000
DTEND;TZID=UTC:20210720T120000
DTSTAMP:20260424T043102
CREATED:20210628T095714Z
LAST-MODIFIED:20210716T073125Z
UID:22355-1626771600-1626782400@afd-thl.de
SUMMARY:Bürgermobil mit Robert Sesselmann in Sonneberg
DESCRIPTION:
URL:https://afd-thl.de/termin/buergermobil-mit-robert-sesselmann-in-sonneberg/
CATEGORIES:Bürgermobil
END:VEVENT
BEGIN:VEVENT
DTSTART;TZID=UTC:20210720T150000
DTEND;TZID=UTC:20210720T180000
DTSTAMP:20260424T043102
CREATED:20210628T095829Z
LAST-MODIFIED:20210716T075555Z
UID:22357-1626793200-1626804000@afd-thl.de
SUMMARY:Bürgermobil mit Birger Gröning in Frierichroda
DESCRIPTION:
URL:https://afd-thl.de/termin/buergermobil-mit-birger-groening-in-frierichroda/
CATEGORIES:Bürgermobil
END:VEVENT
BEGIN:VEVENT
DTSTART;TZID=UTC:20210726T090000
DTEND;TZID=UTC:20210726T130000
DTSTAMP:20260424T043102
CREATED:20210628T100101Z
LAST-MODIFIED:20210723T144548Z
UID:22359-1627290000-1627304400@afd-thl.de
SUMMARY:Bürgermobil mit Birger Gröning in Georgenthal
DESCRIPTION:
URL:https://afd-thl.de/termin/buergermobil-mit-birger-groening-in-georgenthal/
CATEGORIES:Bürgermobil
END:VEVENT
BEGIN:VEVENT
DTSTART;TZID=UTC:20210727T100000
DTEND;TZID=UTC:20210727T170000
DTSTAMP:20260424T043102
CREATED:20210628T100255Z
LAST-MODIFIED:20210723T144715Z
UID:22361-1627380000-1627405200@afd-thl.de
SUMMARY:Bürgermobil mit Nadine Hoffmann in Jüchsen\, Römhild und Milz
DESCRIPTION:
URL:https://afd-thl.de/termin/buergermobil-mit-nadine-hoffmann-in-juechsen-roemhild-und-milz/
CATEGORIES:Bürgermobil
END:VEVENT
BEGIN:VEVENT
DTSTART;TZID=UTC:20210727T130000
DTEND;TZID=UTC:20210727T160000
DTSTAMP:20260424T043102
CREATED:20210723T145031Z
LAST-MODIFIED:20210727T043519Z
UID:22629-1627390800-1627401600@afd-thl.de
SUMMARY:Bürgermobil mit Rene Aust in Meiningen Markt
DESCRIPTION:
URL:https://afd-thl.de/termin/buergermobil-mit-rene-aust-in-meiningen-markt/
CATEGORIES:Bürgermobil
END:VEVENT
BEGIN:VEVENT
DTSTART;TZID=UTC:20210728T100000
DTEND;TZID=UTC:20210728T170000
DTSTAMP:20260424T043102
CREATED:20210628T100424Z
LAST-MODIFIED:20210723T150216Z
UID:22363-1627466400-1627491600@afd-thl.de
SUMMARY:Bürgermobil mit Nadine Hoffmann in Reurieth\, Heldburg und Gleichamberg
DESCRIPTION:
URL:https://afd-thl.de/termin/buergermobil-mit-nadine-hoffmann-in-reurieth-heldburg-und-gleichamberg/
CATEGORIES:Bürgermobil
END:VEVENT
BEGIN:VEVENT
DTSTART;TZID=UTC:20210729T100000
DTEND;TZID=UTC:20210729T170000
DTSTAMP:20260424T043102
CREATED:20210628T100600Z
LAST-MODIFIED:20210723T150046Z
UID:22365-1627552800-1627578000@afd-thl.de
SUMMARY:Bürgermobil mit Nadine Hoffmann in Hildburghausen\, Streufdorf und Themar
DESCRIPTION:
URL:https://afd-thl.de/termin/buergermobil-mit-nadine-hoffmann-in-hildburghausen-streufdorf-und-themar/
CATEGORIES:Bürgermobil
END:VEVENT
BEGIN:VEVENT
DTSTART;TZID=UTC:20210730T080000
DTEND;TZID=UTC:20210730T170000
DTSTAMP:20260424T043102
CREATED:20210628T100755Z
LAST-MODIFIED:20210723T145916Z
UID:22369-1627632000-1627664400@afd-thl.de
SUMMARY:Bürgermobil mit Olaf Kießling in Arnstadt und Plaue
DESCRIPTION:
URL:https://afd-thl.de/termin/buergermobil-mit-olaf-kiessling/
CATEGORIES:Bürgermobil
END:VEVENT
END:VCALENDAR