BEGIN:VCALENDAR
VERSION:2.0
PRODID:-//AfD Fraktion im Thüringer Landtag - ECPv6.15.17.1//NONSGML v1.0//EN
CALSCALE:GREGORIAN
METHOD:PUBLISH
X-ORIGINAL-URL:https://afd-thl.de
X-WR-CALDESC:Veranstaltungen für AfD Fraktion im Thüringer Landtag
REFRESH-INTERVAL;VALUE=DURATION:PT1H
X-Robots-Tag:noindex
X-PUBLISHED-TTL:PT1H
BEGIN:VTIMEZONE
TZID:UTC
BEGIN:STANDARD
TZOFFSETFROM:+0000
TZOFFSETTO:+0000
TZNAME:UTC
DTSTART:20200101T000000
END:STANDARD
END:VTIMEZONE
BEGIN:VEVENT
DTSTART;TZID=UTC:20211101T090000
DTEND;TZID=UTC:20211101T160000
DTSTAMP:20260423T234713
CREATED:20211018T083736Z
LAST-MODIFIED:20211029T114655Z
UID:23283-1635757200-1635782400@afd-thl.de
SUMMARY:Volksbegehren in Eisenach Markt/ Eisenach Karlsplatz
DESCRIPTION:
URL:https://afd-thl.de/termin/volksbegehren-in-eisenach-markt-eisenach-karlsplatz/
CATEGORIES:Bürgermobil
END:VEVENT
BEGIN:VEVENT
DTSTART;TZID=UTC:20211101T190000
DTEND;TZID=UTC:20211101T200000
DTSTAMP:20260423T234713
CREATED:20211029T114935Z
LAST-MODIFIED:20211029T115016Z
UID:23483-1635793200-1635796800@afd-thl.de
SUMMARY:Infostand zum Volksbegehren in Pößneck auf dem Markt
DESCRIPTION:
URL:https://afd-thl.de/termin/infostand-zum-volksbegehren-in-poessneck-auf-dem-markt/
CATEGORIES:Bürgermobil
END:VEVENT
BEGIN:VEVENT
DTSTART;TZID=UTC:20211102T090000
DTEND;TZID=UTC:20211102T130000
DTSTAMP:20260423T234713
CREATED:20211018T083839Z
LAST-MODIFIED:20211029T114504Z
UID:23285-1635843600-1635858000@afd-thl.de
SUMMARY:Bürgermobil mit Corinna Herold
DESCRIPTION:
URL:https://afd-thl.de/termin/buergermobil-mit-corinna-herold-2/
CATEGORIES:Bürgermobil
END:VEVENT
BEGIN:VEVENT
DTSTART;TZID=UTC:20211102T090000
DTEND;TZID=UTC:20211102T130000
DTSTAMP:20260423T234713
CREATED:20211018T083951Z
LAST-MODIFIED:20211029T115444Z
UID:23287-1635843600-1635858000@afd-thl.de
SUMMARY:Volksbegehren in Eisenberg
DESCRIPTION:
URL:https://afd-thl.de/termin/volksbegehren-in-eisenberg/
CATEGORIES:Bürgermobil
END:VEVENT
BEGIN:VEVENT
DTSTART;TZID=UTC:20211102T090000
DTEND;TZID=UTC:20211102T130000
DTSTAMP:20260423T234713
CREATED:20211029T115720Z
LAST-MODIFIED:20211029T115720Z
UID:23489-1635843600-1635858000@afd-thl.de
SUMMARY:Infostand zum Volksbegehren in Neustadt auf dem Markt
DESCRIPTION:
URL:https://afd-thl.de/termin/infostand-zum-volksbegehren-in-neustadt-auf-dem-markt/
CATEGORIES:Bürgermobil
END:VEVENT
BEGIN:VEVENT
DTSTART;TZID=UTC:20211102T100000
DTEND;TZID=UTC:20211102T130000
DTSTAMP:20260423T234713
CREATED:20211029T120040Z
LAST-MODIFIED:20211029T120045Z
UID:23492-1635847200-1635858000@afd-thl.de
SUMMARY:Infostand zum Volksbegehren in Arnstadt auf dem Hopfenbrunnen
DESCRIPTION:
URL:https://afd-thl.de/termin/infostand-zum-volksbegehren-in-arnstadt-auf-dem-hopfenbrunnen/
CATEGORIES:Bürgermobil
END:VEVENT
BEGIN:VEVENT
DTSTART;TZID=UTC:20211103T090000
DTEND;TZID=UTC:20211103T160000
DTSTAMP:20260423T234713
CREATED:20211018T084453Z
LAST-MODIFIED:20211029T120149Z
UID:23291-1635930000-1635955200@afd-thl.de
SUMMARY:Volksbegehren in Bad Langensalza/Markt und Schlotheim/Tankstelle
DESCRIPTION:
URL:https://afd-thl.de/termin/volksbegehren-in-bad-langensalza-und-schlotheim/
CATEGORIES:Bürgermobil
END:VEVENT
BEGIN:VEVENT
DTSTART;TZID=UTC:20211103T100000
DTEND;TZID=UTC:20211103T120000
DTSTAMP:20260423T234713
CREATED:20211101T121058Z
LAST-MODIFIED:20211101T121058Z
UID:23538-1635933600-1635940800@afd-thl.de
SUMMARY:Infostand zum Volksbegehren in Kahla auf dem Martplatz
DESCRIPTION:
URL:https://afd-thl.de/termin/infostand-zum-volksbegehren-in-kahla-auf-dem-martplatz/
CATEGORIES:Bürgermobil
END:VEVENT
BEGIN:VEVENT
DTSTART;TZID=UTC:20211103T150000
DTEND;TZID=UTC:20211103T170000
DTSTAMP:20260423T234713
CREATED:20211029T120806Z
LAST-MODIFIED:20211029T120806Z
UID:23498-1635951600-1635958800@afd-thl.de
SUMMARY:Infostand zum Volksbegehren in Gräfenroda\, Nähe Sparkasse
DESCRIPTION:
URL:https://afd-thl.de/termin/infostand-zum-volksbegehren-in-graefenroda-naehe-sparkasse/
CATEGORIES:Bürgermobil
END:VEVENT
BEGIN:VEVENT
DTSTART;TZID=UTC:20211104T090000
DTEND;TZID=UTC:20211104T120000
DTSTAMP:20260423T234713
CREATED:20211029T121506Z
LAST-MODIFIED:20211029T121506Z
UID:23505-1636016400-1636027200@afd-thl.de
SUMMARY:Infostand zum Volksbegehren in Gotha auf dem Neumarkt
DESCRIPTION:
URL:https://afd-thl.de/termin/infostand-zum-volksbegehren-in-gotha-auf-dem-neumarkt/
END:VEVENT
BEGIN:VEVENT
DTSTART;TZID=UTC:20211104T090000
DTEND;TZID=UTC:20211104T160000
DTSTAMP:20260423T234713
CREATED:20211018T092233Z
LAST-MODIFIED:20211029T121241Z
UID:23298-1636016400-1636041600@afd-thl.de
SUMMARY:Volksbegehren in in Vacha/Markt und Tiefenort/Markt
DESCRIPTION:
URL:https://afd-thl.de/termin/volksbegehren-in-in-vacha-markt-und-tiefenort-markt/
CATEGORIES:Bürgermobil
END:VEVENT
BEGIN:VEVENT
DTSTART;TZID=UTC:20211104T140000
DTEND;TZID=UTC:20211104T160000
DTSTAMP:20260423T234713
CREATED:20211018T092105Z
LAST-MODIFIED:20211018T092105Z
UID:23296-1636034400-1636041600@afd-thl.de
SUMMARY:Bürgermobil mit Tosca Kniese und Denny Jankowski
DESCRIPTION:
URL:https://afd-thl.de/termin/buergermobil-mit-tosca-kniese-und-denny-jankowski/
CATEGORIES:Bürgermobil
END:VEVENT
BEGIN:VEVENT
DTSTART;TZID=UTC:20211104T140000
DTEND;TZID=UTC:20211104T170000
DTSTAMP:20260423T234713
CREATED:20211029T121647Z
LAST-MODIFIED:20211029T121651Z
UID:23508-1636034400-1636045200@afd-thl.de
SUMMARY:Infostand zum Volksbegehren in Goldbach vor der Gemeinde
DESCRIPTION:
URL:https://afd-thl.de/termin/infostand-zum-volksbegehren-in-goldbach-vor-der-gemeinde/
CATEGORIES:Bürgermobil
END:VEVENT
BEGIN:VEVENT
DTSTART;TZID=UTC:20211105T080000
DTEND;TZID=UTC:20211105T170000
DTSTAMP:20260423T234713
CREATED:20211018T092415Z
LAST-MODIFIED:20211029T122553Z
UID:23302-1636099200-1636131600@afd-thl.de
SUMMARY:Bürgermobil mit Olaf Kießling
DESCRIPTION:
URL:https://afd-thl.de/termin/buergermobil-mit-olaf-kiessling-2/
CATEGORIES:Bürgermobil
END:VEVENT
BEGIN:VEVENT
DTSTART;TZID=UTC:20211105T090000
DTEND;TZID=UTC:20211105T120000
DTSTAMP:20260423T234713
CREATED:20211029T122701Z
LAST-MODIFIED:20211029T122706Z
UID:23513-1636102800-1636113600@afd-thl.de
SUMMARY:Infostand zum Volksbegehren in Pößneck auf dem Markt
DESCRIPTION:
URL:https://afd-thl.de/termin/infostand-zum-volksbegehren-in-poessneck-auf-dem-markt-2/
CATEGORIES:Bürgermobil
END:VEVENT
BEGIN:VEVENT
DTSTART;TZID=UTC:20211105T100000
DTEND;TZID=UTC:20211105T180000
DTSTAMP:20260423T234713
CREATED:20211101T121141Z
LAST-MODIFIED:20211101T140131Z
UID:23540-1636106400-1636135200@afd-thl.de
SUMMARY:Infostand zum Volksbegehren in Hermsdorf im Brückencenter
DESCRIPTION:
URL:https://afd-thl.de/termin/infostand-zum-volksbegehren-in-hermsdorf-im-brueckencenter/
CATEGORIES:Bürgermobil
END:VEVENT
BEGIN:VEVENT
DTSTART;TZID=UTC:20211105T140000
DTEND;TZID=UTC:20211105T170000
DTSTAMP:20260423T234713
CREATED:20211029T122932Z
LAST-MODIFIED:20211029T122959Z
UID:23516-1636120800-1636131600@afd-thl.de
SUMMARY:Infostand zum Volksbegehren in Bad Tabarz bei der Sparkasse
DESCRIPTION:
URL:https://afd-thl.de/termin/infostand-zum-volksbegehren-in-bad-tabarz-bei-der-sparkasse/
CATEGORIES:Bürgermobil
END:VEVENT
BEGIN:VEVENT
DTSTART;TZID=UTC:20211106T100000
DTEND;TZID=UTC:20211106T140000
DTSTAMP:20260423T234713
CREATED:20211018T093901Z
LAST-MODIFIED:20211029T123040Z
UID:23304-1636192800-1636207200@afd-thl.de
SUMMARY:Bürgermobil mit Dr. Wolfgang Lauerwald und Dieter Laudenbach
DESCRIPTION:
URL:https://afd-thl.de/termin/buergermobil-mit-dr-wolfgang-lauerwald-und-dieter-laudenbach-2/
CATEGORIES:Bürgermobil
END:VEVENT
BEGIN:VEVENT
DTSTART;TZID=UTC:20211108T090000
DTEND;TZID=UTC:20211108T160000
DTSTAMP:20260423T234713
CREATED:20211018T095139Z
LAST-MODIFIED:20211105T130100Z
UID:23307-1636362000-1636387200@afd-thl.de
SUMMARY:Volksbegehren in Eisenach/Markt
DESCRIPTION:
URL:https://afd-thl.de/termin/volksbegehren-in-eisenach-markt-und-karlsplatz/
CATEGORIES:Bürgermobil
END:VEVENT
BEGIN:VEVENT
DTSTART;TZID=UTC:20211108T190000
DTEND;TZID=UTC:20211108T200000
DTSTAMP:20260423T234713
CREATED:20211105T130856Z
LAST-MODIFIED:20211105T130856Z
UID:23579-1636398000-1636401600@afd-thl.de
SUMMARY:Infostand zum Volksbegehren in Pößneck in der Breiten Straße
DESCRIPTION:
URL:https://afd-thl.de/termin/infostand-zum-volksbegehren-in-poessneck-in-der-breiten-strasse/
CATEGORIES:Bürgermobil
END:VEVENT
BEGIN:VEVENT
DTSTART;TZID=UTC:20211109T080000
DTEND;TZID=UTC:20211109T170000
DTSTAMP:20260423T234713
CREATED:20211018T095315Z
LAST-MODIFIED:20211105T131540Z
UID:23309-1636444800-1636477200@afd-thl.de
SUMMARY:Volksbegehren in Arnstadt/Markt
DESCRIPTION:
URL:https://afd-thl.de/termin/volksbegehren-in-arnstadt-markt/
CATEGORIES:Bürgermobil
END:VEVENT
BEGIN:VEVENT
DTSTART;TZID=UTC:20211109T080000
DTEND;TZID=UTC:20211109T170000
DTSTAMP:20260423T234713
CREATED:20211018T095441Z
LAST-MODIFIED:20211105T131634Z
UID:23311-1636444800-1636477200@afd-thl.de
SUMMARY:Volksbegehren in Greußen/Markt
DESCRIPTION:
URL:https://afd-thl.de/termin/volksbegehren-in-greussen-markt/
CATEGORIES:Bürgermobil
END:VEVENT
BEGIN:VEVENT
DTSTART;TZID=UTC:20211109T090000
DTEND;TZID=UTC:20211109T130000
DTSTAMP:20260423T234713
CREATED:20211105T131059Z
LAST-MODIFIED:20211105T131059Z
UID:23582-1636448400-1636462800@afd-thl.de
SUMMARY:Infostand zum Volksbegehren in Schleiz auf dem Neumarkt
DESCRIPTION:
URL:https://afd-thl.de/termin/infostand-zum-volksbegehren-in-schleiz-auf-dem-neumarkt/
CATEGORIES:Bürgermobil
END:VEVENT
BEGIN:VEVENT
DTSTART;TZID=UTC:20211110T080000
DTEND;TZID=UTC:20211110T170000
DTSTAMP:20260423T234713
CREATED:20211018T095543Z
LAST-MODIFIED:20211105T132002Z
UID:23313-1636531200-1636563600@afd-thl.de
SUMMARY:Volksbegehren in Roßleben/Markt
DESCRIPTION:
URL:https://afd-thl.de/termin/volksbegehren-in-rossleben-markt/
CATEGORIES:Bürgermobil
END:VEVENT
BEGIN:VEVENT
DTSTART;TZID=UTC:20211110T090000
DTEND;TZID=UTC:20211110T150000
DTSTAMP:20260423T234713
CREATED:20211018T095634Z
LAST-MODIFIED:20211109T083617Z
UID:23315-1636534800-1636556400@afd-thl.de
SUMMARY:Volksbegehren in Schmalkalden/Markt
DESCRIPTION:
URL:https://afd-thl.de/termin/volksbegehren-in-schmalkalden-markt/
CATEGORIES:Bürgermobil
END:VEVENT
BEGIN:VEVENT
DTSTART;TZID=UTC:20211111T093000
DTEND;TZID=UTC:20211111T130000
DTSTAMP:20260423T234713
CREATED:20211110T131206Z
LAST-MODIFIED:20211110T131743Z
UID:23629-1636623000-1636635600@afd-thl.de
SUMMARY:Infostand zum Volksbegehren in Weida auf dem Markt
DESCRIPTION:
URL:https://afd-thl.de/termin/infostand-zum-volksbegehren-in-weida-auf-dem-markt/
CATEGORIES:Bürgermobil
END:VEVENT
BEGIN:VEVENT
DTSTART;TZID=UTC:20211111T100000
DTEND;TZID=UTC:20211111T120000
DTSTAMP:20260423T234713
CREATED:20211105T133654Z
LAST-MODIFIED:20211105T133654Z
UID:23598-1636624800-1636632000@afd-thl.de
SUMMARY:Infostand zum Volksbegehren in Ohrdruf bei der Sparkasse
DESCRIPTION:
URL:https://afd-thl.de/termin/infostand-zum-volksbegehren-in-ohrdruf-bei-der-sparkasse/
CATEGORIES:Bürgermobil
END:VEVENT
BEGIN:VEVENT
DTSTART;TZID=UTC:20211111T100000
DTEND;TZID=UTC:20211111T170000
DTSTAMP:20260423T234713
CREATED:20211018T102831Z
LAST-MODIFIED:20211105T133348Z
UID:23319-1636624800-1636650000@afd-thl.de
SUMMARY:Bürgermobil mit Nadine Hoffmann in Hildburghausen\, Heldburg und Themar
DESCRIPTION:
URL:https://afd-thl.de/termin/buergermobil-mit-nadine-hoffmann-in-hildburghausen-heldburg-und-themar-2/
CATEGORIES:Bürgermobil
END:VEVENT
BEGIN:VEVENT
DTSTART;TZID=UTC:20211111T110000
DTEND;TZID=UTC:20211111T130000
DTSTAMP:20260423T234713
CREATED:20211018T102450Z
LAST-MODIFIED:20211110T095718Z
UID:23317-1636628400-1636635600@afd-thl.de
SUMMARY:Bürgermobil mit Birger Gröning in Bad Tabarz
DESCRIPTION:
URL:https://afd-thl.de/termin/buergermobil-mit-birger-groening-in-waltershausen-und-bad-tabarz/
CATEGORIES:Bürgermobil
END:VEVENT
BEGIN:VEVENT
DTSTART;TZID=UTC:20211112T090000
DTEND;TZID=UTC:20211112T150000
DTSTAMP:20260423T234713
CREATED:20211018T105428Z
LAST-MODIFIED:20211111T073453Z
UID:23326-1636707600-1636729200@afd-thl.de
SUMMARY:Volksbegehren in Bad Salzungen am Goethecenter
DESCRIPTION:
URL:https://afd-thl.de/termin/volksbegehren-in-bad-salzungen-markt-und-am-goethecenter/
CATEGORIES:Bürgermobil
END:VEVENT
END:VCALENDAR