BEGIN:VCALENDAR
VERSION:2.0
PRODID:-//AfD Fraktion im Thüringer Landtag - ECPv6.15.17.1//NONSGML v1.0//EN
CALSCALE:GREGORIAN
METHOD:PUBLISH
X-WR-CALNAME:AfD Fraktion im Thüringer Landtag
X-ORIGINAL-URL:https://afd-thl.de
X-WR-CALDESC:Veranstaltungen für AfD Fraktion im Thüringer Landtag
REFRESH-INTERVAL;VALUE=DURATION:PT1H
X-Robots-Tag:noindex
X-PUBLISHED-TTL:PT1H
BEGIN:VTIMEZONE
TZID:UTC
BEGIN:STANDARD
TZOFFSETFROM:+0000
TZOFFSETTO:+0000
TZNAME:UTC
DTSTART:20200101T000000
END:STANDARD
END:VTIMEZONE
BEGIN:VEVENT
DTSTART;TZID=UTC:20211201T090000
DTEND;TZID=UTC:20211201T120000
DTSTAMP:20260423T221549
CREATED:20211126T123301Z
LAST-MODIFIED:20211126T123438Z
UID:23859-1638349200-1638360000@afd-thl.de
SUMMARY:Infostand zum Volksbegehren in Ohrdruf auf dem Marktplatz
DESCRIPTION:
URL:https://afd-thl.de/termin/infostand-zum-volksbegehren-in-ohrdruf-auf-dem-marktplatz/
CATEGORIES:Bürgermobil
END:VEVENT
BEGIN:VEVENT
DTSTART;TZID=UTC:20211201T090000
DTEND;TZID=UTC:20211201T130000
DTSTAMP:20260423T221549
CREATED:20211122T095805Z
LAST-MODIFIED:20211126T123613Z
UID:23786-1638349200-1638363600@afd-thl.de
SUMMARY:Infostand zum Volksbegehren in Erfurt auf dem Domplatz
DESCRIPTION:
URL:https://afd-thl.de/termin/infostand-zum-volksbegehren-in-erfurt-auf-dem-domplatz-2/
CATEGORIES:Bürgermobil
END:VEVENT
BEGIN:VEVENT
DTSTART;TZID=UTC:20211202T080000
DTEND;TZID=UTC:20211202T120000
DTSTAMP:20260423T221549
CREATED:20211126T130910Z
LAST-MODIFIED:20211126T130910Z
UID:23884-1638432000-1638446400@afd-thl.de
SUMMARY:Infostand zum Volksbegehren in Sömmerda auf dem Böblinger Platz
DESCRIPTION:
URL:https://afd-thl.de/termin/infostand-zum-volksbegehren-in-soemmerda-auf-dem-boeblinger-platz/
CATEGORIES:Bürgermobil
END:VEVENT
BEGIN:VEVENT
DTSTART;TZID=UTC:20211202T090000
DTEND;TZID=UTC:20211202T130000
DTSTAMP:20260423T221549
CREATED:20211126T130807Z
LAST-MODIFIED:20211126T130813Z
UID:23881-1638435600-1638450000@afd-thl.de
SUMMARY:Infostand zum Volksbegehren in Erfurt auf dem Domplatz
DESCRIPTION:
URL:https://afd-thl.de/termin/infostand-zum-volksbegehren-in-erfurt-auf-dem-domplatz-3/
CATEGORIES:Bürgermobil
END:VEVENT
BEGIN:VEVENT
DTSTART;TZID=UTC:20211202T150000
DTEND;TZID=UTC:20211202T170000
DTSTAMP:20260423T221549
CREATED:20211126T131022Z
LAST-MODIFIED:20211126T131416Z
UID:23887-1638457200-1638464400@afd-thl.de
SUMMARY:Infostand zum Volksbegehren in Wandersleben / Zentrum
DESCRIPTION:
URL:https://afd-thl.de/termin/infostand-zum-volksbegehren-in-wandersleben-zentrum/
CATEGORIES:Bürgermobil
END:VEVENT
BEGIN:VEVENT
DTSTART;TZID=UTC:20211203T090000
DTEND;TZID=UTC:20211203T130000
DTSTAMP:20260423T221549
CREATED:20211109T110736Z
LAST-MODIFIED:20211126T125641Z
UID:23609-1638522000-1638536400@afd-thl.de
SUMMARY:Infostand zum Volksbegehren in Pößneck\, Breite Straße
DESCRIPTION:
URL:https://afd-thl.de/termin/infostand-zum-volksbegehren-in-poessneck-breite-strasse/
CATEGORIES:Bürgerdialog
END:VEVENT
BEGIN:VEVENT
DTSTART;TZID=UTC:20211203T090000
DTEND;TZID=UTC:20211203T130000
DTSTAMP:20260423T221549
CREATED:20211126T130206Z
LAST-MODIFIED:20211126T130401Z
UID:23875-1638522000-1638536400@afd-thl.de
SUMMARY:Bürgermobil mit Stefan Möller in Gerstungen auf dem Markt
DESCRIPTION:
URL:https://afd-thl.de/termin/buergermobil-mit-stefan-moeller-in-gerstungen-auf-dem-markt/
CATEGORIES:Bürgermobil
END:VEVENT
BEGIN:VEVENT
DTSTART;TZID=UTC:20211203T100000
DTEND;TZID=UTC:20211203T130000
DTSTAMP:20260423T221549
CREATED:20211126T130549Z
LAST-MODIFIED:20211202T103121Z
UID:23878-1638525600-1638536400@afd-thl.de
SUMMARY:Infostand zum Volksbegehren in Meuselwitz auf dem Markt
DESCRIPTION:
URL:https://afd-thl.de/termin/infostand-zum-volksbegehren-in-meuselwitz-auf-dem-markt/
CATEGORIES:Bürgermobil
END:VEVENT
BEGIN:VEVENT
DTSTART;TZID=UTC:20211203T140000
DTEND;TZID=UTC:20211203T170000
DTSTAMP:20260423T221549
CREATED:20211126T130035Z
LAST-MODIFIED:20211126T130035Z
UID:23872-1638540000-1638550800@afd-thl.de
SUMMARY:Infostand zum Volksbegehren in Gotha / Coburger Platz
DESCRIPTION:
URL:https://afd-thl.de/termin/infostand-zum-volksbegehren-in-gotha-coburger-platz/
CATEGORIES:Bürgermobil
END:VEVENT
BEGIN:VEVENT
DTSTART;TZID=UTC:20211204T100000
DTEND;TZID=UTC:20211204T130000
DTSTAMP:20260423T221549
CREATED:20211126T124741Z
LAST-MODIFIED:20211126T124837Z
UID:23865-1638612000-1638622800@afd-thl.de
SUMMARY:Infostand zum Volksbegehren in Gera bei der Endhaltestelle Linie 1
DESCRIPTION:
URL:https://afd-thl.de/termin/infostand-zum-volksbegehren-in-gera-bei-der-endhaltestelle-linie-1/
CATEGORIES:Bürgermobil
END:VEVENT
BEGIN:VEVENT
DTSTART;TZID=UTC:20211207T090000
DTEND;TZID=UTC:20211207T130000
DTSTAMP:20260423T221549
CREATED:20211109T115533Z
LAST-MODIFIED:20211203T124856Z
UID:23617-1638867600-1638882000@afd-thl.de
SUMMARY:Infostand zum Volksbegehren in Schleiz auf dem Neumarkt
DESCRIPTION:
URL:https://afd-thl.de/termin/infostand-zum-volksbegehren-in-schleiz-auf-dem-neumarkt-2/
CATEGORIES:Bürgermobil
END:VEVENT
BEGIN:VEVENT
DTSTART;TZID=UTC:20211207T090000
DTEND;TZID=UTC:20211207T130000
DTSTAMP:20260423T221549
CREATED:20211203T123611Z
LAST-MODIFIED:20211203T123926Z
UID:23933-1638867600-1638882000@afd-thl.de
SUMMARY:Bürgermobil mit Corinna Herold in Erfurt / Platz der Völkerfreundschaft
DESCRIPTION:
URL:https://afd-thl.de/termin/buergermobil-mit-corinna-herold-in-erfurt-platz-der-voelkerfreundschaft-2/
CATEGORIES:Bürgermobil
END:VEVENT
BEGIN:VEVENT
DTSTART;TZID=UTC:20211207T090000
DTEND;TZID=UTC:20211207T130000
DTSTAMP:20260423T221549
CREATED:20211203T125757Z
LAST-MODIFIED:20211203T125757Z
UID:23941-1638867600-1638882000@afd-thl.de
SUMMARY:Infostand zum Volksbegehren in Schmölln auf dem Markt
DESCRIPTION:
URL:https://afd-thl.de/termin/infostand-zum-volksbegehren-in-schmoelln-auf-dem-markt/
CATEGORIES:Bürgermobil
END:VEVENT
BEGIN:VEVENT
DTSTART;TZID=UTC:20211207T140000
DTEND;TZID=UTC:20211207T170000
DTSTAMP:20260423T221549
CREATED:20211203T130632Z
LAST-MODIFIED:20211203T130632Z
UID:23946-1638885600-1638896400@afd-thl.de
SUMMARY:Infostand zum Volksbegehren in Wechmar vor dem Bürgerzentrum
DESCRIPTION:
URL:https://afd-thl.de/termin/infostand-zum-volksbegehren-in-wechmar-vor-dem-buergerzentrum/
CATEGORIES:Bürgermobil
END:VEVENT
BEGIN:VEVENT
DTSTART;TZID=UTC:20211207T160000
DTEND;TZID=UTC:20211207T170000
DTSTAMP:20260423T221549
CREATED:20211130T051901Z
LAST-MODIFIED:20211203T125446Z
UID:23894-1638892800-1638896400@afd-thl.de
SUMMARY:Infostand zum Volksbegehren in Buttelstedt / Parkplatz Karlsplatz
DESCRIPTION:
URL:https://afd-thl.de/termin/infostand-zum-volksbegehren-in-buttstedt-parkplatz-karlsplatz/
CATEGORIES:Bürgermobil
END:VEVENT
BEGIN:VEVENT
DTSTART;TZID=UTC:20211208T090000
DTEND;TZID=UTC:20211208T130000
DTSTAMP:20260423T221549
CREATED:20211109T114454Z
LAST-MODIFIED:20211203T130902Z
UID:23613-1638954000-1638968400@afd-thl.de
SUMMARY:Infostand zum Volksbegehren in Bad Lobenstein auf dem Markt
DESCRIPTION:
URL:https://afd-thl.de/termin/infostand-zum-volksbegehren-in-bad-lobenstein-auf-dem-markt-2/
CATEGORIES:Bürgermobil
END:VEVENT
BEGIN:VEVENT
DTSTART;TZID=UTC:20211208T090000
DTEND;TZID=UTC:20211208T130000
DTSTAMP:20260423T221549
CREATED:20211203T131612Z
LAST-MODIFIED:20211203T131617Z
UID:23956-1638954000-1638968400@afd-thl.de
SUMMARY:Infostand zum Volksbegehren in Rudolstadt auf dem Markt
DESCRIPTION:
URL:https://afd-thl.de/termin/infostand-zum-volksbegehren-in-rudolstadt-auf-dem-markt/
CATEGORIES:Bürgermobil
END:VEVENT
BEGIN:VEVENT
DTSTART;TZID=UTC:20211208T090000
DTEND;TZID=UTC:20211208T130000
DTSTAMP:20260423T221549
CREATED:20211203T131838Z
LAST-MODIFIED:20211203T131838Z
UID:23959-1638954000-1638968400@afd-thl.de
SUMMARY:Infostand zum Volksbegehren in Ohrdruf auf dem Markt
DESCRIPTION:
URL:https://afd-thl.de/termin/infostand-zum-volksbegehren-in-ohrdruf-auf-dem-markt/
CATEGORIES:Bürgermobil
END:VEVENT
BEGIN:VEVENT
DTSTART;TZID=UTC:20211208T140000
DTEND;TZID=UTC:20211208T170000
DTSTAMP:20260423T221549
CREATED:20211203T132510Z
LAST-MODIFIED:20211203T132510Z
UID:23962-1638972000-1638982800@afd-thl.de
SUMMARY:Infostand zum Volksbegehren in Friedrichroda vor dem Nahkauf
DESCRIPTION:
URL:https://afd-thl.de/termin/infostand-zum-volksbegehren-in-friedrichroda-vor-dem-nahkauf/
CATEGORIES:Bürgermobil
END:VEVENT
BEGIN:VEVENT
DTSTART;TZID=UTC:20211209T090000
DTEND;TZID=UTC:20211209T130000
DTSTAMP:20260423T221549
CREATED:20211203T132938Z
LAST-MODIFIED:20211203T133238Z
UID:23967-1639040400-1639054800@afd-thl.de
SUMMARY:Infostand zum Volksbegehren in Sonneberg vor dem Markt
DESCRIPTION:
URL:https://afd-thl.de/termin/infostand-zum-volksbegehren-in-sonneberg-vor-dem-markt/
CATEGORIES:Bürgermobil
END:VEVENT
BEGIN:VEVENT
DTSTART;TZID=UTC:20211209T100000
DTEND;TZID=UTC:20211209T130000
DTSTAMP:20260423T221549
CREATED:20211203T133851Z
LAST-MODIFIED:20211203T133851Z
UID:23974-1639044000-1639054800@afd-thl.de
SUMMARY:Infostand zum Volksbegehren in Waltershausen auf dem Marktplatz
DESCRIPTION:
URL:https://afd-thl.de/termin/infostand-zum-volksbegehren-in-waltershausen-auf-dem-marktplatz/
CATEGORIES:Bürgermobil
END:VEVENT
BEGIN:VEVENT
DTSTART;TZID=UTC:20211209T150000
DTEND;TZID=UTC:20211209T170000
DTSTAMP:20260423T221549
CREATED:20211130T051613Z
LAST-MODIFIED:20211130T051613Z
UID:23892-1639062000-1639069200@afd-thl.de
SUMMARY:Infostand zum Volksbegehren in Bad Berka / Bushaltestelle Blankenhainer Straße
DESCRIPTION:
URL:https://afd-thl.de/termin/infostand-zum-volksbegehren-in-bad-berka-bushaltestelle-blankenhainer-strasse/
CATEGORIES:Bürgermobil
END:VEVENT
BEGIN:VEVENT
DTSTART;TZID=UTC:20211209T150000
DTEND;TZID=UTC:20211209T170000
DTSTAMP:20260423T221549
CREATED:20211203T133409Z
LAST-MODIFIED:20211203T133414Z
UID:23971-1639062000-1639069200@afd-thl.de
SUMMARY:Infostand zum Volksbegehren in Bad Berka / Bushaltestelle Blankenhainer Straße
DESCRIPTION:
URL:https://afd-thl.de/termin/infostand-zum-volksbegehren-in-bad-berka-bushaltestelle-blankenhainer-strasse-2/
CATEGORIES:Bürgermobil
END:VEVENT
BEGIN:VEVENT
DTSTART;TZID=UTC:20211210T130000
DTEND;TZID=UTC:20211210T170000
DTSTAMP:20260423T221549
CREATED:20210730T073510Z
LAST-MODIFIED:20211203T134850Z
UID:22678-1639141200-1639155600@afd-thl.de
SUMMARY:Bürgermobil mit Nadine Hoffmann in Schweickershausen\, Gleicherwiesen\, Römhild und Jüchsen
DESCRIPTION:
URL:https://afd-thl.de/termin/buergermobil-mit-nadine-hoffmann-in-hildburghausen-streufdorf-und-schweikershausen/
CATEGORIES:Bürgermobil
END:VEVENT
BEGIN:VEVENT
DTSTART;TZID=UTC:20211210T140000
DTEND;TZID=UTC:20211210T160000
DTSTAMP:20260423T221550
CREATED:20211130T051503Z
LAST-MODIFIED:20211203T134357Z
UID:23890-1639144800-1639152000@afd-thl.de
SUMMARY:Infostand zum Volksbegehren in Nohra / Bushaltestelle an der B7
DESCRIPTION:
URL:https://afd-thl.de/termin/infostand-zum-volksbegehren-in-nohra-bushaltestelle-an-der-b7/
CATEGORIES:Bürgermobil
END:VEVENT
BEGIN:VEVENT
DTSTART;TZID=UTC:20211210T140000
DTEND;TZID=UTC:20211210T170000
DTSTAMP:20260423T221550
CREATED:20211203T134800Z
LAST-MODIFIED:20211203T134800Z
UID:23983-1639144800-1639155600@afd-thl.de
SUMMARY:Infostand zum Volksbegehren in Bad Tabarz / Spindlerplatz
DESCRIPTION:
URL:https://afd-thl.de/termin/infostand-zum-volksbegehren-in-bad-tabarz-spindlerplatz/
CATEGORIES:Bürgermobil
END:VEVENT
BEGIN:VEVENT
DTSTART;TZID=UTC:20211220T090000
DTEND;TZID=UTC:20211220T130000
DTSTAMP:20260423T221550
CREATED:20211217T154748Z
LAST-MODIFIED:20211217T155557Z
UID:24147-1639990800-1640005200@afd-thl.de
SUMMARY:Infomobil mit Birger Gröning in Gotha auf dem Neumarkt und auf dem Coburger Platz
DESCRIPTION:
URL:https://afd-thl.de/termin/infomobil-mit-birger-groening-in-gotha-auf-dem-neumarkt-und-auf-dem-coburger-platz/
CATEGORIES:Bürgermobil
END:VEVENT
END:VCALENDAR