BEGIN:VCALENDAR
VERSION:2.0
PRODID:-//AfD Fraktion im Thüringer Landtag - ECPv6.15.17.1//NONSGML v1.0//EN
CALSCALE:GREGORIAN
METHOD:PUBLISH
X-ORIGINAL-URL:https://afd-thl.de
X-WR-CALDESC:Veranstaltungen für AfD Fraktion im Thüringer Landtag
REFRESH-INTERVAL;VALUE=DURATION:PT1H
X-Robots-Tag:noindex
X-PUBLISHED-TTL:PT1H
BEGIN:VTIMEZONE
TZID:UTC
BEGIN:STANDARD
TZOFFSETFROM:+0000
TZOFFSETTO:+0000
TZNAME:UTC
DTSTART:20210101T000000
END:STANDARD
END:VTIMEZONE
BEGIN:VEVENT
DTSTART;TZID=UTC:20220208T093000
DTEND;TZID=UTC:20220208T123000
DTSTAMP:20260423T190914
CREATED:20220128T124646Z
LAST-MODIFIED:20220204T070055Z
UID:24609-1644312600-1644323400@afd-thl.de
SUMMARY:Bürgermobil mit Thomas Gröger in Mühlhausen\, Obermarkt
DESCRIPTION:
URL:https://afd-thl.de/termin/buergermobil-mit-thomas-groeger-in-muehlhausen-obermarkt/
CATEGORIES:Bürgermobil
END:VEVENT
BEGIN:VEVENT
DTSTART;TZID=UTC:20220209T080000
DTEND;TZID=UTC:20220209T120000
DTSTAMP:20260423T190914
CREATED:20220128T124754Z
LAST-MODIFIED:20220204T070216Z
UID:24611-1644393600-1644408000@afd-thl.de
SUMMARY:Bürgermobil mit Torsten Czuppon in Kindelbrück\, Markt
DESCRIPTION:
URL:https://afd-thl.de/termin/buergermobil-mit-torsten-czuppon-in-kindelbrueck-markt/
CATEGORIES:Bürgermobil
END:VEVENT
BEGIN:VEVENT
DTSTART;TZID=UTC:20220209T090000
DTEND;TZID=UTC:20220209T120000
DTSTAMP:20260423T190914
CREATED:20220128T125417Z
LAST-MODIFIED:20220204T070333Z
UID:24622-1644397200-1644408000@afd-thl.de
SUMMARY:Bürgermobil mit Corinna Herold auf dem Moskauer Platz
DESCRIPTION:
URL:https://afd-thl.de/termin/buergermobil-mit-corinna-herold-auf-dem-moskauer-platz/
CATEGORIES:Bürgermobil
END:VEVENT
BEGIN:VEVENT
DTSTART;TZID=UTC:20220210T090000
DTEND;TZID=UTC:20220210T130000
DTSTAMP:20260423T190914
CREATED:20220128T125659Z
LAST-MODIFIED:20220204T071036Z
UID:24628-1644483600-1644498000@afd-thl.de
SUMMARY:Bürgermobil mit Thomas Rudy in Schmölln\, Markt
DESCRIPTION:
URL:https://afd-thl.de/termin/buergermobil-mit-thomas-rudy-in-schmoelln-markt/
CATEGORIES:Bürgermobil
END:VEVENT
BEGIN:VEVENT
DTSTART;TZID=UTC:20220211T080000
DTEND;TZID=UTC:20220211T130000
DTSTAMP:20260423T190914
CREATED:20220204T071422Z
LAST-MODIFIED:20220204T071438Z
UID:24755-1644566400-1644584400@afd-thl.de
SUMMARY:Bürgermobil mit Jens Cotta in Artern auf dem Markt
DESCRIPTION:
URL:https://afd-thl.de/termin/buergermobil-mit-jens-cotta-in-artern-auf-dem-markt/
CATEGORIES:Bürgermobil
END:VEVENT
BEGIN:VEVENT
DTSTART;TZID=UTC:20220212T100000
DTEND;TZID=UTC:20220212T130000
DTSTAMP:20260423T190914
CREATED:20220128T130127Z
LAST-MODIFIED:20220204T082406Z
UID:24634-1644660000-1644670800@afd-thl.de
SUMMARY:Bürgermobil mit Dieter Laudenbach und Dr. med. Wolfgang Lauerwald in Gera\, Stadtmuseum
DESCRIPTION:
URL:https://afd-thl.de/termin/buergermobil-mit-dieter-laudenbach-und-dr-med-wolfgang-lauerwald-in-gera-stadtmuseum/
CATEGORIES:Bürgermobil
END:VEVENT
BEGIN:VEVENT
DTSTART;TZID=UTC:20220214T090000
DTEND;TZID=UTC:20220214T130000
DTSTAMP:20260423T190914
CREATED:20220128T125811Z
LAST-MODIFIED:20220211T070627Z
UID:24630-1644829200-1644843600@afd-thl.de
SUMMARY:Bürgermobil mit Birger Gröning in Gotha\, Neumarkt und Coburger Platz
DESCRIPTION:
URL:https://afd-thl.de/termin/buergermobil-mit-birger-groening-in-gotha-neumarkt-und-coburger-platz/
CATEGORIES:Bürgermobil
END:VEVENT
BEGIN:VEVENT
DTSTART;TZID=UTC:20220215T090000
DTEND;TZID=UTC:20220215T130000
DTSTAMP:20260423T190914
CREATED:20220204T062739Z
LAST-MODIFIED:20220211T070837Z
UID:24742-1644915600-1644930000@afd-thl.de
SUMMARY:Bürgermobil mit Rene Aust in Schmalkalden auf dem Altmarkt
DESCRIPTION:
URL:https://afd-thl.de/termin/buergermobil-mit-rene-aust-in-schmalkalden-auf-dem-altmarkt/
CATEGORIES:Bürgermobil
END:VEVENT
BEGIN:VEVENT
DTSTART;TZID=UTC:20220215T090000
DTEND;TZID=UTC:20220215T153000
DTSTAMP:20260423T190914
CREATED:20220128T125254Z
LAST-MODIFIED:20220211T070724Z
UID:24619-1644915600-1644939000@afd-thl.de
SUMMARY:Bürgermobil mit Robert Sesselmann in Neuhaus am Rennweg\, Lichte und Lauscha
DESCRIPTION:
URL:https://afd-thl.de/termin/buergermobil-mit-robert-sesselmann-in-neuhaus-am-rennweg-lichte-und-lauscha/
CATEGORIES:Bürgermobil
END:VEVENT
BEGIN:VEVENT
DTSTART;TZID=UTC:20220216T090000
DTEND;TZID=UTC:20220216T130000
DTSTAMP:20260423T190914
CREATED:20220128T125614Z
LAST-MODIFIED:20220211T070943Z
UID:24626-1645002000-1645016400@afd-thl.de
SUMMARY:Bürgermobil mit Thomas Rudy in Altenburg\, Markt
DESCRIPTION:
URL:https://afd-thl.de/termin/buergermobil-mit-thomas-rudy-in-altenburg-markt/
CATEGORIES:Bürgermobil
END:VEVENT
BEGIN:VEVENT
DTSTART;TZID=UTC:20220217T080000
DTEND;TZID=UTC:20220217T120000
DTSTAMP:20260423T190914
CREATED:20220128T125518Z
LAST-MODIFIED:20220210T115938Z
UID:24624-1645084800-1645099200@afd-thl.de
SUMMARY:Bürgermobil mit Torsten Czuppon in Buttstädt\, Markt
DESCRIPTION:
URL:https://afd-thl.de/termin/buergermobil-mit-torsten-czuppon-in-buttstaedt-markt-2/
CATEGORIES:Bürgermobil
END:VEVENT
BEGIN:VEVENT
DTSTART;TZID=UTC:20220217T100000
DTEND;TZID=UTC:20220217T153000
DTSTAMP:20260423T190914
CREATED:20220105T070532Z
LAST-MODIFIED:20220211T070513Z
UID:24188-1645092000-1645111800@afd-thl.de
SUMMARY:Bürgermobil mit Nadine Hoffmann in Hildburghausen\, Streufdorf und Heldburg
DESCRIPTION:
URL:https://afd-thl.de/termin/buergermobil-mit-nadine-hoffmann-in-hildburghausen-streufdorf-und-heldburg/
CATEGORIES:Bürgermobil
END:VEVENT
BEGIN:VEVENT
DTSTART;TZID=UTC:20220218T100000
DTEND;TZID=UTC:20220218T170000
DTSTAMP:20260423T190914
CREATED:20220128T125948Z
LAST-MODIFIED:20220211T071516Z
UID:24632-1645178400-1645203600@afd-thl.de
SUMMARY:Bürgermobil mit Ringo Mühlmann in Remda und Kranichfeld
DESCRIPTION:
URL:https://afd-thl.de/termin/buergermobil-mit-ringo-muehlmann-in-remda-und-kranichfeld/
CATEGORIES:Bürgermobil
END:VEVENT
BEGIN:VEVENT
DTSTART;TZID=UTC:20220221T080000
DTEND;TZID=UTC:20220221T170000
DTSTAMP:20260423T190914
CREATED:20220128T125052Z
LAST-MODIFIED:20220217T121601Z
UID:24617-1645430400-1645462800@afd-thl.de
SUMMARY:Bürgermobil mit Birger Gröning\, Dörfertour
DESCRIPTION:
URL:https://afd-thl.de/termin/buergermobil-mit-birger-groening-doerfertour-2/
CATEGORIES:Bürgermobil
END:VEVENT
BEGIN:VEVENT
DTSTART;TZID=UTC:20220222T090000
DTEND;TZID=UTC:20220222T120000
DTSTAMP:20260423T190914
CREATED:20220128T124959Z
LAST-MODIFIED:20220217T121800Z
UID:24615-1645520400-1645531200@afd-thl.de
SUMMARY:Bürgermobil mit Corinna Herold Rieth/Rewe
DESCRIPTION:
URL:https://afd-thl.de/termin/buergermobil-mit-corinna-herold-rieth-rewe/
CATEGORIES:Bürgermobil
END:VEVENT
END:VCALENDAR