BEGIN:VCALENDAR
VERSION:2.0
PRODID:-//AfD Fraktion im Thüringer Landtag - ECPv6.15.17.1//NONSGML v1.0//EN
CALSCALE:GREGORIAN
METHOD:PUBLISH
X-ORIGINAL-URL:https://afd-thl.de
X-WR-CALDESC:Veranstaltungen für AfD Fraktion im Thüringer Landtag
REFRESH-INTERVAL;VALUE=DURATION:PT1H
X-Robots-Tag:noindex
X-PUBLISHED-TTL:PT1H
BEGIN:VTIMEZONE
TZID:UTC
BEGIN:STANDARD
TZOFFSETFROM:+0000
TZOFFSETTO:+0000
TZNAME:UTC
DTSTART:20210101T000000
END:STANDARD
END:VTIMEZONE
BEGIN:VEVENT
DTSTART;TZID=UTC:20221004T090000
DTEND;TZID=UTC:20221004T130000
DTSTAMP:20260423T094501
CREATED:20220912T050843Z
LAST-MODIFIED:20220912T050843Z
UID:27460-1664874000-1664888400@afd-thl.de
SUMMARY:Bürgermobil mit Corinna Herold in Erfurt auf dem Moskauer Platz
DESCRIPTION:
URL:https://afd-thl.de/termin/buergermobil-mit-corinna-herold-in-erfurt-auf-dem-moskauer-platz/
CATEGORIES:Bürgermobil
END:VEVENT
BEGIN:VEVENT
DTSTART;TZID=UTC:20221004T163000
DTEND;TZID=UTC:20221004T190000
DTSTAMP:20260423T094501
CREATED:20220912T052518Z
LAST-MODIFIED:20220912T052534Z
UID:27462-1664901000-1664910000@afd-thl.de
SUMMARY:Bürgermobil mit Uwe Thrum in Mittelpollnitz und Dreitzsch
DESCRIPTION:
URL:https://afd-thl.de/termin/buergermobil-mit-uwe-thrum-in-mittelpollnitz-und-dreitzsch/
CATEGORIES:Bürgermobil
END:VEVENT
BEGIN:VEVENT
DTSTART;TZID=UTC:20221007T090000
DTEND;TZID=UTC:20221007T130000
DTSTAMP:20260423T094501
CREATED:20220912T053451Z
LAST-MODIFIED:20221005T053655Z
UID:27472-1665133200-1665147600@afd-thl.de
SUMMARY:Bürgermobil in Sondershausen auf dem Markt
DESCRIPTION:
URL:https://afd-thl.de/termin/buergermobil-in-sondershausen-auf-dem-markt/
CATEGORIES:Bürgermobil
END:VEVENT
BEGIN:VEVENT
DTSTART;TZID=UTC:20221007T180000
DTEND;TZID=UTC:20221007T210000
DTSTAMP:20260423T094501
CREATED:20220912T053413Z
LAST-MODIFIED:20221005T111119Z
UID:27470-1665165600-1665176400@afd-thl.de
SUMMARY:Bürgerdialog mit Nadine Hoffmann in Jüchsen im Kulturhaus
DESCRIPTION:
URL:https://afd-thl.de/termin/buergerdialog-mit-nadine-hoffmann-in-juechsen-im-kulturhaus/
CATEGORIES:Bürgerdialog
END:VEVENT
BEGIN:VEVENT
DTSTART;TZID=UTC:20221008T100000
DTEND;TZID=UTC:20221008T140000
DTSTAMP:20260423T094501
CREATED:20220928T072150Z
LAST-MODIFIED:20221005T053746Z
UID:27712-1665223200-1665237600@afd-thl.de
SUMMARY:Bürgermobil in Gera
DESCRIPTION:
URL:https://afd-thl.de/termin/buergermobil-in-gera-3/
END:VEVENT
BEGIN:VEVENT
DTSTART;TZID=UTC:20221010T090000
DTEND;TZID=UTC:20221010T130000
DTSTAMP:20260423T094501
CREATED:20220912T053626Z
LAST-MODIFIED:20221007T083842Z
UID:27474-1665392400-1665406800@afd-thl.de
SUMMARY:Bürgermobil in Bad Salzungen vor dem Goethecenter
DESCRIPTION:
URL:https://afd-thl.de/termin/buergermobil-in-bad-salzungen-vor-dem-goethecenter/
CATEGORIES:Bürgermobil
END:VEVENT
BEGIN:VEVENT
DTSTART;TZID=UTC:20221012T100000
DTEND;TZID=UTC:20221012T130000
DTSTAMP:20260423T094501
CREATED:20220930T160047Z
LAST-MODIFIED:20221007T090650Z
UID:27753-1665568800-1665579600@afd-thl.de
SUMMARY:Bürgermobil mit Ringo Mühlmann in Bad Berka
DESCRIPTION:
URL:https://afd-thl.de/termin/buergermobil-mit-ringo-muehlmann-in-bad-berka-2/
CATEGORIES:Bürgermobil
END:VEVENT
BEGIN:VEVENT
DTSTART;TZID=UTC:20221013T130000
DTEND;TZID=UTC:20221013T160000
DTSTAMP:20260423T094501
CREATED:20220912T061400Z
LAST-MODIFIED:20221007T090135Z
UID:27482-1665666000-1665676800@afd-thl.de
SUMMARY:Bürgermobil mit Denny Jankowski in Hermsdorf vor dem Brückencenter
DESCRIPTION:
URL:https://afd-thl.de/termin/buergermobil-mit-denny-jankowski-in-hermsdorf-vor-dem-brtueckencenter/
CATEGORIES:Bürgermobil
END:VEVENT
BEGIN:VEVENT
DTSTART;TZID=UTC:20221014T150000
DTEND;TZID=UTC:20221014T170000
DTSTAMP:20260423T094501
CREATED:20220912T062404Z
LAST-MODIFIED:20221007T085632Z
UID:27490-1665759600-1665766800@afd-thl.de
SUMMARY:Bürgermobil mit Torsten Czuppon in Weimar\, Theaterplatz
DESCRIPTION:
URL:https://afd-thl.de/termin/buergermobil-mit-torsten-czuppon-in-straussfurt/
CATEGORIES:Bürgermobil
END:VEVENT
BEGIN:VEVENT
DTSTART;TZID=UTC:20221018T100000
DTEND;TZID=UTC:20221018T130000
DTSTAMP:20260423T094501
CREATED:20220912T064336Z
LAST-MODIFIED:20221014T101355Z
UID:27496-1666087200-1666098000@afd-thl.de
SUMMARY:Bürgermobil mit Denny Jankowski in Stadtroda\, Str. d. Friedens gg. Rathaus
DESCRIPTION:
URL:https://afd-thl.de/termin/buergermobil-mit-denny-jankowski-in-stadtroda-str-d-friedens-gg-rathaus/
CATEGORIES:Bürgermobil
END:VEVENT
BEGIN:VEVENT
DTSTART;TZID=UTC:20221018T100000
DTEND;TZID=UTC:20221018T180000
DTSTAMP:20260423T094501
CREATED:20220912T064632Z
LAST-MODIFIED:20221017T094806Z
UID:27498-1666087200-1666116000@afd-thl.de
SUMMARY:Bürgermobil mit Olaf Kießling in Arnstadt (Hopfenbrunnen) und Geschwenda (Apotheke)
DESCRIPTION:
URL:https://afd-thl.de/termin/buergermobil-mit-olaf-kiessling-in-arnstadt-hopfenbrunnen-und-geschwenda-apotheke/
CATEGORIES:Bürgermobil
END:VEVENT
BEGIN:VEVENT
DTSTART;TZID=UTC:20221019T080000
DTEND;TZID=UTC:20221019T120000
DTSTAMP:20260423T094501
CREATED:20220912T082303Z
LAST-MODIFIED:20221014T101754Z
UID:27500-1666166400-1666180800@afd-thl.de
SUMMARY:Bürgermobil mit Torsten Czuppon in Buttstädt auf dem Markt
DESCRIPTION:
URL:https://afd-thl.de/termin/buergermobil-mit-torsten-czuppon-in-buttstaedt-auf-dem-markt/
CATEGORIES:Bürgermobil
END:VEVENT
BEGIN:VEVENT
DTSTART;TZID=UTC:20221020T090000
DTEND;TZID=UTC:20221020T130000
DTSTAMP:20260423T094501
CREATED:20220912T082404Z
LAST-MODIFIED:20221014T084842Z
UID:27505-1666256400-1666270800@afd-thl.de
SUMMARY:Bürgermobil in Schmölln auf dem Markt
DESCRIPTION:
URL:https://afd-thl.de/termin/buergermobil-in-schmoelln-auf-dem-markt/
CATEGORIES:Bürgermobil
END:VEVENT
BEGIN:VEVENT
DTSTART;TZID=UTC:20221020T100000
DTEND;TZID=UTC:20221020T130000
DTSTAMP:20260423T094501
CREATED:20220912T062021Z
LAST-MODIFIED:20221014T073722Z
UID:27485-1666260000-1666270800@afd-thl.de
SUMMARY:Bürgermobil mit Nadine Hoffmann in Hildburghausen
DESCRIPTION:
URL:https://afd-thl.de/termin/buergermobil-mit-nadine-hoffmann-in-hildburghausen-streufdorf-und-heldburg-5/
CATEGORIES:Bürgermobil
END:VEVENT
BEGIN:VEVENT
DTSTART;TZID=UTC:20221021T090000
DTEND;TZID=UTC:20221021T130000
DTSTAMP:20260423T094501
CREATED:20220912T082511Z
LAST-MODIFIED:20221014T092246Z
UID:27507-1666342800-1666357200@afd-thl.de
SUMMARY:Bürgermobil mit Karlheinz Frosch in Königsee und Bad Blankenburg
DESCRIPTION:
URL:https://afd-thl.de/termin/buergermobil-mit-karlheinz-frosch-in-koenigsee-und-bad-blankenburg/
CATEGORIES:Bürgermobil
END:VEVENT
BEGIN:VEVENT
DTSTART;TZID=UTC:20221024T090000
DTEND;TZID=UTC:20221024T130000
DTSTAMP:20260423T094501
CREATED:20220912T082742Z
LAST-MODIFIED:20221014T102323Z
UID:27511-1666602000-1666616400@afd-thl.de
SUMMARY:Bürgermobil mit Ringo Mühlmann in Mellingen
DESCRIPTION:
URL:https://afd-thl.de/termin/buergermobil-mit-ringo-muehlmann-in-mellingen/
CATEGORIES:Bürgermobil
END:VEVENT
BEGIN:VEVENT
DTSTART;TZID=UTC:20221024T090000
DTEND;TZID=UTC:20221024T130000
DTSTAMP:20260423T094501
CREATED:20220912T082815Z
LAST-MODIFIED:20221014T085220Z
UID:27513-1666602000-1666616400@afd-thl.de
SUMMARY:Bürgermobil in Ohrdruf auf dem Markt
DESCRIPTION:
URL:https://afd-thl.de/termin/buergermobil-in-ohrdruf-auf-dem-markt/
CATEGORIES:Bürgermobil
END:VEVENT
BEGIN:VEVENT
DTSTART;TZID=UTC:20221025T090000
DTEND;TZID=UTC:20221025T130000
DTSTAMP:20260423T094501
CREATED:20220912T082901Z
LAST-MODIFIED:20221014T084939Z
UID:27515-1666688400-1666702800@afd-thl.de
SUMMARY:Bürgermobil in Mühlhausen auf dem Obermarkt
DESCRIPTION:
URL:https://afd-thl.de/termin/buergermobil-in-muehlhausen-auf-dem-obermarkt/
CATEGORIES:Bürgermobil
END:VEVENT
BEGIN:VEVENT
DTSTART;TZID=UTC:20221026T100000
DTEND;TZID=UTC:20221026T180000
DTSTAMP:20260423T094501
CREATED:20220912T082959Z
LAST-MODIFIED:20221014T082446Z
UID:27517-1666778400-1666807200@afd-thl.de
SUMMARY:Bürgermobil mit Olaf Kießling in Langwiesen und Ilmenau
DESCRIPTION:
URL:https://afd-thl.de/termin/buergermobil-mit-olaf-kiessling-in-langwiesen-und-ilmenau/
CATEGORIES:Bürgermobil
END:VEVENT
BEGIN:VEVENT
DTSTART;TZID=UTC:20221027T090000
DTEND;TZID=UTC:20221027T130000
DTSTAMP:20260423T094501
CREATED:20220912T083146Z
LAST-MODIFIED:20221014T093648Z
UID:27521-1666861200-1666875600@afd-thl.de
SUMMARY:Bürgermobil mit Jens Cotta in Greußen auf dem Markt
DESCRIPTION:
URL:https://afd-thl.de/termin/buergermobil-mit-jens-cotta-in-greussen-auf-dem-markt/
CATEGORIES:Bürgermobil
END:VEVENT
BEGIN:VEVENT
DTSTART;TZID=UTC:20221028T090000
DTEND;TZID=UTC:20221028T130000
DTSTAMP:20260423T094501
CREATED:20221025T085534Z
LAST-MODIFIED:20221026T053306Z
UID:28053-1666947600-1666962000@afd-thl.de
SUMMARY:Bürgermobil mit Thomas Rudy in Gößnitz auf dem Markt
DESCRIPTION:
URL:https://afd-thl.de/termin/buergermobil-mit-thomas-rudy-in-goessnitz/
CATEGORIES:Bürgermobil
END:VEVENT
END:VCALENDAR