BEGIN:VCALENDAR
VERSION:2.0
PRODID:-//AfD Fraktion im Thüringer Landtag - ECPv6.15.17.1//NONSGML v1.0//EN
CALSCALE:GREGORIAN
METHOD:PUBLISH
X-WR-CALNAME:AfD Fraktion im Thüringer Landtag
X-ORIGINAL-URL:https://afd-thl.de
X-WR-CALDESC:Veranstaltungen für AfD Fraktion im Thüringer Landtag
REFRESH-INTERVAL;VALUE=DURATION:PT1H
X-Robots-Tag:noindex
X-PUBLISHED-TTL:PT1H
BEGIN:VTIMEZONE
TZID:UTC
BEGIN:STANDARD
TZOFFSETFROM:+0000
TZOFFSETTO:+0000
TZNAME:UTC
DTSTART:20220101T000000
END:STANDARD
END:VTIMEZONE
BEGIN:VEVENT
DTSTART;TZID=UTC:20230111T090000
DTEND;TZID=UTC:20230111T120000
DTSTAMP:20260423T041007
CREATED:20221209T064230Z
LAST-MODIFIED:20221212T075308Z
UID:28553-1673427600-1673438400@afd-thl.de
SUMMARY:Bürgermobil mit Ringo Mühlmann in Apolda Bahnhofstraße/Dornsgasse
DESCRIPTION:
URL:https://afd-thl.de/termin/buergermobil-mit-ringo-muehlmann-in-apolda-bahnhofstrasse/
CATEGORIES:Bürgermobil
END:VEVENT
BEGIN:VEVENT
DTSTART;TZID=UTC:20230112T150000
DTEND;TZID=UTC:20230112T170000
DTSTAMP:20260423T041007
CREATED:20221209T064920Z
LAST-MODIFIED:20230104T112314Z
UID:28555-1673535600-1673542800@afd-thl.de
SUMMARY:Bürgermobil mit Torsten Czuppon in Sömmerda vor der Stadtmusikschule
DESCRIPTION:
URL:https://afd-thl.de/termin/buergermobil-mit-torsten-czuppon-in-soemmerda-vor-dem-rathaus/
CATEGORIES:Bürgermobil
END:VEVENT
BEGIN:VEVENT
DTSTART;TZID=UTC:20230114T100000
DTEND;TZID=UTC:20230114T140000
DTSTAMP:20260423T041007
CREATED:20230105T131454Z
LAST-MODIFIED:20230105T131454Z
UID:28976-1673690400-1673704800@afd-thl.de
SUMMARY:Bürgermobiltermin mit Dr. Wolfgang Lauerwald und Dieter Laudenbach in Gera vor der Stadtmuseum
DESCRIPTION:
URL:https://afd-thl.de/termin/buergermobiltermin-mit-dr-wolfgang-lauerwald-und-dieter-laudenbach-in-gera-vor-der-stadtmuseum/
CATEGORIES:Bürgermobil
END:VEVENT
BEGIN:VEVENT
DTSTART;TZID=UTC:20230119T190000
DTEND;TZID=UTC:20230119T200000
DTSTAMP:20260423T041007
CREATED:20230103T074001Z
LAST-MODIFIED:20230116T083956Z
UID:28874-1674154800-1674158400@afd-thl.de
SUMMARY:Bürgerdialog mit Uwe Thrum in Teichwolframsdorf
DESCRIPTION:
URL:https://afd-thl.de/termin/buergerdialog-mit-uwe-thrum-und-stefan-moeller-in-teichwolframsdorf/
CATEGORIES:Bürgerdialog
END:VEVENT
BEGIN:VEVENT
DTSTART;TZID=UTC:20230126T090000
DTEND;TZID=UTC:20230126T130000
DTSTAMP:20260423T041007
CREATED:20230116T083754Z
LAST-MODIFIED:20230116T083839Z
UID:29156-1674723600-1674738000@afd-thl.de
SUMMARY:Bürgermobil mit Jens Cotta in Bad Frankenhausen auf dem Markt
DESCRIPTION:
URL:https://afd-thl.de/termin/buergermobil-mit-jens-cotta-in-bad-frankenhausen-auf-dem-markt-2/
CATEGORIES:Bürgermobil
END:VEVENT
BEGIN:VEVENT
DTSTART;TZID=UTC:20230126T090000
DTEND;TZID=UTC:20230126T130000
DTSTAMP:20260423T041007
CREATED:20230116T085719Z
LAST-MODIFIED:20230126T085529Z
UID:29161-1674723600-1674738000@afd-thl.de
SUMMARY:Bürgermobil mit Thomas Gröger in Mühlhausen Steinweg/Linsengasse
DESCRIPTION:
URL:https://afd-thl.de/termin/buergermobil-mit-jens-groeger-in-muehlhausen-steinweg-linsengasse/
CATEGORIES:Bürgermobil
END:VEVENT
BEGIN:VEVENT
DTSTART;TZID=UTC:20230127T090000
DTEND;TZID=UTC:20230127T130000
DTSTAMP:20260423T041007
CREATED:20230123T064702Z
LAST-MODIFIED:20230123T064702Z
UID:29246-1674810000-1674824400@afd-thl.de
SUMMARY:Bürgermobil mit Ringo Mühlmann in Kranichfeld vor dem Bahnhof
DESCRIPTION:
URL:https://afd-thl.de/termin/buergermobil-mit-ringo-muehlmann-in-kranichfeld-vor-dem-bahnhof/
CATEGORIES:Bürgermobil
END:VEVENT
BEGIN:VEVENT
DTSTART;TZID=UTC:20230127T180000
DTEND;TZID=UTC:20230127T200000
DTSTAMP:20260423T041007
CREATED:20230103T125221Z
LAST-MODIFIED:20230119T110204Z
UID:28890-1674842400-1674849600@afd-thl.de
SUMMARY:Bürgerdialog mit Stefan Möller in Bad Langensalza in der Villa Italia/ in der Orangerie
DESCRIPTION:
URL:https://afd-thl.de/termin/buergerdialog-mit-stefan-moeller-in-bad-langensalza-in-der-villa-italia-in-der-orangerie/
CATEGORIES:Bürgerdialog
END:VEVENT
BEGIN:VEVENT
DTSTART;TZID=UTC:20230131T090000
DTEND;TZID=UTC:20230131T130000
DTSTAMP:20260423T041007
CREATED:20230123T122637Z
LAST-MODIFIED:20230123T130510Z
UID:29262-1675155600-1675170000@afd-thl.de
SUMMARY:Bürgermobil in Waltershausen auf dem Markt
DESCRIPTION:
URL:https://afd-thl.de/termin/buergermobil-in-waltershausen-auf-dem-markt/
CATEGORIES:Bürgermobil
END:VEVENT
END:VCALENDAR