BEGIN:VCALENDAR
VERSION:2.0
PRODID:-//AfD Fraktion im Thüringer Landtag - ECPv6.15.17.1//NONSGML v1.0//EN
CALSCALE:GREGORIAN
METHOD:PUBLISH
X-ORIGINAL-URL:https://afd-thl.de
X-WR-CALDESC:Veranstaltungen für AfD Fraktion im Thüringer Landtag
REFRESH-INTERVAL;VALUE=DURATION:PT1H
X-Robots-Tag:noindex
X-PUBLISHED-TTL:PT1H
BEGIN:VTIMEZONE
TZID:UTC
BEGIN:STANDARD
TZOFFSETFROM:+0000
TZOFFSETTO:+0000
TZNAME:UTC
DTSTART:20220101T000000
END:STANDARD
END:VTIMEZONE
BEGIN:VTIMEZONE
TZID:Europe/Berlin
BEGIN:DAYLIGHT
TZOFFSETFROM:+0100
TZOFFSETTO:+0200
TZNAME:CEST
DTSTART:20220327T010000
END:DAYLIGHT
BEGIN:STANDARD
TZOFFSETFROM:+0200
TZOFFSETTO:+0100
TZNAME:CET
DTSTART:20221030T010000
END:STANDARD
BEGIN:DAYLIGHT
TZOFFSETFROM:+0100
TZOFFSETTO:+0200
TZNAME:CEST
DTSTART:20230326T010000
END:DAYLIGHT
BEGIN:STANDARD
TZOFFSETFROM:+0200
TZOFFSETTO:+0100
TZNAME:CET
DTSTART:20231029T010000
END:STANDARD
BEGIN:DAYLIGHT
TZOFFSETFROM:+0100
TZOFFSETTO:+0200
TZNAME:CEST
DTSTART:20240331T010000
END:DAYLIGHT
BEGIN:STANDARD
TZOFFSETFROM:+0200
TZOFFSETTO:+0100
TZNAME:CET
DTSTART:20241027T010000
END:STANDARD
END:VTIMEZONE
BEGIN:VEVENT
DTSTART;TZID=UTC:20230405T090000
DTEND;TZID=UTC:20230405T130000
DTSTAMP:20260423T001213
CREATED:20230328T071744Z
LAST-MODIFIED:20230328T071931Z
UID:30142-1680685200-1680699600@afd-thl.de
SUMMARY:Bürgerdialog mit Thomas Rudy in Altenburg
DESCRIPTION:
URL:https://afd-thl.de/termin/buergerdialog-mit-thomas-rudy-in-altenburg/
CATEGORIES:Bürgermobil
END:VEVENT
BEGIN:VEVENT
DTSTART;TZID=UTC:20230406T100000
DTEND;TZID=UTC:20230406T170000
DTSTAMP:20260423T001213
CREATED:20230328T082759Z
LAST-MODIFIED:20230328T082759Z
UID:30150-1680775200-1680800400@afd-thl.de
SUMMARY:Bürgermobil mit Olaf Kießling in Großbreitenbach und Gehren
DESCRIPTION:
URL:https://afd-thl.de/termin/buergermobil-mit-olaf-kiessling-in-grossbreitenbach-und-gehren-2/
CATEGORIES:Bürgermobil
END:VEVENT
BEGIN:VEVENT
DTSTART;TZID=UTC:20230406T140000
DTEND;TZID=UTC:20230406T170000
DTSTAMP:20260423T001213
CREATED:20230328T082342Z
LAST-MODIFIED:20230328T082342Z
UID:30147-1680789600-1680800400@afd-thl.de
SUMMARY:Bürgermobil mit Torsten Czuppon in Schlossvippach
DESCRIPTION:
URL:https://afd-thl.de/termin/buergermobil-mit-torsten-czuppon-in-schlossvippach/
CATEGORIES:Bürgermobil
END:VEVENT
BEGIN:VEVENT
DTSTART;TZID=UTC:20230408T100000
DTEND;TZID=UTC:20230408T140000
DTSTAMP:20260423T001213
CREATED:20230328T083211Z
LAST-MODIFIED:20230328T083523Z
UID:30153-1680948000-1680962400@afd-thl.de
SUMMARY:Bürgermobil mit Dr. Wolfgang Lauerwald und Dieter Laudenbach
DESCRIPTION:
URL:https://afd-thl.de/termin/buergermobil-mit-dr-wolfgang-lauerwald-und-dieter-laudenbach-3/
CATEGORIES:Bürgermobil
END:VEVENT
BEGIN:VEVENT
DTSTART;TZID=UTC:20230411T090000
DTEND;TZID=UTC:20230411T120000
DTSTAMP:20260423T001213
CREATED:20230328T084225Z
LAST-MODIFIED:20230328T084238Z
UID:30159-1681203600-1681214400@afd-thl.de
SUMMARY:Bürgermobil mit Jens Cotta in Greußen
DESCRIPTION:
URL:https://afd-thl.de/termin/buergermobil-mit-jens-cotta-in-greussen/
CATEGORIES:Bürgermobil
END:VEVENT
BEGIN:VEVENT
DTSTART;TZID=UTC:20230412T140000
DTEND;TZID=UTC:20230412T170000
DTSTAMP:20260423T001213
CREATED:20230328T094957Z
LAST-MODIFIED:20230411T060649Z
UID:30162-1681308000-1681318800@afd-thl.de
SUMMARY:Bürgermobil mit Torsten Czuppon in Rastenberg
DESCRIPTION:
URL:https://afd-thl.de/termin/buergermobil-mit-torsten-czuppon-in-rastenberg/
CATEGORIES:Bürgermobil
END:VEVENT
BEGIN:VEVENT
DTSTART;TZID=UTC:20230413T100000
DTEND;TZID=UTC:20230413T150000
DTSTAMP:20260423T001213
CREATED:20230113T084606Z
LAST-MODIFIED:20230131T061832Z
UID:29126-1681380000-1681398000@afd-thl.de
SUMMARY:Bürgermobil mit Denny Jankowski in Stadtroda beim Markt und in Hermsdorf beim Brückencenter
DESCRIPTION:
URL:https://afd-thl.de/termin/buergerdialog-mit-denny-jankowski-in-stadtroda-bei-der-bushaltestelle-beim-markt-und-in-hermsdorf-beim-brueckencenter/
CATEGORIES:Bürgermobil
END:VEVENT
BEGIN:VEVENT
DTSTART;TZID=UTC:20230413T100000
DTEND;TZID=UTC:20230413T170000
DTSTAMP:20260423T001213
CREATED:20230328T095927Z
LAST-MODIFIED:20230328T100724Z
UID:30165-1681380000-1681405200@afd-thl.de
SUMMARY:Bürgermobil mit Olaf Kießling in Stadtilm und Ilmenau
DESCRIPTION:
URL:https://afd-thl.de/termin/buergermobil-mit-olaf-kiessling-in-stadtilm-und-ilmenau/
CATEGORIES:Bürgermobil
END:VEVENT
BEGIN:VEVENT
DTSTART;TZID=UTC:20230418T170000
DTEND;TZID=UTC:20230418T193000
DTSTAMP:20260423T001213
CREATED:20230328T101338Z
LAST-MODIFIED:20230328T101338Z
UID:30171-1681837200-1681846200@afd-thl.de
SUMMARY:Bürgermobil mit Uwe Thrum in Bucha und Knau
DESCRIPTION:
URL:https://afd-thl.de/termin/buergermobil-mit-uwe-thrum-in-bucha-und-knau/
CATEGORIES:Bürgermobil
END:VEVENT
BEGIN:VEVENT
DTSTART;TZID=UTC:20230419T183000
DTEND;TZID=UTC:20230419T210000
DTSTAMP:20260423T001213
CREATED:20230317T091717Z
LAST-MODIFIED:20230329T060225Z
UID:30106-1681929000-1681938000@afd-thl.de
SUMMARY:Bürgerdialog mit Björn Höcke und Rene Aust in Brotterode
DESCRIPTION:
URL:https://afd-thl.de/termin/buergerdialog-mit-rene-aust-in-brotterode/
CATEGORIES:Bürgerdialog
END:VEVENT
BEGIN:VEVENT
DTSTART;TZID=UTC:20230420T100000
DTEND;TZID=UTC:20230420T120000
DTSTAMP:20260423T001213
CREATED:20230222T073303Z
LAST-MODIFIED:20230222T073303Z
UID:29698-1681984800-1681992000@afd-thl.de
SUMMARY:Bürgermobil mit Nadine Hoffmann in Hildburghausen auf dem Markt
DESCRIPTION:
URL:https://afd-thl.de/termin/buergermobil-mit-nadine-hoffmann-in-hildburghausen-auf-dem-markt-2/
CATEGORIES:Bürgermobil
END:VEVENT
BEGIN:VEVENT
DTSTART;TZID=UTC:20230421T093000
DTEND;TZID=UTC:20230421T120000
DTSTAMP:20260423T001213
CREATED:20230328T101818Z
LAST-MODIFIED:20230412T071049Z
UID:30177-1682069400-1682078400@afd-thl.de
SUMMARY:Bürgermobil mit Ringo Mühlmann in Nohra
DESCRIPTION:
URL:https://afd-thl.de/termin/buergermobil-mit-ringo-muehlmann-2/
CATEGORIES:Bürgermobil
END:VEVENT
BEGIN:VEVENT
DTSTART;TZID=UTC:20230421T170000
DTEND;TZID=UTC:20230421T193000
DTSTAMP:20260423T001213
CREATED:20230328T101709Z
LAST-MODIFIED:20230328T101747Z
UID:30174-1682096400-1682105400@afd-thl.de
SUMMARY:Bürgermobil mit Uwe Thrum in Chursdorf und Göschitz
DESCRIPTION:
URL:https://afd-thl.de/termin/buergermobil-mit-uwe-thrum-in-chursdorf-und-goeschitz/
CATEGORIES:Bürgermobil
END:VEVENT
BEGIN:VEVENT
DTSTART;TZID=UTC:20230425T090000
DTEND;TZID=UTC:20230425T130000
DTSTAMP:20260423T001213
CREATED:20230328T083702Z
LAST-MODIFIED:20230328T083702Z
UID:30156-1682413200-1682427600@afd-thl.de
SUMMARY:Bürgermobil mit Rene Aust in Meiningen
DESCRIPTION:
URL:https://afd-thl.de/termin/buergermobil-mit-rene-aust-in-meiningen/
CATEGORIES:Bürgermobil
END:VEVENT
BEGIN:VEVENT
DTSTART;TZID=UTC:20230425T100000
DTEND;TZID=UTC:20230425T150000
DTSTAMP:20260423T001213
CREATED:20230328T102840Z
LAST-MODIFIED:20230328T103224Z
UID:30181-1682416800-1682434800@afd-thl.de
SUMMARY:Bürgermobil in Waltershausen und Tambach-Dietharz
DESCRIPTION:
URL:https://afd-thl.de/termin/buergermobil-in-waltershausen-und-tambach-dietharz/
CATEGORIES:Bürgermobil
END:VEVENT
BEGIN:VEVENT
DTSTART;TZID=Europe/Berlin:20230426T080000
DTEND;TZID=Europe/Berlin:20230426T170000
DTSTAMP:20260423T001213
CREATED:20230426T130942Z
LAST-MODIFIED:20230426T130942Z
UID:30670-1682496000-1682528400@afd-thl.de
SUMMARY:Bürgermobil mit Uwe Thrum in Görkwitz und Oettersdorf
DESCRIPTION:
URL:https://afd-thl.de/termin/buergermobil-mit-uwe-thrum-in-goerkwitz-und-oettersdorf/
CATEGORIES:Bürgermobil
END:VEVENT
BEGIN:VEVENT
DTSTART;TZID=Europe/Berlin:20230426T080000
DTEND;TZID=Europe/Berlin:20230426T170000
DTSTAMP:20260423T001213
CREATED:20230426T132631Z
LAST-MODIFIED:20230426T132631Z
UID:30679-1682496000-1682528400@afd-thl.de
SUMMARY:Bürgermobil mit Torsten Czuppon in Kindelbrück
DESCRIPTION:
URL:https://afd-thl.de/termin/buergermobil-mit-torsten-czuppon-in-kindelbrueck/
CATEGORIES:Bürgermobil
END:VEVENT
END:VCALENDAR