BEGIN:VCALENDAR
VERSION:2.0
PRODID:-//AfD Fraktion im Thüringer Landtag - ECPv6.15.17.1//NONSGML v1.0//EN
CALSCALE:GREGORIAN
METHOD:PUBLISH
X-WR-CALNAME:AfD Fraktion im Thüringer Landtag
X-ORIGINAL-URL:https://afd-thl.de
X-WR-CALDESC:Veranstaltungen für AfD Fraktion im Thüringer Landtag
REFRESH-INTERVAL;VALUE=DURATION:PT1H
X-Robots-Tag:noindex
X-PUBLISHED-TTL:PT1H
BEGIN:VTIMEZONE
TZID:Europe/Berlin
BEGIN:DAYLIGHT
TZOFFSETFROM:+0100
TZOFFSETTO:+0200
TZNAME:CEST
DTSTART:20220327T010000
END:DAYLIGHT
BEGIN:STANDARD
TZOFFSETFROM:+0200
TZOFFSETTO:+0100
TZNAME:CET
DTSTART:20221030T010000
END:STANDARD
BEGIN:DAYLIGHT
TZOFFSETFROM:+0100
TZOFFSETTO:+0200
TZNAME:CEST
DTSTART:20230326T010000
END:DAYLIGHT
BEGIN:STANDARD
TZOFFSETFROM:+0200
TZOFFSETTO:+0100
TZNAME:CET
DTSTART:20231029T010000
END:STANDARD
BEGIN:DAYLIGHT
TZOFFSETFROM:+0100
TZOFFSETTO:+0200
TZNAME:CEST
DTSTART:20240331T010000
END:DAYLIGHT
BEGIN:STANDARD
TZOFFSETFROM:+0200
TZOFFSETTO:+0100
TZNAME:CET
DTSTART:20241027T010000
END:STANDARD
END:VTIMEZONE
BEGIN:VTIMEZONE
TZID:UTC
BEGIN:STANDARD
TZOFFSETFROM:+0000
TZOFFSETTO:+0000
TZNAME:UTC
DTSTART:20220101T000000
END:STANDARD
END:VTIMEZONE
BEGIN:VEVENT
DTSTART;TZID=Europe/Berlin:20230502T100000
DTEND;TZID=Europe/Berlin:20230502T170000
DTSTAMP:20260422T225216
CREATED:20230426T105138Z
LAST-MODIFIED:20230426T105151Z
UID:30632-1683021600-1683046800@afd-thl.de
SUMMARY:Bürgermobil mit Olaf Kießling in Arnstadt und Plaue
DESCRIPTION:
URL:https://afd-thl.de/termin/buergermobil-mit-olaf-kiessling-in-arnstadt-und-plaue/
CATEGORIES:Bürgermobil
END:VEVENT
BEGIN:VEVENT
DTSTART;TZID=Europe/Berlin:20230502T170000
DTEND;TZID=Europe/Berlin:20230502T193000
DTSTAMP:20260422T225216
CREATED:20230426T110542Z
LAST-MODIFIED:20230426T110601Z
UID:30642-1683046800-1683055800@afd-thl.de
SUMMARY:Bürgermobil mit Uwe Thrum in Thierbach und Ruppersdorf
DESCRIPTION:
URL:https://afd-thl.de/termin/buergermobil-mit-uwe-thrum-in-thierbach-und-ruppersdorf/
CATEGORIES:Bürgermobil
END:VEVENT
BEGIN:VEVENT
DTSTART;TZID=Europe/Berlin:20230504T150000
DTEND;TZID=Europe/Berlin:20230504T180000
DTSTAMP:20260422T225216
CREATED:20230426T131228Z
LAST-MODIFIED:20230426T131546Z
UID:30673-1683212400-1683223200@afd-thl.de
SUMMARY:Bürgermobil mit Torsten Czuppon in Alperstedt
DESCRIPTION:
URL:https://afd-thl.de/termin/buergermobil-mit-torsten-czuppon-in-alperstedt/
CATEGORIES:Bürgermobil
END:VEVENT
BEGIN:VEVENT
DTSTART;TZID=Europe/Berlin:20230504T180000
DTEND;TZID=Europe/Berlin:20230504T210000
DTSTAMP:20260422T225216
CREATED:20230426T110842Z
LAST-MODIFIED:20230426T112822Z
UID:30646-1683223200-1683234000@afd-thl.de
SUMMARY:Bürgerdialog mit Björn Höcke und Stefan Möller in Heilbad Heiligenstadt
DESCRIPTION:
URL:https://afd-thl.de/termin/buergerdialog-mit-bjoern-hoecke-und-stefan-moeller-in-heilbad-heiligenstadt/
CATEGORIES:Bürgerdialog
END:VEVENT
BEGIN:VEVENT
DTSTART;TZID=Europe/Berlin:20230505T170000
DTEND;TZID=Europe/Berlin:20230505T193000
DTSTAMP:20260422T225216
CREATED:20230426T114523Z
LAST-MODIFIED:20230426T115913Z
UID:30658-1683306000-1683315000@afd-thl.de
SUMMARY:Bürgermobil mit Uwe Thrum in Roppisch und Friesau
DESCRIPTION:
URL:https://afd-thl.de/termin/buergermobil-mit-uwe-thrum-in-roppisch-und-friesau/
CATEGORIES:Bürgermobil
END:VEVENT
BEGIN:VEVENT
DTSTART;TZID=Europe/Berlin:20230505T180000
DTEND;TZID=Europe/Berlin:20230505T210000
DTSTAMP:20260422T225216
CREATED:20230426T121433Z
LAST-MODIFIED:20230426T125508Z
UID:30661-1683309600-1683320400@afd-thl.de
SUMMARY:Bürgerdialog mit Björn Höcke und Thomas Gröger in Mühlhausen
DESCRIPTION:
URL:https://afd-thl.de/termin/buergerdialog-mit-bjoern-hoecke-und-thomas-groeger-in-muehlhausen/
CATEGORIES:Bürgerdialog
END:VEVENT
BEGIN:VEVENT
DTSTART;TZID=UTC:20230511T130000
DTEND;TZID=UTC:20230511T150000
DTSTAMP:20260422T225216
CREATED:20230113T103854Z
LAST-MODIFIED:20230113T103915Z
UID:29129-1683810000-1683817200@afd-thl.de
SUMMARY:Bürgermobil mit Denny Jankowski in Hermsdorf bei dem Brückencenter
DESCRIPTION:
URL:https://afd-thl.de/termin/buergermobil-mit-denny-jankowski-in-hermsdorf-bei-dem-brueckencenter/
CATEGORIES:Bürgermobil
END:VEVENT
BEGIN:VEVENT
DTSTART;TZID=Europe/Berlin:20230512T120000
DTEND;TZID=Europe/Berlin:20230512T130000
DTSTAMP:20260422T225216
CREATED:20230427T112349Z
LAST-MODIFIED:20230427T112349Z
UID:30688-1683892800-1683896400@afd-thl.de
SUMMARY:Bürgermobil mit Rene Aust in Suhl
DESCRIPTION:
URL:https://afd-thl.de/termin/buergermobil-mit-rene-aust-in-suhl/
CATEGORIES:Bürgermobil
END:VEVENT
BEGIN:VEVENT
DTSTART;TZID=Europe/Berlin:20230516T180000
DTEND;TZID=Europe/Berlin:20230516T210000
DTSTAMP:20260422T225216
CREATED:20230427T112510Z
LAST-MODIFIED:20230504T104607Z
UID:30691-1684260000-1684270800@afd-thl.de
SUMMARY:Bürgerdialog mit Nadine Hoffmann und Marcus Bühl in Oberstadt
DESCRIPTION:
URL:https://afd-thl.de/termin/buergerdialog-mit-nadine-hoffmann-und-marcus-buehl-in-oberstadt/
CATEGORIES:Bürgerdialog
END:VEVENT
BEGIN:VEVENT
DTSTART;TZID=Europe/Berlin:20230517T090000
DTEND;TZID=Europe/Berlin:20230517T120000
DTSTAMP:20260422T225216
CREATED:20230427T112627Z
LAST-MODIFIED:20230427T112627Z
UID:30693-1684314000-1684324800@afd-thl.de
SUMMARY:BÜrgermobil mit Torsten Czuppon in Kindelbrück
DESCRIPTION:
URL:https://afd-thl.de/termin/buergermobil-mit-torsten-czuppon-in-kindelbrueck-2/
CATEGORIES:Bürgermobil
END:VEVENT
BEGIN:VEVENT
DTSTART;TZID=Europe/Berlin:20230520T100000
DTEND;TZID=Europe/Berlin:20230520T140000
DTSTAMP:20260422T225216
CREATED:20230427T114515Z
LAST-MODIFIED:20230427T115123Z
UID:30696-1684576800-1684591200@afd-thl.de
SUMMARY:Bürgermobil mit Dr. Wolgang Lauerwald und Dieter Laudenbach in Gera
DESCRIPTION:
URL:https://afd-thl.de/termin/buergermobil-mit-dr-wolgang-lauerwald-und-dieter-laudenbach-in-gera/
CATEGORIES:Bürgermobil
END:VEVENT
BEGIN:VEVENT
DTSTART;TZID=Europe/Berlin:20230522T093000
DTEND;TZID=Europe/Berlin:20230522T120000
DTSTAMP:20260422T225216
CREATED:20230502T120345Z
LAST-MODIFIED:20230517T131732Z
UID:30729-1684747800-1684756800@afd-thl.de
SUMMARY:Bürgermobil mit Ringo Mühlmann in Bad Berka
DESCRIPTION:
URL:https://afd-thl.de/termin/buergermobil-mitringo-muehlmann-in-teichroeda/
CATEGORIES:Bürgermobil
END:VEVENT
BEGIN:VEVENT
DTSTART;TZID=Europe/Berlin:20230523T100000
DTEND;TZID=Europe/Berlin:20230523T130000
DTSTAMP:20260422T225216
CREATED:20230427T115519Z
LAST-MODIFIED:20230427T115721Z
UID:30699-1684836000-1684846800@afd-thl.de
SUMMARY:Bürgermobil mit Thomas Rudy in Schmölln
DESCRIPTION:
URL:https://afd-thl.de/termin/buergermobil-mit-thomas-rudy-in-schmoelln-2/
CATEGORIES:Bürgermobil
END:VEVENT
BEGIN:VEVENT
DTSTART;TZID=Europe/Berlin:20230523T100000
DTEND;TZID=Europe/Berlin:20230523T130000
DTSTAMP:20260422T225216
CREATED:20230517T124557Z
LAST-MODIFIED:20230517T124557Z
UID:30995-1684836000-1684846800@afd-thl.de
SUMMARY:Bürgermobil mit Thomas Gröger in Mühlhausen
DESCRIPTION:
URL:https://afd-thl.de/termin/buergermobil-mit-thomas-groeger-in-muehlhausen-2/
CATEGORIES:Bürgermobil
END:VEVENT
BEGIN:VEVENT
DTSTART;TZID=Europe/Berlin:20230523T180000
DTEND;TZID=Europe/Berlin:20230523T210000
DTSTAMP:20260422T225216
CREATED:20230511T093412Z
LAST-MODIFIED:20230515T102838Z
UID:30929-1684864800-1684875600@afd-thl.de
SUMMARY:Bürgerdialog mit Robert Sesselmann und Karlheinz Frosch in Neuhaus a. R.
DESCRIPTION:
URL:https://afd-thl.de/termin/buergerdialog-mit-robert-sesselmann-und-karlheinz-frosch-in-neuhaus-a-r/
CATEGORIES:Bürgerdialog
END:VEVENT
BEGIN:VEVENT
DTSTART;TZID=Europe/Berlin:20230524T170000
DTEND;TZID=Europe/Berlin:20230524T193000
DTSTAMP:20260422T225216
CREATED:20230426T125821Z
LAST-MODIFIED:20230522T112447Z
UID:30667-1684947600-1684956600@afd-thl.de
SUMMARY:Bürgermobil mit Uwe Thrum in Blintendorf und Schilbach
DESCRIPTION:
URL:https://afd-thl.de/termin/buergermobil-mit-uwe-thrum-in-blintendorf-und-schilbach/
CATEGORIES:Bürgermobil
END:VEVENT
BEGIN:VEVENT
DTSTART;TZID=UTC:20230525T100000
DTEND;TZID=UTC:20230525T120000
DTSTAMP:20260422T225216
CREATED:20230222T073434Z
LAST-MODIFIED:20230222T073434Z
UID:29702-1685008800-1685016000@afd-thl.de
SUMMARY:Bürgermobil mit Nadine Hoffmann in Hildburghausen auf dem Markt
DESCRIPTION:
URL:https://afd-thl.de/termin/buergermobil-mit-nadine-hoffmann-in-hildburghausen-auf-dem-markt-3/
CATEGORIES:Bürgermobil
END:VEVENT
BEGIN:VEVENT
DTSTART;TZID=UTC:20230525T130000
DTEND;TZID=UTC:20230525T150000
DTSTAMP:20260422T225216
CREATED:20230113T104205Z
LAST-MODIFIED:20230116T071804Z
UID:29132-1685019600-1685026800@afd-thl.de
SUMMARY:Bürgermobil mit Denny Jankowski in Hermsdorf bei dem Brückencenter
DESCRIPTION:
URL:https://afd-thl.de/termin/buergermobil-mit-denny-jankowski-in-hermsdorf-bei-dem-brueckencenter-2/
CATEGORIES:Bürgermobil
END:VEVENT
BEGIN:VEVENT
DTSTART;TZID=Europe/Berlin:20230526T170000
DTEND;TZID=Europe/Berlin:20230526T193000
DTSTAMP:20260422T225216
CREATED:20230427T115838Z
LAST-MODIFIED:20230427T120027Z
UID:30702-1685120400-1685129400@afd-thl.de
SUMMARY:Bürgermobil mit Uwe Thrum in Görkwitz und Ettersdorf
DESCRIPTION:
URL:https://afd-thl.de/termin/buergermobil-mit-uwe-thrum-in-goerkwitz-und-ettersdorf/
CATEGORIES:Bürgermobil
END:VEVENT
BEGIN:VEVENT
DTSTART;TZID=Europe/Berlin:20230526T180000
DTEND;TZID=Europe/Berlin:20230526T210000
DTSTAMP:20260422T225216
CREATED:20230426T131818Z
LAST-MODIFIED:20230426T132259Z
UID:30676-1685124000-1685134800@afd-thl.de
SUMMARY:Bürgerdialog mit Ringo Mühlmann und Denny Jankowski in Berlstedt
DESCRIPTION:
URL:https://afd-thl.de/termin/buergerdialog-mit-ringo-muehlmann-und-denny-jankowski-in-berlstedt/
CATEGORIES:Bürgerdialog
END:VEVENT
BEGIN:VEVENT
DTSTART;TZID=Europe/Berlin:20230530T100000
DTEND;TZID=Europe/Berlin:20230530T150000
DTSTAMP:20260422T225216
CREATED:20230427T123320Z
LAST-MODIFIED:20230427T124453Z
UID:30707-1685440800-1685458800@afd-thl.de
SUMMARY:Bürgermobil in Waltershausen und Hörselgau
DESCRIPTION:
URL:https://afd-thl.de/termin/buergermobil-in-waltershausen-und-hoerselgau/
CATEGORIES:Bürgermobil
END:VEVENT
END:VCALENDAR