BEGIN:VCALENDAR
VERSION:2.0
PRODID:-//AfD Fraktion im Thüringer Landtag - ECPv6.15.17.1//NONSGML v1.0//EN
CALSCALE:GREGORIAN
METHOD:PUBLISH
X-WR-CALNAME:AfD Fraktion im Thüringer Landtag
X-ORIGINAL-URL:https://afd-thl.de
X-WR-CALDESC:Veranstaltungen für AfD Fraktion im Thüringer Landtag
REFRESH-INTERVAL;VALUE=DURATION:PT1H
X-Robots-Tag:noindex
X-PUBLISHED-TTL:PT1H
BEGIN:VTIMEZONE
TZID:Europe/Berlin
BEGIN:DAYLIGHT
TZOFFSETFROM:+0100
TZOFFSETTO:+0200
TZNAME:CEST
DTSTART:20220327T010000
END:DAYLIGHT
BEGIN:STANDARD
TZOFFSETFROM:+0200
TZOFFSETTO:+0100
TZNAME:CET
DTSTART:20221030T010000
END:STANDARD
BEGIN:DAYLIGHT
TZOFFSETFROM:+0100
TZOFFSETTO:+0200
TZNAME:CEST
DTSTART:20230326T010000
END:DAYLIGHT
BEGIN:STANDARD
TZOFFSETFROM:+0200
TZOFFSETTO:+0100
TZNAME:CET
DTSTART:20231029T010000
END:STANDARD
BEGIN:DAYLIGHT
TZOFFSETFROM:+0100
TZOFFSETTO:+0200
TZNAME:CEST
DTSTART:20240331T010000
END:DAYLIGHT
BEGIN:STANDARD
TZOFFSETFROM:+0200
TZOFFSETTO:+0100
TZNAME:CET
DTSTART:20241027T010000
END:STANDARD
END:VTIMEZONE
BEGIN:VEVENT
DTSTART;TZID=Europe/Berlin:20230905T090000
DTEND;TZID=Europe/Berlin:20230905T130000
DTSTAMP:20260422T173629
CREATED:20230823T115848Z
LAST-MODIFIED:20230823T115848Z
UID:32105-1693904400-1693918800@afd-thl.de
SUMMARY:Bürgermobil mit Corinna Herold
DESCRIPTION:
URL:https://afd-thl.de/termin/buergermobil-mit-corinna-herold-4/
CATEGORIES:Bürgermobil
END:VEVENT
BEGIN:VEVENT
DTSTART;TZID=Europe/Berlin:20230905T163000
DTEND;TZID=Europe/Berlin:20230905T190000
DTSTAMP:20260422T173629
CREATED:20230823T084812Z
LAST-MODIFIED:20230823T084812Z
UID:32084-1693931400-1693940400@afd-thl.de
SUMMARY:Bürgermobil mit Uwe Thrum
DESCRIPTION:
URL:https://afd-thl.de/termin/buergermobil-mit-uwe-thrum-9/
CATEGORIES:Bürgermobil
END:VEVENT
BEGIN:VEVENT
DTSTART;TZID=Europe/Berlin:20230907T090000
DTEND;TZID=Europe/Berlin:20230907T130000
DTSTAMP:20260422T173629
CREATED:20230829T140107Z
LAST-MODIFIED:20230829T140107Z
UID:32152-1694077200-1694091600@afd-thl.de
SUMMARY:Bürgermobil mit Jens Cotta
DESCRIPTION:
URL:https://afd-thl.de/termin/buergermobil-mit-jens-cotta-2/
CATEGORIES:Bürgermobil
END:VEVENT
BEGIN:VEVENT
DTSTART;TZID=Europe/Berlin:20230907T100000
DTEND;TZID=Europe/Berlin:20230907T120000
DTSTAMP:20260422T173629
CREATED:20230418T090230Z
LAST-MODIFIED:20230823T130600Z
UID:30556-1694080800-1694088000@afd-thl.de
SUMMARY:Bürgermobil mit Nadine Hoffmann
DESCRIPTION:
URL:https://afd-thl.de/termin/buergermobil-mit-nadine-hoffmann-3/
CATEGORIES:Bürgermobil
END:VEVENT
BEGIN:VEVENT
DTSTART;TZID=Europe/Berlin:20230908T100000
DTEND;TZID=Europe/Berlin:20230908T140000
DTSTAMP:20260422T173629
CREATED:20230823T125008Z
LAST-MODIFIED:20230823T125008Z
UID:32114-1694167200-1694181600@afd-thl.de
SUMMARY:Bürgermobil mit Ringo Mühlmann
DESCRIPTION:
URL:https://afd-thl.de/termin/buergermobil-mit-ringo-muehlmann-5/
CATEGORIES:Bürgermobil
END:VEVENT
BEGIN:VEVENT
DTSTART;TZID=Europe/Berlin:20230908T163000
DTEND;TZID=Europe/Berlin:20230908T190000
DTSTAMP:20260422T173629
CREATED:20230823T084301Z
LAST-MODIFIED:20230823T084301Z
UID:32080-1694190600-1694199600@afd-thl.de
SUMMARY:Bürgermobil mit Uwe Thrum
DESCRIPTION:
URL:https://afd-thl.de/termin/buergermobil-mit-uwe-thrum-8/
CATEGORIES:Bürgermobil
END:VEVENT
BEGIN:VEVENT
DTSTART;TZID=Europe/Berlin:20230909T100000
DTEND;TZID=Europe/Berlin:20230909T140000
DTSTAMP:20260422T173629
CREATED:20230823T132545Z
LAST-MODIFIED:20230823T132726Z
UID:32126-1694253600-1694268000@afd-thl.de
SUMMARY:Bürgermobil mit Dr. Wolfgang Lauerwald und Dieter Laudenbach
DESCRIPTION:
URL:https://afd-thl.de/termin/buergermobil-mit-dr-wolfgang-lauerwald-und-dieter-laudenbach-4/
CATEGORIES:Bürgermobil
END:VEVENT
BEGIN:VEVENT
DTSTART;TZID=Europe/Berlin:20230918T093000
DTEND;TZID=Europe/Berlin:20230918T120000
DTSTAMP:20260422T173629
CREATED:20230823T120646Z
LAST-MODIFIED:20230823T120646Z
UID:32108-1695029400-1695038400@afd-thl.de
SUMMARY:Bürgermobil mit Ringo Mühlmann
DESCRIPTION:
URL:https://afd-thl.de/termin/buergermobil-mit-ringo-muehlmann-4/
CATEGORIES:Bürgermobil
END:VEVENT
BEGIN:VEVENT
DTSTART;TZID=Europe/Berlin:20230919T090000
DTEND;TZID=Europe/Berlin:20230919T130000
DTSTAMP:20260422T173629
CREATED:20230823T115747Z
LAST-MODIFIED:20230823T115747Z
UID:32100-1695114000-1695128400@afd-thl.de
SUMMARY:Bürgermobil mit Corinna Herold
DESCRIPTION:
URL:https://afd-thl.de/termin/buergermobil-mit-corinna-herold-3/
CATEGORIES:Bürgermobil
END:VEVENT
BEGIN:VEVENT
DTSTART;TZID=Europe/Berlin:20230921T093000
DTEND;TZID=Europe/Berlin:20230921T130000
DTSTAMP:20260422T173629
CREATED:20230829T140948Z
LAST-MODIFIED:20230830T090313Z
UID:32155-1695288600-1695301200@afd-thl.de
SUMMARY:Bürgermobil mit Thomas Gröger
DESCRIPTION:
URL:https://afd-thl.de/termin/buergermobil-mit-thomas-groeger-2/
CATEGORIES:Bürgermobil
END:VEVENT
BEGIN:VEVENT
DTSTART;TZID=Europe/Berlin:20230921T150000
DTEND;TZID=Europe/Berlin:20230921T180000
DTSTAMP:20260422T173629
CREATED:20230823T094637Z
LAST-MODIFIED:20230823T094637Z
UID:32096-1695308400-1695319200@afd-thl.de
SUMMARY:Bürgermobil mit Torsten Czuppon
DESCRIPTION:
URL:https://afd-thl.de/termin/buergermobil-mit-torsten-czuppon-4/
CATEGORIES:Bürgermobil
END:VEVENT
BEGIN:VEVENT
DTSTART;TZID=Europe/Berlin:20230922T130000
DTEND;TZID=Europe/Berlin:20230922T150000
DTSTAMP:20260422T173629
CREATED:20230831T111542Z
LAST-MODIFIED:20230831T111542Z
UID:32177-1695387600-1695394800@afd-thl.de
SUMMARY:Bürgermobil mit Denny Jankowski
DESCRIPTION:
URL:https://afd-thl.de/termin/buergermobil-mit-denny-jankowski-2/
CATEGORIES:Bürgermobil
END:VEVENT
BEGIN:VEVENT
DTSTART;TZID=Europe/Berlin:20230922T163000
DTEND;TZID=Europe/Berlin:20230922T190000
DTSTAMP:20260422T173629
CREATED:20230823T083841Z
LAST-MODIFIED:20230823T084128Z
UID:32077-1695400200-1695409200@afd-thl.de
SUMMARY:Bürgermobil mit Uwe Thrum
DESCRIPTION:
URL:https://afd-thl.de/termin/buergermobil-mit-uwe-thrum-7/
CATEGORIES:Bürgermobil
END:VEVENT
BEGIN:VEVENT
DTSTART;TZID=Europe/Berlin:20230928T100000
DTEND;TZID=Europe/Berlin:20230928T120000
DTSTAMP:20260422T173629
CREATED:20230829T143052Z
LAST-MODIFIED:20230830T064123Z
UID:32158-1695895200-1695902400@afd-thl.de
SUMMARY:Bürgermobil mit Denny Jankowski
DESCRIPTION:
URL:https://afd-thl.de/termin/buergermobil-mit-denny-jankowski/
CATEGORIES:Bürgermobil
END:VEVENT
BEGIN:VEVENT
DTSTART;TZID=Europe/Berlin:20230929T163000
DTEND;TZID=Europe/Berlin:20230929T190000
DTSTAMP:20260422T173629
CREATED:20230823T083052Z
LAST-MODIFIED:20230823T083052Z
UID:32074-1696005000-1696014000@afd-thl.de
SUMMARY:Bürgermobil mit Uwe Thrum
DESCRIPTION:
URL:https://afd-thl.de/termin/buergermobil-mit-uwe-thrum-6/
CATEGORIES:Bürgermobil
END:VEVENT
BEGIN:VEVENT
DTSTART;TZID=Europe/Berlin:20230930T090000
DTEND;TZID=Europe/Berlin:20230930T130000
DTSTAMP:20260422T173629
CREATED:20230919T091832Z
LAST-MODIFIED:20230919T091832Z
UID:32335-1696064400-1696078800@afd-thl.de
SUMMARY:Bürgermobil mit Jens Cotta
DESCRIPTION:
URL:https://afd-thl.de/termin/buergermobil-mit-jens-cotta-3/
CATEGORIES:Bürgermobil
END:VEVENT
END:VCALENDAR