BEGIN:VCALENDAR
VERSION:2.0
PRODID:-//AfD Fraktion im Thüringer Landtag - ECPv6.15.17.1//NONSGML v1.0//EN
CALSCALE:GREGORIAN
METHOD:PUBLISH
X-ORIGINAL-URL:https://afd-thl.de
X-WR-CALDESC:Veranstaltungen für AfD Fraktion im Thüringer Landtag
REFRESH-INTERVAL;VALUE=DURATION:PT1H
X-Robots-Tag:noindex
X-PUBLISHED-TTL:PT1H
BEGIN:VTIMEZONE
TZID:Europe/Berlin
BEGIN:DAYLIGHT
TZOFFSETFROM:+0100
TZOFFSETTO:+0200
TZNAME:CEST
DTSTART:20220327T010000
END:DAYLIGHT
BEGIN:STANDARD
TZOFFSETFROM:+0200
TZOFFSETTO:+0100
TZNAME:CET
DTSTART:20221030T010000
END:STANDARD
BEGIN:DAYLIGHT
TZOFFSETFROM:+0100
TZOFFSETTO:+0200
TZNAME:CEST
DTSTART:20230326T010000
END:DAYLIGHT
BEGIN:STANDARD
TZOFFSETFROM:+0200
TZOFFSETTO:+0100
TZNAME:CET
DTSTART:20231029T010000
END:STANDARD
BEGIN:DAYLIGHT
TZOFFSETFROM:+0100
TZOFFSETTO:+0200
TZNAME:CEST
DTSTART:20240331T010000
END:DAYLIGHT
BEGIN:STANDARD
TZOFFSETFROM:+0200
TZOFFSETTO:+0100
TZNAME:CET
DTSTART:20241027T010000
END:STANDARD
END:VTIMEZONE
BEGIN:VEVENT
DTSTART;TZID=Europe/Berlin:20231004T090000
DTEND;TZID=Europe/Berlin:20231004T120000
DTSTAMP:20260422T161734
CREATED:20230912T055827Z
LAST-MODIFIED:20230919T091703Z
UID:32252-1696410000-1696420800@afd-thl.de
SUMMARY:Bürgermobil mit Torsten Czuppon
DESCRIPTION:
URL:https://afd-thl.de/termin/buergermobil-mit-torsten-czuppon-5/
CATEGORIES:Bürgermobil
END:VEVENT
BEGIN:VEVENT
DTSTART;TZID=Europe/Berlin:20231004T090000
DTEND;TZID=Europe/Berlin:20231004T130000
DTSTAMP:20260422T161734
CREATED:20230913T114246Z
LAST-MODIFIED:20230925T123335Z
UID:32291-1696410000-1696424400@afd-thl.de
SUMMARY:Bürgermobil mit Thomas Rudy
DESCRIPTION:
URL:https://afd-thl.de/termin/buergermobil-mit-thomas-rudy-4/
CATEGORIES:Bürgermobil
END:VEVENT
BEGIN:VEVENT
DTSTART;TZID=Europe/Berlin:20231005T100000
DTEND;TZID=Europe/Berlin:20231005T130000
DTSTAMP:20260422T161734
CREATED:20230912T060413Z
LAST-MODIFIED:20230925T140110Z
UID:32256-1696500000-1696510800@afd-thl.de
SUMMARY:Bürgermobil mit Dr. Jens Dietrich und Olaf Kießling
DESCRIPTION:
URL:https://afd-thl.de/termin/buergermobil-mit-dr-jens-dietrich-und-olaf-kiessling/
CATEGORIES:Bürgermobil
END:VEVENT
BEGIN:VEVENT
DTSTART;TZID=Europe/Berlin:20231005T100000
DTEND;TZID=Europe/Berlin:20231005T150000
DTSTAMP:20260422T161734
CREATED:20230912T060334Z
LAST-MODIFIED:20230925T125143Z
UID:32254-1696500000-1696518000@afd-thl.de
SUMMARY:Bürgermobil mit Denny Jankowski
DESCRIPTION:
URL:https://afd-thl.de/termin/buergermobil-mit-denny-jankowski-3/
CATEGORIES:Bürgermobil
END:VEVENT
BEGIN:VEVENT
DTSTART;TZID=Europe/Berlin:20231009T100000
DTEND;TZID=Europe/Berlin:20231009T130000
DTSTAMP:20260422T161734
CREATED:20230928T123211Z
LAST-MODIFIED:20230928T123239Z
UID:32431-1696845600-1696856400@afd-thl.de
SUMMARY:Bürgermobil in Bad Salzungen
DESCRIPTION:
URL:https://afd-thl.de/termin/buergermobil-in-bad-salzungen/
CATEGORIES:Bürgermobil
END:VEVENT
BEGIN:VEVENT
DTSTART;TZID=Europe/Berlin:20231010T090000
DTEND;TZID=Europe/Berlin:20231010T130000
DTSTAMP:20260422T161734
CREATED:20230912T060502Z
LAST-MODIFIED:20231009T130133Z
UID:32258-1696928400-1696942800@afd-thl.de
SUMMARY:Bürgermobil mit Corinna Herold
DESCRIPTION:
URL:https://afd-thl.de/termin/buergermobil-mit-corinna-herld/
CATEGORIES:Bürgermobil
END:VEVENT
BEGIN:VEVENT
DTSTART;TZID=Europe/Berlin:20231010T100000
DTEND;TZID=Europe/Berlin:20231010T170000
DTSTAMP:20260422T161734
CREATED:20230912T060540Z
LAST-MODIFIED:20230929T075217Z
UID:32260-1696932000-1696957200@afd-thl.de
SUMMARY:Bürgermobil mit Olaf Kießling
DESCRIPTION:
URL:https://afd-thl.de/termin/buergermobil-mit-olaf-kiessling-5/
CATEGORIES:Bürgermobil
END:VEVENT
BEGIN:VEVENT
DTSTART;TZID=Europe/Berlin:20231011T150000
DTEND;TZID=Europe/Berlin:20231011T180000
DTSTAMP:20260422T161734
CREATED:20230912T060722Z
LAST-MODIFIED:20230929T103022Z
UID:32262-1697036400-1697047200@afd-thl.de
SUMMARY:Bürgermobil mit Torsten Czuppon
DESCRIPTION:
URL:https://afd-thl.de/termin/buergermobil-mit-torsten-czuppon-6/
CATEGORIES:Bürgermobil
END:VEVENT
BEGIN:VEVENT
DTSTART;TZID=Europe/Berlin:20231012T090000
DTEND;TZID=Europe/Berlin:20231012T153000
DTSTAMP:20260422T161734
CREATED:20230913T115849Z
LAST-MODIFIED:20230914T103921Z
UID:32301-1697101200-1697124600@afd-thl.de
SUMMARY:Bürgermobil mit Dr. Jens Dietrich
DESCRIPTION:
URL:https://afd-thl.de/termin/buergermobil-mit-dr-jens-dietrich-2/
CATEGORIES:Bürgermobil
END:VEVENT
BEGIN:VEVENT
DTSTART;TZID=Europe/Berlin:20231014T100000
DTEND;TZID=Europe/Berlin:20231014T140000
DTSTAMP:20260422T161734
CREATED:20230919T105512Z
LAST-MODIFIED:20230929T111123Z
UID:32338-1697277600-1697292000@afd-thl.de
SUMMARY:Bürgermobil mit Dr. Wolfgang Lauerwald und Dieter Laudenbach
DESCRIPTION:
URL:https://afd-thl.de/termin/buergermobil-mit-dr-wolfgang-lauerwald-und-dieter-laudenbach-5/
CATEGORIES:Bürgermobil
END:VEVENT
BEGIN:VEVENT
DTSTART;TZID=Europe/Berlin:20231016T093000
DTEND;TZID=Europe/Berlin:20231016T120000
DTSTAMP:20260422T161734
CREATED:20230912T061143Z
LAST-MODIFIED:20230929T101658Z
UID:32264-1697448600-1697457600@afd-thl.de
SUMMARY:Bürgermobil mit Ringo Mühlmann
DESCRIPTION:
URL:https://afd-thl.de/termin/buergermobil-mit-ringo-muehlmann-6/
CATEGORIES:Bürgermobil
END:VEVENT
BEGIN:VEVENT
DTSTART;TZID=Europe/Berlin:20231017T090000
DTEND;TZID=Europe/Berlin:20231017T130000
DTSTAMP:20260422T161734
CREATED:20230913T114501Z
LAST-MODIFIED:20230929T102133Z
UID:32295-1697533200-1697547600@afd-thl.de
SUMMARY:Bürgermobil mit Thomas Rudy
DESCRIPTION:
URL:https://afd-thl.de/termin/buergermobil-mit-thomas-rudy-5/
CATEGORIES:Bürgermobil
END:VEVENT
BEGIN:VEVENT
DTSTART;TZID=Europe/Berlin:20231017T180000
DTEND;TZID=Europe/Berlin:20231017T210000
DTSTAMP:20260422T161734
CREATED:20230912T061648Z
LAST-MODIFIED:20230929T071240Z
UID:32266-1697565600-1697576400@afd-thl.de
SUMMARY:Bürgerdialog mit Björn Höcke und Nadine Hoffmann
DESCRIPTION:
URL:https://afd-thl.de/termin/buergerdialog-mit-nadine-hoffmann/
CATEGORIES:Bürgerdialog
END:VEVENT
BEGIN:VEVENT
DTSTART;TZID=Europe/Berlin:20231018T090000
DTEND;TZID=Europe/Berlin:20231018T120000
DTSTAMP:20260422T161734
CREATED:20230912T061812Z
LAST-MODIFIED:20231011T055445Z
UID:32268-1697619600-1697630400@afd-thl.de
SUMMARY:Bürgermobil mit Stefan Möller
DESCRIPTION:
URL:https://afd-thl.de/termin/buergermobil-mit-stefan-moeller-2/
CATEGORIES:Bürgermobil
END:VEVENT
BEGIN:VEVENT
DTSTART;TZID=Europe/Berlin:20231019T090000
DTEND;TZID=Europe/Berlin:20231019T120000
DTSTAMP:20260422T161734
CREATED:20230912T064738Z
LAST-MODIFIED:20231010T140320Z
UID:32282-1697706000-1697716800@afd-thl.de
SUMMARY:Bürgermobil mit Stefan Möller
DESCRIPTION:
URL:https://afd-thl.de/termin/buergermobil-mit-stefan-moeller-3/
CATEGORIES:Bürgermobil
END:VEVENT
BEGIN:VEVENT
DTSTART;TZID=Europe/Berlin:20231020T180000
DTEND;TZID=Europe/Berlin:20231020T210000
DTSTAMP:20260422T161734
CREATED:20230912T061947Z
LAST-MODIFIED:20230929T072156Z
UID:32272-1697824800-1697835600@afd-thl.de
SUMMARY:Bürgerdialog mit Björn Höcke und Stefan Möller
DESCRIPTION:
URL:https://afd-thl.de/termin/buergerdialog-mit-bjoern-hoecke/
CATEGORIES:Bürgerdialog
END:VEVENT
BEGIN:VEVENT
DTSTART;TZID=Europe/Berlin:20231023T093000
DTEND;TZID=Europe/Berlin:20231023T120000
DTSTAMP:20260422T161734
CREATED:20230912T062026Z
LAST-MODIFIED:20230929T101740Z
UID:32274-1698053400-1698062400@afd-thl.de
SUMMARY:Bürgermobil mit Ringo Mühlmann
DESCRIPTION:
URL:https://afd-thl.de/termin/buergermobil-mit-ringo-muehlmann-7/
CATEGORIES:Bürgermobil
END:VEVENT
BEGIN:VEVENT
DTSTART;TZID=Europe/Berlin:20231024T090000
DTEND;TZID=Europe/Berlin:20231024T120000
DTSTAMP:20260422T161734
CREATED:20230912T062059Z
LAST-MODIFIED:20230929T102917Z
UID:32276-1698138000-1698148800@afd-thl.de
SUMMARY:Bürgermobil mit Corinna Herold
DESCRIPTION:
URL:https://afd-thl.de/termin/buergermobil-mit-corinna-herold-5/
CATEGORIES:Bürgermobil
END:VEVENT
BEGIN:VEVENT
DTSTART;TZID=Europe/Berlin:20231024T093000
DTEND;TZID=Europe/Berlin:20231024T130000
DTSTAMP:20260422T161734
CREATED:20231017T114432Z
LAST-MODIFIED:20231017T142352Z
UID:33048-1698139800-1698152400@afd-thl.de
SUMMARY:Bürgermobil mit Thomas Gröger
DESCRIPTION:
URL:https://afd-thl.de/termin/buergermobil-mit-thomas-groeger-3/
CATEGORIES:Bürgermobil
END:VEVENT
BEGIN:VEVENT
DTSTART;TZID=Europe/Berlin:20231025T093000
DTEND;TZID=Europe/Berlin:20231025T120000
DTSTAMP:20260422T161734
CREATED:20231012T074929Z
LAST-MODIFIED:20231012T074929Z
UID:33036-1698226200-1698235200@afd-thl.de
SUMMARY:Bürgermobil in Eisenach
DESCRIPTION:
URL:https://afd-thl.de/termin/buergermobil-in-eisenach/
CATEGORIES:Bürgermobil
END:VEVENT
BEGIN:VEVENT
DTSTART;TZID=Europe/Berlin:20231026T100000
DTEND;TZID=Europe/Berlin:20231026T140000
DTSTAMP:20260422T161734
CREATED:20230418T085128Z
LAST-MODIFIED:20230914T090322Z
UID:30548-1698314400-1698328800@afd-thl.de
SUMMARY:Bürgermobil mit Nadine Hoffmann
DESCRIPTION:
URL:https://afd-thl.de/termin/buergermobil-mit-nadine-hoffmann-in-hildburghausen-2/
CATEGORIES:Bürgermobil
END:VEVENT
BEGIN:VEVENT
DTSTART;TZID=Europe/Berlin:20231026T100000
DTEND;TZID=Europe/Berlin:20231026T150000
DTSTAMP:20260422T161734
CREATED:20230912T062230Z
LAST-MODIFIED:20230929T104006Z
UID:32278-1698314400-1698332400@afd-thl.de
SUMMARY:Bürgermobil mit Denny Jankowski
DESCRIPTION:
URL:https://afd-thl.de/termin/buergermobil-mit-denny-jankowski-4/
CATEGORIES:Bürgermobil
END:VEVENT
BEGIN:VEVENT
DTSTART;TZID=Europe/Berlin:20231027T100000
DTEND;TZID=Europe/Berlin:20231027T160000
DTSTAMP:20260422T161734
CREATED:20230913T115705Z
LAST-MODIFIED:20230929T074819Z
UID:32299-1698400800-1698422400@afd-thl.de
SUMMARY:Bürgermobil mit Dr. Jens Dietrich
DESCRIPTION:
URL:https://afd-thl.de/termin/buergermobil-mit-dr-jens-dietrich/
CATEGORIES:Bürgermobil
END:VEVENT
END:VCALENDAR