BEGIN:VCALENDAR
VERSION:2.0
PRODID:-//AfD Fraktion im Thüringer Landtag - ECPv6.15.17.1//NONSGML v1.0//EN
CALSCALE:GREGORIAN
METHOD:PUBLISH
X-WR-CALNAME:AfD Fraktion im Thüringer Landtag
X-ORIGINAL-URL:https://afd-thl.de
X-WR-CALDESC:Veranstaltungen für AfD Fraktion im Thüringer Landtag
REFRESH-INTERVAL;VALUE=DURATION:PT1H
X-Robots-Tag:noindex
X-PUBLISHED-TTL:PT1H
BEGIN:VTIMEZONE
TZID:Europe/Berlin
BEGIN:DAYLIGHT
TZOFFSETFROM:+0100
TZOFFSETTO:+0200
TZNAME:CEST
DTSTART:20230326T010000
END:DAYLIGHT
BEGIN:STANDARD
TZOFFSETFROM:+0200
TZOFFSETTO:+0100
TZNAME:CET
DTSTART:20231029T010000
END:STANDARD
BEGIN:DAYLIGHT
TZOFFSETFROM:+0100
TZOFFSETTO:+0200
TZNAME:CEST
DTSTART:20240331T010000
END:DAYLIGHT
BEGIN:STANDARD
TZOFFSETFROM:+0200
TZOFFSETTO:+0100
TZNAME:CET
DTSTART:20241027T010000
END:STANDARD
BEGIN:DAYLIGHT
TZOFFSETFROM:+0100
TZOFFSETTO:+0200
TZNAME:CEST
DTSTART:20250330T010000
END:DAYLIGHT
BEGIN:STANDARD
TZOFFSETFROM:+0200
TZOFFSETTO:+0100
TZNAME:CET
DTSTART:20251026T010000
END:STANDARD
END:VTIMEZONE
BEGIN:VEVENT
DTSTART;TZID=Europe/Berlin:20240105T090000
DTEND;TZID=Europe/Berlin:20240105T120000
DTSTAMP:20260422T120823
CREATED:20231130T110031Z
LAST-MODIFIED:20231130T110031Z
UID:33696-1704445200-1704456000@afd-thl.de
SUMMARY:Bürgermobil mit Uwe Thrum in Schleiz
DESCRIPTION:
URL:https://afd-thl.de/termin/buergermobil-mit-uwe-thrum-in-schleiz-2/
CATEGORIES:Bürgermobil
END:VEVENT
BEGIN:VEVENT
DTSTART;TZID=Europe/Berlin:20240108T150000
DTEND;TZID=Europe/Berlin:20240108T170000
DTSTAMP:20260422T120823
CREATED:20231130T113126Z
LAST-MODIFIED:20231130T114629Z
UID:33701-1704726000-1704733200@afd-thl.de
SUMMARY:Bürgermobil mit Uwe Thrum in Triptis
DESCRIPTION:
URL:https://afd-thl.de/termin/buergermobil-mit-uwe-thrum-in-triptis/
CATEGORIES:Bürgermobil
END:VEVENT
BEGIN:VEVENT
DTSTART;TZID=Europe/Berlin:20240110T090000
DTEND;TZID=Europe/Berlin:20240110T120000
DTSTAMP:20260422T120823
CREATED:20231207T095152Z
LAST-MODIFIED:20231207T095211Z
UID:33777-1704877200-1704888000@afd-thl.de
SUMMARY:Bürgermobil mit Uwe Thrum in Bad Lobenstein
DESCRIPTION:
URL:https://afd-thl.de/termin/buergermobil-mit-uwe-thrum-in-bad-lobenstein-2/
CATEGORIES:Bürgermobil
END:VEVENT
BEGIN:VEVENT
DTSTART;TZID=Europe/Berlin:20240111T150000
DTEND;TZID=Europe/Berlin:20240111T170000
DTSTAMP:20260422T120823
CREATED:20231207T094518Z
LAST-MODIFIED:20231207T094522Z
UID:33774-1704985200-1704992400@afd-thl.de
SUMMARY:Bürgermobil mit Uwe Thrum in Wurzbach
DESCRIPTION:
URL:https://afd-thl.de/termin/buergermobil-mit-uwe-thrum-in-wurzbach/
CATEGORIES:Bürgermobil
END:VEVENT
BEGIN:VEVENT
DTSTART;TZID=Europe/Berlin:20240112T100000
DTEND;TZID=Europe/Berlin:20240112T120000
DTSTAMP:20260422T120823
CREATED:20231207T093946Z
LAST-MODIFIED:20240110T111640Z
UID:33771-1705053600-1705060800@afd-thl.de
SUMMARY:Bürgermobil mit Uwe Thrum in Pößneck
DESCRIPTION:
URL:https://afd-thl.de/termin/buergermobil-mit-uwe-thrum-in-bad-lobenstein/
CATEGORIES:Bürgermobil
END:VEVENT
BEGIN:VEVENT
DTSTART;TZID=Europe/Berlin:20240112T130000
DTEND;TZID=Europe/Berlin:20240112T170000
DTSTAMP:20260422T120823
CREATED:20240110T115338Z
LAST-MODIFIED:20240110T115338Z
UID:34079-1705064400-1705078800@afd-thl.de
SUMMARY:Bürgermobil mit Dr. Jens Dietrich in Ilmenau
DESCRIPTION:
URL:https://afd-thl.de/termin/buergermobil-mit-dr-jens-dietrich-in-ilmenau/
CATEGORIES:Bürgermobil
END:VEVENT
BEGIN:VEVENT
DTSTART;TZID=Europe/Berlin:20240118T183000
DTEND;TZID=Europe/Berlin:20240118T210000
DTSTAMP:20260422T120823
CREATED:20231106T124633Z
LAST-MODIFIED:20231219T143646Z
UID:33385-1705602600-1705611600@afd-thl.de
SUMMARY:Bürgerdialog mit Björn Höcke und Stefan Möller in Gera
DESCRIPTION:
URL:https://afd-thl.de/termin/buergerdialog-mit-bjoern-hoecke-stefan-moeller-und-denny-jankowski-in-eisenberg-2/
CATEGORIES:Asylchaos,Bürgerdialog
END:VEVENT
BEGIN:VEVENT
DTSTART;TZID=Europe/Berlin:20240122T130000
DTEND;TZID=Europe/Berlin:20240122T150000
DTSTAMP:20260422T120823
CREATED:20240104T115025Z
LAST-MODIFIED:20240104T115239Z
UID:34050-1705928400-1705935600@afd-thl.de
SUMMARY:Bürgermobil mit Denny Jankowski in Hermsdorf
DESCRIPTION:
URL:https://afd-thl.de/termin/buergermobil-mit-denny-jankowski-in-hermsdorf/
CATEGORIES:Bürgermobil
END:VEVENT
BEGIN:VEVENT
DTSTART;TZID=Europe/Berlin:20240124T183000
DTEND;TZID=Europe/Berlin:20240124T210000
DTSTAMP:20260422T120823
CREATED:20231222T085538Z
LAST-MODIFIED:20231222T093839Z
UID:33985-1706121000-1706130000@afd-thl.de
SUMMARY:Bürgerdialog mit Björn Höcke und Dr Jens Dietrich in Neustadt a. R.
DESCRIPTION:
URL:https://afd-thl.de/termin/buergerdialog-mit-bjoern-hoecke-und-dr-jens-dietrich-in-neustadt-a-r/
CATEGORIES:Bürgerdialog
END:VEVENT
BEGIN:VEVENT
DTSTART;TZID=Europe/Berlin:20240125T180000
DTEND;TZID=Europe/Berlin:20240125T210000
DTSTAMP:20260422T120823
CREATED:20231219T091357Z
LAST-MODIFIED:20231219T091357Z
UID:33950-1706205600-1706216400@afd-thl.de
SUMMARY:Bürgerdialog mit Stefan Möller in Körner
DESCRIPTION:
URL:https://afd-thl.de/termin/buergerdialog-mit-stefan-moeller-in-koerner/
CATEGORIES:Bürgerdialog
END:VEVENT
BEGIN:VEVENT
DTSTART;TZID=Europe/Berlin:20240126T090000
DTEND;TZID=Europe/Berlin:20240126T130000
DTSTAMP:20260422T120823
CREATED:20240104T101631Z
LAST-MODIFIED:20240104T101831Z
UID:34041-1706259600-1706274000@afd-thl.de
SUMMARY:Bürgermobil mit Ringo Mühlmann in Pößneck
DESCRIPTION:
URL:https://afd-thl.de/termin/buergermobil-mit-ringo-muehlmann-in-poessneck/
CATEGORIES:Bürgermobil
END:VEVENT
BEGIN:VEVENT
DTSTART;TZID=Europe/Berlin:20240126T100000
DTEND;TZID=Europe/Berlin:20240126T140000
DTSTAMP:20260422T120823
CREATED:20240122T125041Z
LAST-MODIFIED:20240122T125753Z
UID:34152-1706263200-1706277600@afd-thl.de
SUMMARY:Bürgermobil mit Dr. Jens Dietrich in Ilmenau
DESCRIPTION:
URL:https://afd-thl.de/termin/buergermobil-mit-jens-dietrich/
CATEGORIES:Bürgermobil
END:VEVENT
BEGIN:VEVENT
DTSTART;TZID=Europe/Berlin:20240130T100000
DTEND;TZID=Europe/Berlin:20240130T130000
DTSTAMP:20260422T120823
CREATED:20240115T120532Z
LAST-MODIFIED:20240115T140428Z
UID:34096-1706608800-1706619600@afd-thl.de
SUMMARY:Bürgermobil in Zeulenroda
DESCRIPTION:
URL:https://afd-thl.de/termin/buergermobil-in-zeulenroda/
CATEGORIES:Bürgermobil
END:VEVENT
END:VCALENDAR