BEGIN:VCALENDAR
VERSION:2.0
PRODID:-//AfD Fraktion im Thüringer Landtag - ECPv6.15.17.1//NONSGML v1.0//EN
CALSCALE:GREGORIAN
METHOD:PUBLISH
X-ORIGINAL-URL:https://afd-thl.de
X-WR-CALDESC:Veranstaltungen für AfD Fraktion im Thüringer Landtag
REFRESH-INTERVAL;VALUE=DURATION:PT1H
X-Robots-Tag:noindex
X-PUBLISHED-TTL:PT1H
BEGIN:VTIMEZONE
TZID:Europe/Berlin
BEGIN:DAYLIGHT
TZOFFSETFROM:+0100
TZOFFSETTO:+0200
TZNAME:CEST
DTSTART:20230326T010000
END:DAYLIGHT
BEGIN:STANDARD
TZOFFSETFROM:+0200
TZOFFSETTO:+0100
TZNAME:CET
DTSTART:20231029T010000
END:STANDARD
BEGIN:DAYLIGHT
TZOFFSETFROM:+0100
TZOFFSETTO:+0200
TZNAME:CEST
DTSTART:20240331T010000
END:DAYLIGHT
BEGIN:STANDARD
TZOFFSETFROM:+0200
TZOFFSETTO:+0100
TZNAME:CET
DTSTART:20241027T010000
END:STANDARD
BEGIN:DAYLIGHT
TZOFFSETFROM:+0100
TZOFFSETTO:+0200
TZNAME:CEST
DTSTART:20250330T010000
END:DAYLIGHT
BEGIN:STANDARD
TZOFFSETFROM:+0200
TZOFFSETTO:+0100
TZNAME:CET
DTSTART:20251026T010000
END:STANDARD
END:VTIMEZONE
BEGIN:VEVENT
DTSTART;TZID=Europe/Berlin:20240205T100000
DTEND;TZID=Europe/Berlin:20240205T120000
DTSTAMP:20260422T104739
CREATED:20240123T091909Z
LAST-MODIFIED:20240123T091909Z
UID:34156-1707127200-1707134400@afd-thl.de
SUMMARY:Bürgermobil mit Stefan Möller in Eisenach
DESCRIPTION:
URL:https://afd-thl.de/termin/buergermobil-mit-stefan-moeller-in-eisenach-6/
CATEGORIES:Bürgermobil
END:VEVENT
BEGIN:VEVENT
DTSTART;TZID=Europe/Berlin:20240207T100000
DTEND;TZID=Europe/Berlin:20240207T120000
DTSTAMP:20260422T104739
CREATED:20240123T092959Z
LAST-MODIFIED:20240123T092959Z
UID:34159-1707300000-1707307200@afd-thl.de
SUMMARY:Bürgermobil mit Stefan Möller in Bad Langensalza
DESCRIPTION:
URL:https://afd-thl.de/termin/buergermobil-mit-stefan-moeller-in-bad-langensalza/
CATEGORIES:Bürgermobil
END:VEVENT
BEGIN:VEVENT
DTSTART;TZID=Europe/Berlin:20240208T090000
DTEND;TZID=Europe/Berlin:20240208T130000
DTSTAMP:20260422T104739
CREATED:20240123T102133Z
LAST-MODIFIED:20240123T102427Z
UID:34162-1707382800-1707397200@afd-thl.de
SUMMARY:Bürgermobil mit Corinna Herold in Erfurt
DESCRIPTION:
URL:https://afd-thl.de/termin/buergermobil-mit-corinna-herold-in-erfurt-9/
CATEGORIES:Bürgermobil
END:VEVENT
BEGIN:VEVENT
DTSTART;TZID=Europe/Berlin:20240208T100000
DTEND;TZID=Europe/Berlin:20240208T150000
DTSTAMP:20260422T104739
CREATED:20231027T092413Z
LAST-MODIFIED:20231027T092413Z
UID:33220-1707386400-1707404400@afd-thl.de
SUMMARY:Bürgermobil mit Nadine Hoffmann
DESCRIPTION:
URL:https://afd-thl.de/termin/buergermobil-mit-nadine-hoffmann-5/
CATEGORIES:Bürgermobil
END:VEVENT
BEGIN:VEVENT
DTSTART;TZID=Europe/Berlin:20240209T100000
DTEND;TZID=Europe/Berlin:20240209T140000
DTSTAMP:20260422T104739
CREATED:20240123T133442Z
LAST-MODIFIED:20240124T073329Z
UID:34165-1707472800-1707487200@afd-thl.de
SUMMARY:Bürgermobil mit Nadine Hoffmann in Themar und Römhild
DESCRIPTION:
URL:https://afd-thl.de/termin/34165/
CATEGORIES:Bürgermobil
END:VEVENT
BEGIN:VEVENT
DTSTART;TZID=Europe/Berlin:20240210T100000
DTEND;TZID=Europe/Berlin:20240210T130000
DTSTAMP:20260422T104739
CREATED:20240104T080543Z
LAST-MODIFIED:20240124T082931Z
UID:34038-1707559200-1707570000@afd-thl.de
SUMMARY:Bürgermobil mit Dr. Wolgang Lauerwald und Dieter Laudenbach
DESCRIPTION:
URL:https://afd-thl.de/termin/buergermobil-mit-dr-wolgang-lauerwald-und-dieter-laudenbach-2/
CATEGORIES:Bürgermobil
END:VEVENT
BEGIN:VEVENT
DTSTART;TZID=Europe/Berlin:20240214T090000
DTEND;TZID=Europe/Berlin:20240214T120000
DTSTAMP:20260422T104739
CREATED:20240124T084056Z
LAST-MODIFIED:20240124T094455Z
UID:34174-1707901200-1707912000@afd-thl.de
SUMMARY:Bürgermobil mit Tosten Czuppon in Buttstädt
DESCRIPTION:
URL:https://afd-thl.de/termin/buergermobil-mit-tosten-czuppon-in-buttstaedt/
CATEGORIES:Bürgermobil
END:VEVENT
BEGIN:VEVENT
DTSTART;TZID=Europe/Berlin:20240220T090000
DTEND;TZID=Europe/Berlin:20240220T130000
DTSTAMP:20260422T104739
CREATED:20240124T094619Z
LAST-MODIFIED:20240124T094658Z
UID:34177-1708419600-1708434000@afd-thl.de
SUMMARY:Bürgermobil mit Ringo Mühlmann in Neustadt/Orla
DESCRIPTION:
URL:https://afd-thl.de/termin/buergermobil-mit-ringo-muehlmann-in-neustadt-orla/
CATEGORIES:Bürgermobil
END:VEVENT
BEGIN:VEVENT
DTSTART;TZID=Europe/Berlin:20240220T180000
DTEND;TZID=Europe/Berlin:20240220T210000
DTSTAMP:20260422T104739
CREATED:20240130T141100Z
LAST-MODIFIED:20240130T141100Z
UID:34288-1708452000-1708462800@afd-thl.de
SUMMARY:Bürgerdialog mit Björn Höcke und Stefan Möller in Sundhausen
DESCRIPTION:
URL:https://afd-thl.de/termin/buergerdialog-mit-bjoern-hoecke-und-stefan-moeller-in-sundhausen/
CATEGORIES:Bürgerdialog
END:VEVENT
END:VCALENDAR