BEGIN:VCALENDAR
VERSION:2.0
PRODID:-//AfD Fraktion im Thüringer Landtag - ECPv6.15.17.1//NONSGML v1.0//EN
CALSCALE:GREGORIAN
METHOD:PUBLISH
X-WR-CALNAME:AfD Fraktion im Thüringer Landtag
X-ORIGINAL-URL:https://afd-thl.de
X-WR-CALDESC:Veranstaltungen für AfD Fraktion im Thüringer Landtag
REFRESH-INTERVAL;VALUE=DURATION:PT1H
X-Robots-Tag:noindex
X-PUBLISHED-TTL:PT1H
BEGIN:VTIMEZONE
TZID:Europe/Berlin
BEGIN:DAYLIGHT
TZOFFSETFROM:+0100
TZOFFSETTO:+0200
TZNAME:CEST
DTSTART:20230326T010000
END:DAYLIGHT
BEGIN:STANDARD
TZOFFSETFROM:+0200
TZOFFSETTO:+0100
TZNAME:CET
DTSTART:20231029T010000
END:STANDARD
BEGIN:DAYLIGHT
TZOFFSETFROM:+0100
TZOFFSETTO:+0200
TZNAME:CEST
DTSTART:20240331T010000
END:DAYLIGHT
BEGIN:STANDARD
TZOFFSETFROM:+0200
TZOFFSETTO:+0100
TZNAME:CET
DTSTART:20241027T010000
END:STANDARD
BEGIN:DAYLIGHT
TZOFFSETFROM:+0100
TZOFFSETTO:+0200
TZNAME:CEST
DTSTART:20250330T010000
END:DAYLIGHT
BEGIN:STANDARD
TZOFFSETFROM:+0200
TZOFFSETTO:+0100
TZNAME:CET
DTSTART:20251026T010000
END:STANDARD
END:VTIMEZONE
BEGIN:VEVENT
DTSTART;TZID=Europe/Berlin:20240304T100000
DTEND;TZID=Europe/Berlin:20240304T120000
DTSTAMP:20260422T091705
CREATED:20240220T132026Z
LAST-MODIFIED:20240220T132026Z
UID:34464-1709546400-1709553600@afd-thl.de
SUMMARY:Bürgermobil mit Denny Jankowski in Bürgel
DESCRIPTION:
URL:https://afd-thl.de/termin/buergermobil-mit-denny-jankowski-in-buergel/
CATEGORIES:Bürgermobil
END:VEVENT
BEGIN:VEVENT
DTSTART;TZID=Europe/Berlin:20240307T090000
DTEND;TZID=Europe/Berlin:20240307T120000
DTSTAMP:20260422T091705
CREATED:20240220T134533Z
LAST-MODIFIED:20240306T112127Z
UID:34471-1709802000-1709812800@afd-thl.de
SUMMARY:Bürgermobil mit Corinna Herold in Erfurt
DESCRIPTION:
URL:https://afd-thl.de/termin/buergermobil-mit-corinna-herold-in-erfurt-10/
CATEGORIES:Bürgermobil
END:VEVENT
BEGIN:VEVENT
DTSTART;TZID=Europe/Berlin:20240307T100000
DTEND;TZID=Europe/Berlin:20240307T150000
DTSTAMP:20260422T091705
CREATED:20240220T140014Z
LAST-MODIFIED:20240220T140454Z
UID:34474-1709805600-1709823600@afd-thl.de
SUMMARY:Bürgermobil mit Nadine Hoffmann in Hibu und Heldburg
DESCRIPTION:
URL:https://afd-thl.de/termin/buergermobil-mit-nadine-hoffmann-in-hibu-und-heldburg/
CATEGORIES:Bürgermobil
END:VEVENT
BEGIN:VEVENT
DTSTART;TZID=Europe/Berlin:20240308T100000
DTEND;TZID=Europe/Berlin:20240308T140000
DTSTAMP:20260422T091705
CREATED:20240220T141336Z
LAST-MODIFIED:20240220T141336Z
UID:34477-1709892000-1709906400@afd-thl.de
SUMMARY:Bürgermobil mit Nadine Hoffmann in Schleusiungen und Eisfeld
DESCRIPTION:
URL:https://afd-thl.de/termin/buergermobil-mit-nadine-hoffmann-in-schleusiungen-und-eisfeld/
CATEGORIES:Bürgermobil
END:VEVENT
BEGIN:VEVENT
DTSTART;TZID=Europe/Berlin:20240308T180000
DTEND;TZID=Europe/Berlin:20240308T200000
DTSTAMP:20260422T091705
CREATED:20240221T092413Z
LAST-MODIFIED:20240221T092413Z
UID:34486-1709920800-1709928000@afd-thl.de
SUMMARY:Bürgerdialog mit Corinna Herold und Nadine Hoffmann in Eisfeld
DESCRIPTION:
URL:https://afd-thl.de/termin/buergerdialog-mit-corinna-herold-und-nadine-hoffmann-in-eisfeld/
CATEGORIES:Bürgerdialog
END:VEVENT
BEGIN:VEVENT
DTSTART;TZID=Europe/Berlin:20240311T130000
DTEND;TZID=Europe/Berlin:20240311T150000
DTSTAMP:20260422T091705
CREATED:20240306T113137Z
LAST-MODIFIED:20240306T113214Z
UID:34572-1710162000-1710169200@afd-thl.de
SUMMARY:Bürgermobil mit Denny Jankowski in Bad Klosterlausnitz
DESCRIPTION:
URL:https://afd-thl.de/termin/buergermobil-mit-denny-jankwoski-in-bad-klosterlausnitz/
CATEGORIES:Bürgermobil
END:VEVENT
BEGIN:VEVENT
DTSTART;TZID=Europe/Berlin:20240315T100000
DTEND;TZID=Europe/Berlin:20240315T120000
DTSTAMP:20260422T091705
CREATED:20240306T113619Z
LAST-MODIFIED:20240311T092210Z
UID:34576-1710496800-1710504000@afd-thl.de
SUMMARY:Bürgermobil in Greiz
DESCRIPTION:
URL:https://afd-thl.de/termin/buergermobil-in-greiz-3/
CATEGORIES:Bürgermobil
END:VEVENT
BEGIN:VEVENT
DTSTART;TZID=Europe/Berlin:20240316T100000
DTEND;TZID=Europe/Berlin:20240316T130000
DTSTAMP:20260422T091705
CREATED:20240306T113708Z
LAST-MODIFIED:20240311T095711Z
UID:34578-1710583200-1710594000@afd-thl.de
SUMMARY:Bürgermobil mit Dr. Wolfgang Lauerwand und Dieter Laudenbach in Gera
DESCRIPTION:
URL:https://afd-thl.de/termin/buergermobil-mit-dr-wolfgang-lauerwand-und-dieter-laudenbach/
CATEGORIES:Bürgermobil
END:VEVENT
BEGIN:VEVENT
DTSTART;TZID=Europe/Berlin:20240318T100000
DTEND;TZID=Europe/Berlin:20240318T150000
DTSTAMP:20260422T091705
CREATED:20240306T113817Z
LAST-MODIFIED:20240311T101546Z
UID:34580-1710756000-1710774000@afd-thl.de
SUMMARY:Bürgermobil in Bad Liebenstein
DESCRIPTION:
URL:https://afd-thl.de/termin/buergermobil-in-bad-salzungen-und-bad-liebenstein/
CATEGORIES:Bürgermobil
END:VEVENT
BEGIN:VEVENT
DTSTART;TZID=Europe/Berlin:20240319T100000
DTEND;TZID=Europe/Berlin:20240319T130000
DTSTAMP:20260422T091705
CREATED:20240306T085545Z
LAST-MODIFIED:20240306T111214Z
UID:34558-1710842400-1710853200@afd-thl.de
SUMMARY:Bürgermobil mit Jens Cotta in Sondershausen
DESCRIPTION:
URL:https://afd-thl.de/termin/buergermobil-mit-jens-cotta-in-sondershausen/
CATEGORIES:Bürgermobil
END:VEVENT
BEGIN:VEVENT
DTSTART;TZID=Europe/Berlin:20240320T100000
DTEND;TZID=Europe/Berlin:20240320T120000
DTSTAMP:20260422T091705
CREATED:20240306T113905Z
LAST-MODIFIED:20240313T074003Z
UID:34582-1710928800-1710936000@afd-thl.de
SUMMARY:Bürgermobil in Schlotheim
DESCRIPTION:
URL:https://afd-thl.de/termin/buergermobil-in-schlotheim/
CATEGORIES:Bürgermobil
END:VEVENT
BEGIN:VEVENT
DTSTART;TZID=Europe/Berlin:20240321T090000
DTEND;TZID=Europe/Berlin:20240321T120000
DTSTAMP:20260422T091705
CREATED:20240306T105940Z
LAST-MODIFIED:20240306T111129Z
UID:34561-1711011600-1711022400@afd-thl.de
SUMMARY:Bürgermobil mit Jens Cotta in Bad Frankenhausen
DESCRIPTION:
URL:https://afd-thl.de/termin/buergermobil-mit-jens-cotta-in-bad-frankenhausen-3/
CATEGORIES:Bürgermobil
END:VEVENT
BEGIN:VEVENT
DTSTART;TZID=Europe/Berlin:20240321T090000
DTEND;TZID=Europe/Berlin:20240321T120000
DTSTAMP:20260422T091705
CREATED:20240306T114141Z
LAST-MODIFIED:20240313T082623Z
UID:34587-1711011600-1711022400@afd-thl.de
SUMMARY:Bürgermobil mit Corinna Herold in Erfurt
DESCRIPTION:
URL:https://afd-thl.de/termin/buergermobil-mit-corinna-herold-in-erfurt-11/
CATEGORIES:Bürgermobil
END:VEVENT
BEGIN:VEVENT
DTSTART;TZID=Europe/Berlin:20240321T180000
DTEND;TZID=Europe/Berlin:20240321T210000
DTSTAMP:20260422T091705
CREATED:20240306T113954Z
LAST-MODIFIED:20240312T082023Z
UID:34584-1711044000-1711054800@afd-thl.de
SUMMARY:Bürgerdialog mit Björn Höcke und Stefan Möller in Leinefelde
DESCRIPTION:
URL:https://afd-thl.de/termin/buergerdialog-mit-bjoern-hoecke-und-stefan-moeller-in-leinefelde/
CATEGORIES:Bürgerdialog
END:VEVENT
BEGIN:VEVENT
DTSTART;TZID=Europe/Berlin:20240322T090000
DTEND;TZID=Europe/Berlin:20240322T130000
DTSTAMP:20260422T091705
CREATED:20240306T114316Z
LAST-MODIFIED:20240313T091117Z
UID:34592-1711098000-1711112400@afd-thl.de
SUMMARY:Bürgermobil mit Ringo Mühlmann in Pößneck
DESCRIPTION:
URL:https://afd-thl.de/termin/buergermobil-mit-ringo-muehlmann-in-poessneck-2/
CATEGORIES:Bürgermobil
END:VEVENT
BEGIN:VEVENT
DTSTART;TZID=Europe/Berlin:20240322T150000
DTEND;TZID=Europe/Berlin:20240322T170000
DTSTAMP:20260422T091705
CREATED:20240306T114237Z
LAST-MODIFIED:20240311T132850Z
UID:34590-1711119600-1711126800@afd-thl.de
SUMMARY:Bürgermobil mit Dr. Jens Dietrich in Ilmenau
DESCRIPTION:
URL:https://afd-thl.de/termin/buergermobil-mit-dr-jens-dietrich-in-ilmenau-2/
CATEGORIES:Bürgermobil
END:VEVENT
BEGIN:VEVENT
DTSTART;TZID=Europe/Berlin:20240327T180000
DTEND;TZID=Europe/Berlin:20240327T210000
DTSTAMP:20260422T091705
CREATED:20240306T114444Z
LAST-MODIFIED:20240313T082136Z
UID:34596-1711562400-1711573200@afd-thl.de
SUMMARY:Bürgerdialog mit Denny Jankowski und Rene Aust in Kahla
DESCRIPTION:
URL:https://afd-thl.de/termin/buergerdialog-mit-denny-jankowski-und-rene-aust-in-kahla/
CATEGORIES:Bürgerdialog
END:VEVENT
BEGIN:VEVENT
DTSTART;TZID=Europe/Berlin:20240328T090000
DTEND;TZID=Europe/Berlin:20240328T120000
DTSTAMP:20260422T091705
CREATED:20240306T114526Z
LAST-MODIFIED:20240311T124055Z
UID:34598-1711616400-1711627200@afd-thl.de
SUMMARY:Bürgermobil mit Torsten Czuppon in Sömmerda
DESCRIPTION:
URL:https://afd-thl.de/termin/buergermobil-mit-torsten-czuppon-in-soemmerda-2/
CATEGORIES:Bürgermobil
END:VEVENT
BEGIN:VEVENT
DTSTART;TZID=Europe/Berlin:20240328T100000
DTEND;TZID=Europe/Berlin:20240328T120000
DTSTAMP:20260422T091705
CREATED:20240306T114624Z
LAST-MODIFIED:20240311T114142Z
UID:34600-1711620000-1711627200@afd-thl.de
SUMMARY:Bürgermobil mit Thomas Rudy in Schmölln
DESCRIPTION:
URL:https://afd-thl.de/termin/buergermobil-mit-thomas-rudy-in-schmoelln-3/
CATEGORIES:Bürgermobil
END:VEVENT
END:VCALENDAR