BEGIN:VCALENDAR
VERSION:2.0
PRODID:-//AfD Fraktion im Thüringer Landtag - ECPv6.15.17.1//NONSGML v1.0//EN
CALSCALE:GREGORIAN
METHOD:PUBLISH
X-ORIGINAL-URL:https://afd-thl.de
X-WR-CALDESC:Veranstaltungen für AfD Fraktion im Thüringer Landtag
REFRESH-INTERVAL;VALUE=DURATION:PT1H
X-Robots-Tag:noindex
X-PUBLISHED-TTL:PT1H
BEGIN:VTIMEZONE
TZID:Europe/Berlin
BEGIN:DAYLIGHT
TZOFFSETFROM:+0100
TZOFFSETTO:+0200
TZNAME:CEST
DTSTART:20230326T010000
END:DAYLIGHT
BEGIN:STANDARD
TZOFFSETFROM:+0200
TZOFFSETTO:+0100
TZNAME:CET
DTSTART:20231029T010000
END:STANDARD
BEGIN:DAYLIGHT
TZOFFSETFROM:+0100
TZOFFSETTO:+0200
TZNAME:CEST
DTSTART:20240331T010000
END:DAYLIGHT
BEGIN:STANDARD
TZOFFSETFROM:+0200
TZOFFSETTO:+0100
TZNAME:CET
DTSTART:20241027T010000
END:STANDARD
BEGIN:DAYLIGHT
TZOFFSETFROM:+0100
TZOFFSETTO:+0200
TZNAME:CEST
DTSTART:20250330T010000
END:DAYLIGHT
BEGIN:STANDARD
TZOFFSETFROM:+0200
TZOFFSETTO:+0100
TZNAME:CET
DTSTART:20251026T010000
END:STANDARD
END:VTIMEZONE
BEGIN:VEVENT
DTSTART;TZID=Europe/Berlin:20240403T090000
DTEND;TZID=Europe/Berlin:20240403T120000
DTSTAMP:20260422T080251
CREATED:20240320T133024Z
LAST-MODIFIED:20240320T133211Z
UID:34689-1712134800-1712145600@afd-thl.de
SUMMARY:Bürgermobil mit Torsten Czuppon in Kindelbrück
DESCRIPTION:
URL:https://afd-thl.de/termin/buergermobil-mit-torsten-czuppon-in-kindelbrueck-3/
CATEGORIES:Bürgermobil
END:VEVENT
BEGIN:VEVENT
DTSTART;TZID=Europe/Berlin:20240404T100000
DTEND;TZID=Europe/Berlin:20240404T150000
DTSTAMP:20260422T080251
CREATED:20240320T150730Z
LAST-MODIFIED:20240402T091305Z
UID:34696-1712224800-1712242800@afd-thl.de
SUMMARY:Bürgermobil mit Nadine Hoffmann in Hildburghausen und Streufdorf
DESCRIPTION:
URL:https://afd-thl.de/termin/buergermobil-mit-nadine-hoffmann-in-hildburghausen-und-straufheim/
CATEGORIES:Bürgermobil
END:VEVENT
BEGIN:VEVENT
DTSTART;TZID=Europe/Berlin:20240405T100000
DTEND;TZID=Europe/Berlin:20240405T140000
DTSTAMP:20260422T080251
CREATED:20240320T151711Z
LAST-MODIFIED:20240320T151711Z
UID:34699-1712311200-1712325600@afd-thl.de
SUMMARY:Bürgermobil mit Nadine Hoffmann in Themar und Milz
DESCRIPTION:
URL:https://afd-thl.de/termin/buergermobil-mit-nadine-hoffmann-in-themar-und-milz/
CATEGORIES:Bürgermobil
END:VEVENT
BEGIN:VEVENT
DTSTART;TZID=Europe/Berlin:20240405T150000
DTEND;TZID=Europe/Berlin:20240405T170000
DTSTAMP:20260422T080251
CREATED:20240403T113745Z
LAST-MODIFIED:20240403T113745Z
UID:34997-1712329200-1712336400@afd-thl.de
SUMMARY:Bürgermobil mit Dr. Jens Dietrich in Ilmenau
DESCRIPTION:
URL:https://afd-thl.de/termin/buergermobil-mit-dr-jens-dietrich-in-ilmenau-3/
CATEGORIES:Bürgermobil
END:VEVENT
BEGIN:VEVENT
DTSTART;TZID=Europe/Berlin:20240406T100000
DTEND;TZID=Europe/Berlin:20240406T130000
DTSTAMP:20260422T080251
CREATED:20240402T091643Z
LAST-MODIFIED:20240402T091643Z
UID:34965-1712397600-1712408400@afd-thl.de
SUMMARY:Bürgermobil mit Dr. Wolfgang Lauerwald und Dieter Laudenbach in Gera
DESCRIPTION:
URL:https://afd-thl.de/termin/buergermobil-mit-dr-wolfgang-lauerwald-und-dieter-laudenbach-in-gera-4/
CATEGORIES:Bürgermobil
END:VEVENT
BEGIN:VEVENT
DTSTART;TZID=Europe/Berlin:20240408T100000
DTEND;TZID=Europe/Berlin:20240408T120000
DTSTAMP:20260422T080251
CREATED:20240321T082705Z
LAST-MODIFIED:20240321T082720Z
UID:34705-1712570400-1712577600@afd-thl.de
SUMMARY:Bürgermobil in Gerstungen
DESCRIPTION:
URL:https://afd-thl.de/termin/buergermobil-in-gerstungen/
CATEGORIES:Bürgermobil
END:VEVENT
BEGIN:VEVENT
DTSTART;TZID=Europe/Berlin:20240409T180000
DTEND;TZID=Europe/Berlin:20240409T210000
DTSTAMP:20260422T080251
CREATED:20240321T083222Z
LAST-MODIFIED:20240321T083222Z
UID:34708-1712685600-1712696400@afd-thl.de
SUMMARY:Bürgerdialog mit Nadine Hoffmann in Oberstadt
DESCRIPTION:
URL:https://afd-thl.de/termin/buergerdialog-mit-nadine-hoffmann-in-oberstadt/
CATEGORIES:Bürgerdialog
END:VEVENT
BEGIN:VEVENT
DTSTART;TZID=Europe/Berlin:20240411T100000
DTEND;TZID=Europe/Berlin:20240411T120000
DTSTAMP:20260422T080251
CREATED:20240321T085904Z
LAST-MODIFIED:20240321T090609Z
UID:34712-1712829600-1712836800@afd-thl.de
SUMMARY:Bürgermobil in Bad Tennstedt
DESCRIPTION:
URL:https://afd-thl.de/termin/buergermobil-in-bad-tennstedt/
CATEGORIES:Bürgermobil
END:VEVENT
BEGIN:VEVENT
DTSTART;TZID=Europe/Berlin:20240411T123000
DTEND;TZID=Europe/Berlin:20240411T140000
DTSTAMP:20260422T080251
CREATED:20240321T094230Z
LAST-MODIFIED:20240321T094230Z
UID:34717-1712838600-1712844000@afd-thl.de
SUMMARY:Bürgermobil in Herbsleben
DESCRIPTION:
URL:https://afd-thl.de/termin/buergermobil-in-herbsleben/
CATEGORIES:Bürgermobil
END:VEVENT
BEGIN:VEVENT
DTSTART;TZID=Europe/Berlin:20240412T090000
DTEND;TZID=Europe/Berlin:20240412T120000
DTSTAMP:20260422T080251
CREATED:20240411T104949Z
LAST-MODIFIED:20240411T104949Z
UID:35034-1712912400-1712923200@afd-thl.de
SUMMARY:Bürgermobil mit Jens Cotta
DESCRIPTION:
URL:https://afd-thl.de/termin/buergermobil-mit-jens-cotta-5/
CATEGORIES:Bürgermobil
END:VEVENT
BEGIN:VEVENT
DTSTART;TZID=Europe/Berlin:20240413T080000
DTEND;TZID=Europe/Berlin:20240413T110000
DTSTAMP:20260422T080251
CREATED:20240322T132158Z
LAST-MODIFIED:20240322T132158Z
UID:34781-1712995200-1713006000@afd-thl.de
SUMMARY:Bürgermobil mit Stefan Möller in Erfurt
DESCRIPTION:
URL:https://afd-thl.de/termin/buergermobil-mit-stefan-moeller-in-erfurt-3/
CATEGORIES:Bürgermobil
END:VEVENT
BEGIN:VEVENT
DTSTART;TZID=Europe/Berlin:20240416T100000
DTEND;TZID=Europe/Berlin:20240416T130000
DTSTAMP:20260422T080251
CREATED:20240322T135248Z
LAST-MODIFIED:20240322T135328Z
UID:34792-1713261600-1713272400@afd-thl.de
SUMMARY:Bürgermobil mit Ringo Mühlmann in Neustadt/Orla
DESCRIPTION:
URL:https://afd-thl.de/termin/buergermobil-mit-ringo-muehlmann-in-neustadt-orla-2/
CATEGORIES:Bürgermobil
END:VEVENT
BEGIN:VEVENT
DTSTART;TZID=Europe/Berlin:20240417T180000
DTEND;TZID=Europe/Berlin:20240417T210000
DTSTAMP:20260422T080251
CREATED:20240322T133439Z
LAST-MODIFIED:20240322T133439Z
UID:34784-1713376800-1713387600@afd-thl.de
SUMMARY:Bürgerdialog mit Björn Höcke und Stefan Möller in Straußfurt
DESCRIPTION:
URL:https://afd-thl.de/termin/buergerdialog-mit-bjoern-hoecke-und-stefan-moeller-in-straussfurt/
CATEGORIES:Bürgerdialog
END:VEVENT
BEGIN:VEVENT
DTSTART;TZID=Europe/Berlin:20240418T090000
DTEND;TZID=Europe/Berlin:20240418T120000
DTSTAMP:20260422T080251
CREATED:20240322T135806Z
LAST-MODIFIED:20240322T135906Z
UID:34795-1713430800-1713441600@afd-thl.de
SUMMARY:Bürgermobil mit Corinna Herold in Erfurt
DESCRIPTION:
URL:https://afd-thl.de/termin/buergermobil-mit-corinna-herold-in-erfurt-12/
CATEGORIES:Bürgermobil
END:VEVENT
BEGIN:VEVENT
DTSTART;TZID=Europe/Berlin:20240419T150000
DTEND;TZID=Europe/Berlin:20240419T170000
DTSTAMP:20260422T080251
CREATED:20240403T120043Z
LAST-MODIFIED:20240403T120303Z
UID:35000-1713538800-1713546000@afd-thl.de
SUMMARY:Bürgermobil mit Dr. Jens Dietrich in Ilmenau
DESCRIPTION:
URL:https://afd-thl.de/termin/buergermobil-mit-dr-jens-dietrich-in-ilmenau-4/
CATEGORIES:Bürgermobil
END:VEVENT
BEGIN:VEVENT
DTSTART;TZID=Europe/Berlin:20240419T173000
DTEND;TZID=Europe/Berlin:20240419T190000
DTSTAMP:20260422T080251
CREATED:20240418T132844Z
LAST-MODIFIED:20240418T135229Z
UID:35133-1713547800-1713553200@afd-thl.de
SUMMARY:Bürgermobil mit Stefan Möller in Mühlberg
DESCRIPTION:
URL:https://afd-thl.de/termin/buergermobil-mit-stefan-moeller-in-muehlberg/
CATEGORIES:Bürgermobil
END:VEVENT
BEGIN:VEVENT
DTSTART;TZID=Europe/Berlin:20240423T150000
DTEND;TZID=Europe/Berlin:20240423T180000
DTSTAMP:20260422T080251
CREATED:20240320T144941Z
LAST-MODIFIED:20240320T144941Z
UID:34693-1713884400-1713895200@afd-thl.de
SUMMARY:Bürgermobil mit Torsten Czuppon in Rastenberg
DESCRIPTION:
URL:https://afd-thl.de/termin/buergermobil-mit-torsten-czuppon-in-rastenberg-2/
CATEGORIES:Bürgermobil
END:VEVENT
BEGIN:VEVENT
DTSTART;TZID=Europe/Berlin:20240429T180000
DTEND;TZID=Europe/Berlin:20240429T210000
DTSTAMP:20260422T080251
CREATED:20240424T092607Z
LAST-MODIFIED:20240424T100423Z
UID:35180-1714413600-1714424400@afd-thl.de
SUMMARY:Bürgerdialog mit Björn Höcke und Stefan Möller in Frankenheim
DESCRIPTION:
URL:https://afd-thl.de/termin/buergerdialog-mit-bjoern-hoecke-und-stefan-moeller-in-frankenheim/
CATEGORIES:Bürgerdialog
END:VEVENT
END:VCALENDAR