BEGIN:VCALENDAR
VERSION:2.0
PRODID:-//AfD Fraktion im Thüringer Landtag - ECPv6.15.17.1//NONSGML v1.0//EN
CALSCALE:GREGORIAN
METHOD:PUBLISH
X-ORIGINAL-URL:https://afd-thl.de
X-WR-CALDESC:Veranstaltungen für AfD Fraktion im Thüringer Landtag
REFRESH-INTERVAL;VALUE=DURATION:PT1H
X-Robots-Tag:noindex
X-PUBLISHED-TTL:PT1H
BEGIN:VTIMEZONE
TZID:Europe/Berlin
BEGIN:DAYLIGHT
TZOFFSETFROM:+0100
TZOFFSETTO:+0200
TZNAME:CEST
DTSTART:20230326T010000
END:DAYLIGHT
BEGIN:STANDARD
TZOFFSETFROM:+0200
TZOFFSETTO:+0100
TZNAME:CET
DTSTART:20231029T010000
END:STANDARD
BEGIN:DAYLIGHT
TZOFFSETFROM:+0100
TZOFFSETTO:+0200
TZNAME:CEST
DTSTART:20240331T010000
END:DAYLIGHT
BEGIN:STANDARD
TZOFFSETFROM:+0200
TZOFFSETTO:+0100
TZNAME:CET
DTSTART:20241027T010000
END:STANDARD
BEGIN:DAYLIGHT
TZOFFSETFROM:+0100
TZOFFSETTO:+0200
TZNAME:CEST
DTSTART:20250330T010000
END:DAYLIGHT
BEGIN:STANDARD
TZOFFSETFROM:+0200
TZOFFSETTO:+0100
TZNAME:CET
DTSTART:20251026T010000
END:STANDARD
END:VTIMEZONE
BEGIN:VEVENT
DTSTART;TZID=Europe/Berlin:20240502T090000
DTEND;TZID=Europe/Berlin:20240502T120000
DTSTAMP:20260422T064022
CREATED:20240417T083206Z
LAST-MODIFIED:20240417T083206Z
UID:35092-1714640400-1714651200@afd-thl.de
SUMMARY:Bürgermobil mit Corinna Herold in Erfurt
DESCRIPTION:
URL:https://afd-thl.de/termin/buergermobil-mit-corinna-herold-in-erfurt-13/
CATEGORIES:Bürgermobil
END:VEVENT
BEGIN:VEVENT
DTSTART;TZID=Europe/Berlin:20240502T130000
DTEND;TZID=Europe/Berlin:20240502T140000
DTSTAMP:20260422T064022
CREATED:20240418T094526Z
LAST-MODIFIED:20240418T101920Z
UID:35123-1714654800-1714658400@afd-thl.de
SUMMARY:Bürgermobil mit Nadine Hoffmann in Heldburg
DESCRIPTION:
URL:https://afd-thl.de/termin/buergermobil-mit-nadine-hoffmann-in-heldburg-4/
CATEGORIES:Bürgermobil
END:VEVENT
BEGIN:VEVENT
DTSTART;TZID=Europe/Berlin:20240502T143000
DTEND;TZID=Europe/Berlin:20240502T163000
DTSTAMP:20260422T064022
CREATED:20240418T083303Z
LAST-MODIFIED:20240418T083303Z
UID:35120-1714660200-1714667400@afd-thl.de
SUMMARY:Bürgermobil mit Nadine Hoffmann in Hildburghausen
DESCRIPTION:
URL:https://afd-thl.de/termin/buergermobil-mit-nadine-hoffmann-in-hildburghausen-4/
CATEGORIES:Bürgermobil
END:VEVENT
BEGIN:VEVENT
DTSTART;TZID=Europe/Berlin:20240503T100000
DTEND;TZID=Europe/Berlin:20240503T120000
DTSTAMP:20260422T064022
CREATED:20240418T124016Z
LAST-MODIFIED:20240418T130508Z
UID:35126-1714730400-1714737600@afd-thl.de
SUMMARY:Bürgermobil mit Nadine Hoffman in Römhild
DESCRIPTION:
URL:https://afd-thl.de/termin/buergermobil-mit-nadine-hoffman-in-roemhild/
CATEGORIES:Bürgermobil
END:VEVENT
BEGIN:VEVENT
DTSTART;TZID=Europe/Berlin:20240503T130000
DTEND;TZID=Europe/Berlin:20240503T150000
DTSTAMP:20260422T064022
CREATED:20240418T130715Z
LAST-MODIFIED:20240418T132741Z
UID:35129-1714741200-1714748400@afd-thl.de
SUMMARY:Bürgermobil mit Nadine Hoffmann in Jüchsen
DESCRIPTION:
URL:https://afd-thl.de/termin/buergermobil-mit-nadine-hoffmann-in-juechsen/
CATEGORIES:Bürgermobil
END:VEVENT
BEGIN:VEVENT
DTSTART;TZID=Europe/Berlin:20240503T150000
DTEND;TZID=Europe/Berlin:20240503T170000
DTSTAMP:20260422T064022
CREATED:20240403T120423Z
LAST-MODIFIED:20240403T120423Z
UID:35003-1714748400-1714755600@afd-thl.de
SUMMARY:Bürgermobil mit Dr. Jens Dietrich in Ilmenau
DESCRIPTION:
URL:https://afd-thl.de/termin/buergermobil-mit-dr-jens-dietrich-in-ilmenau-5/
CATEGORIES:Bürgermobil
END:VEVENT
BEGIN:VEVENT
DTSTART;TZID=Europe/Berlin:20240506T100000
DTEND;TZID=Europe/Berlin:20240506T140000
DTSTAMP:20260422T064022
CREATED:20240419T083756Z
LAST-MODIFIED:20240506T064813Z
UID:35136-1714989600-1715004000@afd-thl.de
SUMMARY:Bürgermobil mit Denny Jankowski in Kahla
DESCRIPTION:
URL:https://afd-thl.de/termin/buergermobil-mit-denyy-jankowski-in-kahla/
CATEGORIES:Bürgermobil
END:VEVENT
BEGIN:VEVENT
DTSTART;TZID=Europe/Berlin:20240506T180000
DTEND;TZID=Europe/Berlin:20240506T210000
DTSTAMP:20260422T064022
CREATED:20240424T073309Z
LAST-MODIFIED:20240424T073309Z
UID:35177-1715018400-1715029200@afd-thl.de
SUMMARY:Bürgerdialog mit Björn Höcke in Weida
DESCRIPTION:
URL:https://afd-thl.de/termin/buergerdialog-mit-bjoern-hoecke-in-weida/
CATEGORIES:Bürgerdialog
END:VEVENT
BEGIN:VEVENT
DTSTART;TZID=Europe/Berlin:20240507T183000
DTEND;TZID=Europe/Berlin:20240507T210000
DTSTAMP:20260422T064022
CREATED:20240506T061211Z
LAST-MODIFIED:20240506T061238Z
UID:35353-1715106600-1715115600@afd-thl.de
SUMMARY:Bürgerdialog mit Stefan Möller und Dr. Jens Dietrich in Martinroda
DESCRIPTION:
URL:https://afd-thl.de/termin/buergerdialog-mit-stefan-moeller-und-dr-jens-dietrich-in-martinroda/
CATEGORIES:Bürgerdialog
END:VEVENT
BEGIN:VEVENT
DTSTART;TZID=Europe/Berlin:20240508T150000
DTEND;TZID=Europe/Berlin:20240508T180000
DTSTAMP:20260422T064022
CREATED:20240422T081326Z
LAST-MODIFIED:20240422T081326Z
UID:35149-1715180400-1715191200@afd-thl.de
SUMMARY:Bürgermobil mit Torsten Czuppon in Buttstädt
DESCRIPTION:
URL:https://afd-thl.de/termin/buergermobil-mit-torsten-czuppon-in-buttstaedt-3/
CATEGORIES:Bürgermobil
END:VEVENT
BEGIN:VEVENT
DTSTART;TZID=Europe/Berlin:20240510T093000
DTEND;TZID=Europe/Berlin:20240510T130000
DTSTAMP:20260422T064022
CREATED:20240423T072238Z
LAST-MODIFIED:20240423T072238Z
UID:35156-1715333400-1715346000@afd-thl.de
SUMMARY:Bürgermobil mit Thomas Gröger in Mühlhausen
DESCRIPTION:
URL:https://afd-thl.de/termin/buergermobil-mit-thomas-groeger-in-muehlhausen-3/
CATEGORIES:Bürgermobil
END:VEVENT
BEGIN:VEVENT
DTSTART;TZID=Europe/Berlin:20240511T150000
DTEND;TZID=Europe/Berlin:20240511T170000
DTSTAMP:20260422T064022
CREATED:20240506T073246Z
LAST-MODIFIED:20240506T073246Z
UID:35356-1715439600-1715446800@afd-thl.de
SUMMARY:Bürgermobil mit Stefan Möller in Kerspleben
DESCRIPTION:
URL:https://afd-thl.de/termin/buergermobil-mit-stefan-moeller-in-kerspleben/
CATEGORIES:Bürgermobil
END:VEVENT
BEGIN:VEVENT
DTSTART;TZID=Europe/Berlin:20240513T100000
DTEND;TZID=Europe/Berlin:20240513T120000
DTSTAMP:20260422T064022
CREATED:20240423T073013Z
LAST-MODIFIED:20240507T060624Z
UID:35159-1715594400-1715601600@afd-thl.de
SUMMARY:Bürgermobil in Creuzburg
DESCRIPTION:
URL:https://afd-thl.de/termin/buergermobil-in-creuzburg/
CATEGORIES:Bürgermobil
END:VEVENT
BEGIN:VEVENT
DTSTART;TZID=Europe/Berlin:20240513T183000
DTEND;TZID=Europe/Berlin:20240513T210000
DTSTAMP:20260422T064022
CREATED:20240506T080049Z
LAST-MODIFIED:20240507T060409Z
UID:35359-1715625000-1715634000@afd-thl.de
SUMMARY:Bürgerdialog mit Björn Höcke und Stefan Möller in Sondershausen
DESCRIPTION:
URL:https://afd-thl.de/termin/buergerdialog-mit-bjoern-hoecke-und-stefan-moeller-in-martinroda/
CATEGORIES:Bürgerdialog
END:VEVENT
BEGIN:VEVENT
DTSTART;TZID=Europe/Berlin:20240514T130000
DTEND;TZID=Europe/Berlin:20240514T150000
DTSTAMP:20260422T064022
CREATED:20240419T124129Z
LAST-MODIFIED:20240419T124129Z
UID:35139-1715691600-1715698800@afd-thl.de
SUMMARY:Bürgermobil mit Dennny Jankowski in Kahla
DESCRIPTION:
URL:https://afd-thl.de/termin/buergermobil-mit-dennny-jankowski-in-kahla/
CATEGORIES:Bürgermobil
END:VEVENT
BEGIN:VEVENT
DTSTART;TZID=Europe/Berlin:20240514T163000
DTEND;TZID=Europe/Berlin:20240514T190000
DTSTAMP:20260422T064022
CREATED:20240506T080933Z
LAST-MODIFIED:20240506T080933Z
UID:35363-1715704200-1715713200@afd-thl.de
SUMMARY:Bürgermobil mit Ringo Mühlmann in Trannroda und Herschdorf
DESCRIPTION:
URL:https://afd-thl.de/termin/buergermobil-mit-ringo-muehlmann-in-trannroda-und-herschdorf/
CATEGORIES:Bürgermobil
END:VEVENT
BEGIN:VEVENT
DTSTART;TZID=Europe/Berlin:20240515T100000
DTEND;TZID=Europe/Berlin:20240515T130000
DTSTAMP:20260422T064022
CREATED:20240423T082656Z
LAST-MODIFIED:20240423T083142Z
UID:35168-1715767200-1715778000@afd-thl.de
SUMMARY:Bürgermobil mit Stefan Möller in Bad Langensalza
DESCRIPTION:
URL:https://afd-thl.de/termin/buergermobil-mit-stefan-moeller-in-bad-langensalza-2/
CATEGORIES:Bürgermobil
END:VEVENT
BEGIN:VEVENT
DTSTART;TZID=Europe/Berlin:20240516T183000
DTEND;TZID=Europe/Berlin:20240516T210000
DTSTAMP:20260422T064022
CREATED:20240506T081551Z
LAST-MODIFIED:20240506T081551Z
UID:35366-1715884200-1715893200@afd-thl.de
SUMMARY:Bürgerdialog mit Björn Höcke in Sömmerda
DESCRIPTION:
URL:https://afd-thl.de/termin/buergerdialog-mit-bjoern-hoecke-in-soemmerda/
CATEGORIES:Bürgerdialog
END:VEVENT
BEGIN:VEVENT
DTSTART;TZID=Europe/Berlin:20240517T090000
DTEND;TZID=Europe/Berlin:20240517T130000
DTSTAMP:20260422T064022
CREATED:20240423T081345Z
LAST-MODIFIED:20240423T081718Z
UID:35165-1715936400-1715950800@afd-thl.de
SUMMARY:Bürgermobil mit Ringo Mühlmann in Triptis
DESCRIPTION:
URL:https://afd-thl.de/termin/buergermobil-mit-ringo-muehlmann-in-triptis/
CATEGORIES:Bürgermobil
END:VEVENT
BEGIN:VEVENT
DTSTART;TZID=Europe/Berlin:20240517T150000
DTEND;TZID=Europe/Berlin:20240517T170000
DTSTAMP:20260422T064022
CREATED:20240403T120926Z
LAST-MODIFIED:20240403T120933Z
UID:35006-1715958000-1715965200@afd-thl.de
SUMMARY:Bürgermobil mit Dr. Jens Dietrich in Ilmenau
DESCRIPTION:
URL:https://afd-thl.de/termin/buergermobil-mit-dr-jens-dietrich-in-ilmenau-6/
CATEGORIES:Bürgermobil
END:VEVENT
BEGIN:VEVENT
DTSTART;TZID=Europe/Berlin:20240517T183000
DTEND;TZID=Europe/Berlin:20240517T210000
DTSTAMP:20260422T064022
CREATED:20240506T082620Z
LAST-MODIFIED:20240506T082620Z
UID:35369-1715970600-1715979600@afd-thl.de
SUMMARY:Bürgerdialog mit Björn Höcke in Greiz
DESCRIPTION:
URL:https://afd-thl.de/termin/buergerdialog-mit-bjoern-hoecke-in-greiz/
CATEGORIES:Bürgerdialog
END:VEVENT
BEGIN:VEVENT
DTSTART;TZID=Europe/Berlin:20240518T100000
DTEND;TZID=Europe/Berlin:20240518T130000
DTSTAMP:20260422T064022
CREATED:20240506T083434Z
LAST-MODIFIED:20240506T083443Z
UID:35372-1716026400-1716037200@afd-thl.de
SUMMARY:Bürgermobil mit Dr. Wolfgang Lauerwald und Dieter Laudenbach in Gera
DESCRIPTION:
URL:https://afd-thl.de/termin/buergermobil-mit-dr-wolfgang-lauerwald-und-dieter-laudenbach-in-gera-6/
CATEGORIES:Bürgermobil
END:VEVENT
BEGIN:VEVENT
DTSTART;TZID=Europe/Berlin:20240521T163000
DTEND;TZID=Europe/Berlin:20240521T190000
DTSTAMP:20260422T064022
CREATED:20240506T090309Z
LAST-MODIFIED:20240506T090340Z
UID:35380-1716309000-1716318000@afd-thl.de
SUMMARY:Bürgermobil mit Ringo Mühlmann in Krölpa und Rockendorf
DESCRIPTION:
URL:https://afd-thl.de/termin/buergermobil-mit-ringo-muehlmann-in-kroelpa-und-rockendorf/
CATEGORIES:Bürgermobil
END:VEVENT
BEGIN:VEVENT
DTSTART;TZID=Europe/Berlin:20240521T183000
DTEND;TZID=Europe/Berlin:20240521T210000
DTSTAMP:20260422T064022
CREATED:20240506T085937Z
LAST-MODIFIED:20240516T060718Z
UID:35377-1716316200-1716325200@afd-thl.de
SUMMARY:Bürgerdialog mit Stefan Möller in Bad Liebenstein
DESCRIPTION:
URL:https://afd-thl.de/termin/buergerdialog-mit-bjoern-hoecke-und-stefan-moeller-in-bad-liebenstein/
CATEGORIES:Bürgerdialog
END:VEVENT
BEGIN:VEVENT
DTSTART;TZID=Europe/Berlin:20240523T080000
DTEND;TZID=Europe/Berlin:20240523T170000
DTSTAMP:20260422T064022
CREATED:20240506T091847Z
LAST-MODIFIED:20240522T123417Z
UID:35383-1716451200-1716483600@afd-thl.de
SUMMARY:Bürgermobil Torsten Czuppon in Kölleda
DESCRIPTION:
URL:https://afd-thl.de/termin/buergermobil-torsten-czuppon/
CATEGORIES:Bürgermobil
END:VEVENT
BEGIN:VEVENT
DTSTART;TZID=Europe/Berlin:20240523T183000
DTEND;TZID=Europe/Berlin:20240523T210000
DTSTAMP:20260422T064022
CREATED:20240506T092301Z
LAST-MODIFIED:20240518T044719Z
UID:35385-1716489000-1716498000@afd-thl.de
SUMMARY:Bürgerdialog mit Björn Höcke und Stefan Möller in Ichstedt
DESCRIPTION:
URL:https://afd-thl.de/termin/buergerdialog-mit-bjoern-hoecke-in-ichstedt-2/
CATEGORIES:Bürgerdialog
END:VEVENT
BEGIN:VEVENT
DTSTART;TZID=Europe/Berlin:20240524T140000
DTEND;TZID=Europe/Berlin:20240524T180000
DTSTAMP:20260422T064022
CREATED:20240423T084045Z
LAST-MODIFIED:20240423T090935Z
UID:35171-1716559200-1716573600@afd-thl.de
SUMMARY:Bürgermobil mit Thomas Gröger in Mühlhausen
DESCRIPTION:
URL:https://afd-thl.de/termin/buergermobil-mit-thomas-groeger-in-muehlhausen-4/
CATEGORIES:Bürgermobil
END:VEVENT
BEGIN:VEVENT
DTSTART;TZID=Europe/Berlin:20240524T170000
DTEND;TZID=Europe/Berlin:20240524T200000
DTSTAMP:20260422T064022
CREATED:20240424T114326Z
LAST-MODIFIED:20240424T114326Z
UID:35186-1716570000-1716580800@afd-thl.de
SUMMARY:Bürgermobil mit Dr. Wolfgang Lauerwald und Dieter Laudenbach in Gera
DESCRIPTION:
URL:https://afd-thl.de/termin/buergermobil-mit-dr-wolfgang-lauerwald-und-dieter-laudenbach-in-gera-5/
CATEGORIES:Bürgermobil
END:VEVENT
END:VCALENDAR