BEGIN:VCALENDAR
VERSION:2.0
PRODID:-//AfD Fraktion im Thüringer Landtag - ECPv6.15.17.1//NONSGML v1.0//EN
CALSCALE:GREGORIAN
METHOD:PUBLISH
X-WR-CALNAME:AfD Fraktion im Thüringer Landtag
X-ORIGINAL-URL:https://afd-thl.de
X-WR-CALDESC:Veranstaltungen für AfD Fraktion im Thüringer Landtag
REFRESH-INTERVAL;VALUE=DURATION:PT1H
X-Robots-Tag:noindex
X-PUBLISHED-TTL:PT1H
BEGIN:VTIMEZONE
TZID:Europe/Berlin
BEGIN:DAYLIGHT
TZOFFSETFROM:+0100
TZOFFSETTO:+0200
TZNAME:CEST
DTSTART:20230326T010000
END:DAYLIGHT
BEGIN:STANDARD
TZOFFSETFROM:+0200
TZOFFSETTO:+0100
TZNAME:CET
DTSTART:20231029T010000
END:STANDARD
BEGIN:DAYLIGHT
TZOFFSETFROM:+0100
TZOFFSETTO:+0200
TZNAME:CEST
DTSTART:20240331T010000
END:DAYLIGHT
BEGIN:STANDARD
TZOFFSETFROM:+0200
TZOFFSETTO:+0100
TZNAME:CET
DTSTART:20241027T010000
END:STANDARD
BEGIN:DAYLIGHT
TZOFFSETFROM:+0100
TZOFFSETTO:+0200
TZNAME:CEST
DTSTART:20250330T010000
END:DAYLIGHT
BEGIN:STANDARD
TZOFFSETFROM:+0200
TZOFFSETTO:+0100
TZNAME:CET
DTSTART:20251026T010000
END:STANDARD
END:VTIMEZONE
BEGIN:VEVENT
DTSTART;TZID=Europe/Berlin:20240603T130000
DTEND;TZID=Europe/Berlin:20240603T150000
DTSTAMP:20260422T051941
CREATED:20240506T102549Z
LAST-MODIFIED:20240506T102549Z
UID:35387-1717419600-1717426800@afd-thl.de
SUMMARY:Bürgermobil mit Denny Jankowski in Hermsdorf
DESCRIPTION:
URL:https://afd-thl.de/termin/buergermobil-mit-denny-jankowski-in-hermsdorf-2/
CATEGORIES:Bürgermobil
END:VEVENT
BEGIN:VEVENT
DTSTART;TZID=Europe/Berlin:20240611T090000
DTEND;TZID=Europe/Berlin:20240611T120000
DTSTAMP:20260422T051941
CREATED:20240506T103406Z
LAST-MODIFIED:20240523T083928Z
UID:35392-1718096400-1718107200@afd-thl.de
SUMMARY:Bürgermobil mit Corinna Herold in Erfurt
DESCRIPTION:
URL:https://afd-thl.de/termin/buergermobil-mit-corinna-herold-in-erfurt-14/
CATEGORIES:Bürgermobil
END:VEVENT
BEGIN:VEVENT
DTSTART;TZID=Europe/Berlin:20240611T180000
DTEND;TZID=Europe/Berlin:20240611T210000
DTSTAMP:20260422T051941
CREATED:20240506T103210Z
LAST-MODIFIED:20240523T073913Z
UID:35390-1718128800-1718139600@afd-thl.de
SUMMARY:Bürgerdialog mit Stefan Möller und Nadine Hoffmann in Heldburg
DESCRIPTION:
URL:https://afd-thl.de/termin/buergerdialog-mit-stefan-moeller-und-nadine-hoffmann-in-heldburg/
CATEGORIES:Bürgerdialog
END:VEVENT
BEGIN:VEVENT
DTSTART;TZID=Europe/Berlin:20240615T100000
DTEND;TZID=Europe/Berlin:20240615T130000
DTSTAMP:20260422T051941
CREATED:20240523T064454Z
LAST-MODIFIED:20240523T064515Z
UID:35625-1718445600-1718456400@afd-thl.de
SUMMARY:Bürgermobil mit Dr. Wolfgang Lauerwald und Dieter Laudenbach in Gera
DESCRIPTION:
URL:https://afd-thl.de/termin/buergermobil-mit-dr-wolfagang-lauerwald-und-dieter-laudenbach-in-gera/
CATEGORIES:Bürgermobil
END:VEVENT
BEGIN:VEVENT
DTSTART;TZID=Europe/Berlin:20240618T090000
DTEND;TZID=Europe/Berlin:20240618T130000
DTSTAMP:20260422T051941
CREATED:20240506T113734Z
LAST-MODIFIED:20240506T113853Z
UID:35397-1718701200-1718715600@afd-thl.de
SUMMARY:Bürgermobil mit Ringo Mühlmann in Neustadt
DESCRIPTION:
URL:https://afd-thl.de/termin/buergermobil-mit-ringo-muehlmann-in-neustadt/
CATEGORIES:Bürgermobil
END:VEVENT
BEGIN:VEVENT
DTSTART;TZID=Europe/Berlin:20240620T090000
DTEND;TZID=Europe/Berlin:20240620T120000
DTSTAMP:20260422T051941
CREATED:20240506T114230Z
LAST-MODIFIED:20240612T115522Z
UID:35402-1718874000-1718884800@afd-thl.de
SUMMARY:Bürgermobil mit Corinna Herold in Erfurt
DESCRIPTION:
URL:https://afd-thl.de/termin/buergermobil-mit-corinna-herold-in-erfurt-15/
CATEGORIES:Bürgermobil
END:VEVENT
BEGIN:VEVENT
DTSTART;TZID=Europe/Berlin:20240620T100000
DTEND;TZID=Europe/Berlin:20240620T140000
DTSTAMP:20260422T051942
CREATED:20240506T115123Z
LAST-MODIFIED:20240506T115518Z
UID:35404-1718877600-1718892000@afd-thl.de
SUMMARY:Bürgermobil mit Nadine Hoffmann in Hildburghausen und Straufhain
DESCRIPTION:
URL:https://afd-thl.de/termin/buergermobil-mit-nadine-hoffmann-in-hildburghausen-und-straufhain/
CATEGORIES:Bürgermobil
END:VEVENT
BEGIN:VEVENT
DTSTART;TZID=Europe/Berlin:20240620T183000
DTEND;TZID=Europe/Berlin:20240620T210000
DTSTAMP:20260422T051942
CREATED:20240506T114054Z
LAST-MODIFIED:20240612T064041Z
UID:35400-1718908200-1718917200@afd-thl.de
SUMMARY:Bürgerdialog mit Stefan Möller und Ringo Mühlmann in Pößneck
DESCRIPTION:
URL:https://afd-thl.de/termin/buergerdialog-mit-stefan-moeller-und-ringo-muehlmann-in-poessneck/
CATEGORIES:Bürgerdialog
END:VEVENT
BEGIN:VEVENT
DTSTART;TZID=Europe/Berlin:20240621T100000
DTEND;TZID=Europe/Berlin:20240621T140000
DTSTAMP:20260422T051942
CREATED:20240523T085848Z
LAST-MODIFIED:20240523T090312Z
UID:35642-1718964000-1718978400@afd-thl.de
SUMMARY:Bürgermobil mit Nadine Hoffmann in Jüchsen und Milz
DESCRIPTION:
URL:https://afd-thl.de/termin/buergermobil-mit-nadine-hoffmann-in-juechsen-und-milz/
CATEGORIES:Bürgermobil
END:VEVENT
END:VCALENDAR